Workbook

Sheet BTS ET EPREUVES
B1: Aéronautique | C1: Architectures en Métal : Conception et Réalisation | D1: Assistance technique d'ingénieur | E1: Assurance | F1: Banque - Conseiller de clientèle | G1: Bâtiment | H1: Biotechnologies | I1: Collaborateur juriste notarial | J1: Commerce International | K1: Communication | L1: Comptabilité et Gestion | M1: Conception des Processus de Découpe et d'Emboutissage | N1: Conception des processus de réalisation de produits Option A : production unitaire | O1: Conception des processus de réalisation de produits Option B : production sérielle | P1: Conception des Produits Industriels | Q1: Conception et Industrialisation en Construction Navale | R1: Conception et industrialisation en microtechniques | S1: Conception et Réalisation de Carrosserie | T1: Conception et réalisation de systèmes automatiques | U1: Conception et Réalisation en Chaudronnerie Industrielle | V1: Conseil et commercialisation de solutions techniques | W1: Contrôle Industriel et Régulation Automatique | X1: Cybersécurité, Informatique et réseaux, Électronique option A : Informatique et réseaux | Y1: Cybersécurité, Informatique et réseaux, Électronique option B : Électronique et réseaux | Z1: Développement et réalisation bois | AA1: Édition | AB1: Électrotechnique | AC1: Enveloppe des Bâtiments : Conception et Réalisation | AD1: Environnement nucléaire | AE1: Étude de Réalisation d'un Projet de Communication | AF1: Etude et Réalisation d'Agencement | AG1: EuroPlastics et Composites - Option Option POP : Pilotage et Optimisation de la Production | AH1: EuroPlastics et Composites Option CO : Conception Outillage | AI1: Finitions, Aménagement des Bâtiments : Conception et Réalisation | AJ1: Fluides Énergies Domotique Option A : Génie climatique et fluidique | AK1: Fluides Énergies Domotique Option B : Froid et conditionnement d'air | AL1: Fluides Énergies Domotique Option C : Domotique et bâtiments communicants | AM1: Fonderie | AN1: Forge | AO1: Géologie Appliquée | AP1: Gestion de la PME | AQ1: Gestion des Transports et Logistique Associée | AR1: Industries céramiques | AS1: Innovation textile Option B : traitements | AT1: Innovation textile Option A : structures | AU1: Maintenance des Matériels de Construction et de Manutention | AV1: Maintenance des Systèmes Option A : Systèmes de production | AW1: Maintenance des Systèmes option B : Systèmes énergétiques et fluidiques | AX1: Maintenance des Systèmes option C : Systèmes éoliens | AY1: Maintenance des Systèmes option D : Systèmes ascenseurs et élévateurs | AZ1: Maintenance des Véhicules | BA1: Management Commercial Opérationnel | BB1: Management Commercial Opérationnel | BC1: Management Économique de la Construction | BD1: Management en Hôtellerie-Restauration option A | BE1: Management en Hôtellerie-Restauration option B | BF1: Management en Hôtellerie-Restauration option C | BG1: Management Opérationnel de la Sécurité | BH1: Mécatronique Navale | BI1: Métiers de la chimie | BJ1: Métiers de la Coiffure | BK1: Métiers de la Mesure | BL1: Métiers de la mode : Chaussure et maroquinerie | BM1: Métiers de la mode : Vêtements | BN1: Métiers de l'Audiovisuel Option A : Gestion de la production | BO1: Métiers de l'Audiovisuel Option B : Métiers de l’image | BP1: Métiers de l'Audiovisuel Option C : Métiers du son | BQ1: Métiers de l'Audiovisuel Option D : Techniques d’ingénierie et exploitation des équipements | BR1: Métiers de l'Audiovisuel Option E : Métiers du montage et de la postproduction | BS1: Métiers de l'eau | BT1: Métiers de l'Esthétique, Cosmétique Parfumerie Option A : Management | BU1: Métiers de l'Esthétique, Cosmétique Parfumerie Option B : Formation-marques | BV1: Métiers de l'Esthétique, Cosmétique Parfumerie Option C : Cosmétologie | BW1: Métiers des services à l'environnement | BX1: Métiers du Géomètre Topographe et de la Modélisation Numérique | BY1: Motorisations toutes énergies | BZ1: Négociation et Digitalisation de la Relation Client | CA1: Opticien-lunetier | CB1: Photographie | CC1: Pilotage de Procédés | CD1: Professions Immobilières | CE1: Prothésiste Dentaire | CF1: Services et Prestations des Secteurs Sanitaire et Social | CG1: Services Informatiques aux Organisations option A solutions d'infrastructure, systèmes et réseaux | CH1: Services Informatiques aux Organisations option B solutions logicielles et applications métiers | CI1: Support à l'Action Managériale | CJ1: Systèmes constructifs bois et habitat | CK1: Systèmes photoniques | CL1: Techniques et Services en Matériels agricoles | CM1: Tourisme | CN1: Traitement des matériaux option A : traitements thermiques | CO1: Traitement des matériaux option B : traitements de surfaces | CP1: Travaux Publics
B2: ="BTS"&(COLUMN(B1)+99) -> BTS101 | C2: ="BTS"&(COLUMN(C1)+99) -> BTS102 | D2: ="BTS"&(COLUMN(D1)+99) -> BTS103 | E2: ="BTS"&(COLUMN(E1)+99) -> BTS104 | F2: ="BTS"&(COLUMN(F1)+99) -> BTS105 | G2: ="BTS"&(COLUMN(G1)+99) -> BTS106 | H2: ="BTS"&(COLUMN(H1)+99) -> BTS107 | I2: ="BTS"&(COLUMN(I1)+99) -> BTS108 | ... CV2: ="BTS"&(COLUMN(CV1)+99) -> BTS199
A3: E1 | B3: E1 - Culture générale et expression | C3: U1 - Culture générale et expression | D3: E1 - Français | E3: U1 - Culture générale et expression | F3: U1 - Culture générale et expression | G3: E1 - Culture générale et expression | H3: E11 - Mathématiques | I3: E1 - Culture générale et expression | J3: Culture générale et expression | K3: E1-Cultures de la communication | L3: E1-Culture générale et expression | M3: E1 - Culture générale et expression | N3: E1 - Culture générale et expression | O3: E1 - Culture générale et expression | P3: E1 - Culture générale et expression | Q3: E1 - Culture générale et expression | R3: E1 - Culture générale et expression | S3: E1 - Culture générale et expression | T3: E1 - Culture générale et expression | U3: U1 - Culture générale et expression | V3: E1 - Culture générale et expression | W3: Culture générale et expression | X3: E1 - Culture générale et expression | Y3: E1 - Culture générale et expression | Z3: E1- Culture générale et expression | AA3: E1 - Culture générale et expression | AB3: U1 - Culture générale et expression | AC3: E1 - Culture générale et expression | AD3: E1-Culture générale et expression | AE3: E1 - Culture générale et expression | AF3: E1 - Culture générale et expression | AG3: E1 - Culture générale et expression | AH3: E1 - Culture générale et expression | AI3: E1 - Culture générale et expression | AJ3: U1 - Culture générale et expression | AK3: U1 - Culture générale et expression | AL3: U1 - Culture générale et expression | AM3: E1 - Culture générale et expression | AN3: E1 - Culture générale et expression | AO3: Culture générale et expression | AP3: Culture générale et expression | AQ3: E1-Culture générale et expression | AR3: E1-Culture générale et expression | AS3: E1 - Culture générale et expression | AT3: E1 - Culture générale et expression | AU3: E1 - Culture générale et expression | AV3: E1 Culture générale et expression | AW3: E1 Culture générale et expression | AX3: E1 Culture générale et expression | AY3: E1 Culture générale et expression | AZ3: E1 - Culture générale et expression | BA3: E1-Culture générale et expression | BB3: E1 - Culture générale et expression | BC3: E1 - Culture générale et expression | BD3: Communication et expression française | BE3: Communication et expression française | BF3: Communication et expression française | BG3: E1 - Culture générale et expression | BH3: E1 - Culture générale et expression | BI3: Culture générale et expression | BJ3: U1 - Culture générale et expression | BK3: E1 - Culture générale et expression | BL3: E1 - Culture générale et expression | BM3: E1 - Culture générale et expression | BN3: E1 - Culture audiovisuelle et artistique | BO3: E1 - Culture audiovisuelle et artistique | BP3: E1 - Culture audiovisuelle et artistique | BQ3: E1 - Culture audiovisuelle et artistique | BR3: E1 - Culture audiovisuelle et artistique | BS3: E1-Culture générale et expression | BT3: U1 - Langue vivante étrangère A | BU3: U1 - Langue vivante étrangère A | BV3: U1 - Langue vivante étrangère A | BW3: E1 - Langue vivante étrangère | BX3: E1 - Culture générale et expression | BY3: E1 - Culture générale et expression | BZ3: U1 - Culture générale et expression | CA3: E1 - Culture générale et expression | CB3: E11 - Culture générale et expression | CC3: E1 - Culture générale et expression | CD3: U1 - Culture générale et expression | CE3: E1 - Sciences | CF3: E1 - Culture générale et expression | CG3: E1-Culture générale et Expression | CH3: E1-Culture générale et Expression | CI3: Culture générale et expression | CJ3: E1 - Culture générale et expression | CK3: E1 - Culture générale et expression | CL3: E1 - Culture générale et expression | CM3: U1 - Culture générale et expression | CN3: E1 - Culture générale et expression | CO3: E1 - Culture générale et expression | CP3: E1 - Culture générale et expression
A4: E2 | B4: E2 - Anglais | C4: U2 - Anglais | D4: E2 - Langue vivante étrangère 1 | E4: U2 - Langue vivante étrangère | F4: U2 - Langue vivante étrangère | G4: E2 - Anglais | H4: E12 - Sciences physiques et chimiques | I4: E2 - LVE anglaise : compréhension de l'écrit et expression écrite | J4: Langue vivante étrangère 1 : anglais | K4: E2-Langue vivante étrangère 1 : Compréhension de l'écrit et expression écrite | L4: E2-LV obligatoire Anglais | M4: E2 - Langue vivante étrangère 1 : Anglais | N4: E2 - Langue vivante étrangère 1 : Anglais | O4: E2 - Langue vivante étrangère 1 : Anglais | P4: E2 - Langue vivante étrangère : Anglais | Q4: E2 – Anglais | R4: E2 - Langue vivante étrangère | S4: E2 – Anglais | T4: E2 - Langue vivante : Anglais | U4: U2 - Anglais | V4: E2 - Communication en LVE : Compréhension de l'écrit et expression écrite | W4: Anglais | X4: E2 - Langue vivante étrangère 1 : Anglais | Y4: E2 - Langue vivante étrangère 1 : Anglais | Z4: E2 - Langue vivante étrangère 1 | AA4: E2 - Langue vivante étrangère 1 | AB4: U2 - Anglais | AC4: E2 - Anglais | AD4: E2-Anglais | AE4: E2 - Langue vivante étrangère : Anglais | AF4: E2 - Langue vivante étrangère 1 | AG4: E2 - Langue vivante étrangère Anglais | AH4: E2 - Langue vivante étrangère Anglais | AI4: E2 - Anglais | AJ4: U2 - Anglais | AK4: U2 - Anglais | AL4: U2 - Anglais | AM4: E2 - Langue vivante étrangère 1 : Anglais | AN4: E2 - Langue vivante étrangère 1 : Anglais | AO4: Anglais | AP4: Langue vivante étrangère 1 | AQ4: E2-Langue vivante étrangère : Compréhension de l'écrit et expression écrite | AR4: E2-Langue vivante étrangère : Anglais | AS4: E2 - Langue vivante - Anglais | AT4: E2 - Langue vivante - Anglais | AU4: E2 - Langue vivante étrangère anglais | AV4: E2 Langue vivante étrangère 1 : Anglais | AW4: E2 Langue vivante étrangère 1 : Anglais | AX4: E2 Langue vivante étrangère 1 : Anglais | AY4: E2 Langue vivante étrangère 1 : Anglais | AZ4: E2 - Langue vivante étrangère anglais | BA4: E2-Communication en langue vivante étrangère 1 : Compréhension de l'écrit et expression écrite | BB4: E2 - Communication en langue vivante étrangère 1 : Compréhension de l’écrit et expression écrite | BC4: E2 - Anglais | BD4: Langue vivante étrangère A | BE4: Langue vivante étrangère A | BF4: Langue vivante étrangère A | BG4: E21 - Compréhension de l'écrit et de l'expression | BH4: E2 - Langue vivante étrangère anglais | BI4: Anglais | BJ4: U2 - Langue vivante étrangère 1 | BK4: E2 - Langue vivante étrangère 1 : anglais | BL4: E2 - Langue vivante - Anglais | BM4: E2 - Langue vivante - Anglais | BN4: E2 - Anglais | BO4: E2 - Anglais | BP4: E2 - Anglais | BQ4: E2 - Anglais | BR4: E2 - Anglais | BS4: E2-Langue vivante étrangère 1 | BT4: U2 - Environnement professionnel | BU4: U2 - Environnement professionnel | BV4: U2 - Environnement professionnel | BW4: E21 - Chimie - biologie | BX4: E2 - Anglais | BY4: E2 - Langue vivante étrangère Anglais | BZ4: U2 - Communication en Langue vivante étrangère 1 | CA4: E2 - Langue vivante étrangère | CB4: E12 - Culture photographique et visuelle | CC4: E2 - Langue vivante - Anglais | CD4: U2 - Langue vivante étrangère | CE4: E2 - Culture générale et expression | CF4: E2 - Langue vivante étrangère 1 | CG4: E2-Expression et communication en langue anglaise | CH4: E2-Expression et communication en langue anglaise | CI4: Langue vivante étrangère A | CJ4: E2 - Langue vivante étrangère 1 | CK4: E2 - Langue vivante : anglais | CL4: E2 - Anglais | CM4: U21 - Communication en langue vivante étrangère : anglais | CN4: E2 - Langue vivante étrangère | CO4: E2 - Langue vivante étrangère | CP4: E2 - Anglais
A5: E3 | B5: E31 - Mathématiques | C5: U3 - Mathématiques | D5: E31 - Mathématiques | E5: U3 - Développement commercial et gestion des | F5: U3 - Gestion de la relation client | G5: E31 - Mathématiques | H5: E2 - Biologie moléculaire et génie génétique | I5: E3 - LVE anglaise : production orale en continu et intéraction | J5: Langue vivante étrangère 2 | K5: E3-Langue vivante étrangère : Production orale en continu et en interaction | L5: E3-Mathématiques appliquées | M5: E31 - Mathématiques | N5: E31 - Mathématiques | O5: E31 - Mathématiques | P5: E31 - Mathématiques | Q5: E31 - Mathématiques | R5: E31 - Mathématiques | S5: E31 - Mathématiques | T5: E31 - Mathématiques | U5: U3 - Mathématiques et Physique-Chimie | V5: E3 - Communication en LVE : Compréhension de l'oral, production orale en continu et en interaction | W5: Mathématiques | X5: E3 - Mathématiques | Y5: E3 - Mathématiques | Z5: E31 - Mathématiques | AA5: E3 - Environnement économique, juridique et managérial de l’édition | AB5: U3 - Mathématiques | AC5: E31 - Mathématiques | AD5: E3-Mathématiques | AE5: E31 - Mathématiques | AF5: U31 - Mathématiques | AG5: E31 - Mathématiques | AH5: E31 - Mathématiques | AI5: E31 - Mathématiques | AJ5: U31 - Mathématiques | AK5: U31 - Mathématiques | AL5: U31 - Mathématiques | AM5: E31 - Mathématiques | AN5: E31 - Mathématiques | AO5: Mathématiques | AP5: Culture économique juridique et managériale | AQ5: E3-Langue vivante étrangère : Production orale en continu et interaction | AR5: E3-Mathématiques | AS5: E31 - Mathématiques | AT5: E31 - Mathématiques | AU5: E31 - Mathématiques | AV5: E31 Mathématiques | AW5: E31 Mathématiques | AX5: E31 Mathématiques | AY5: E31 Mathématiques | AZ5: E31 - Mathématiques | BA5: E3-Communication en langue vivante étrangère 1 : Compréhension de l'oral, production orale en continu et en interaction | BB5: E3 - Communication en langue vivante étrangère 1 : Compréhension de l’oral, production orale en continu et en interaction | BC5: E31 - Mathématiques | BD5: Langue vivante étrangère B | BE5: Langue vivante étrangère B | BF5: Langue vivante étrangère B | BG5: E22 - Production orale en continu et managériale | BH5: E3 - Mathématiques | BI5: Mathématiques | BJ5: U3 - Management et gestion de l’entreprise | BK5: E3 - Mathématiques | BL5: E31 - Mathématiques | BM5: E31 - Mathématiques | BN5: E3 - Environnement économique, juridique et technologie des équipements et supports (EEJTES) | BO5: E3 - Physique et technique des équipements et supports (PTES) | BP5: E3 - Physique et technique des équipements et supports (PTES) | BQ5: E3 - Physique et technique des équipements et supports (PTES) | BR5: E3 - Physique et technique des équipements et supports (PTES) | BS5: E31-Mathématiques | BT5: U3 - Environnement scientifique et technologique | BU5: U3 - Environnement scientifique et technologique | BV5: U3 - Environnement scientifique et technologique | BW5: E22 - Sciences physique et sciences et technologies des systèmes | BX5: E31 - Mathématiques | BY5: E31 - Mathématiques | BZ5: U3 - Culture économique, juridique et managériale | CA5: E3 - Économie et gestion de l'entreprise | CB5: E2 - Anglais | CC5: E31 - Mathématiques | CD5: U3 - Conseil en ingénierie de l’immobilier | CE5: E3 - Anglais | CF5: E3 - Gestion de la structure et du service | CG5: E3-Mathématiques pour l’informatique | CH5: E3-Mathématiques pour l’informatique | CI5: Langue vivante étrangère B | CJ5: E31 - Mathématiques | CK5: E3 - Mathématiques | CL5: E3.1 - Mathématiques | CM5: U22 - Communication en langue vivante étrangère : langue B | CN5: E3 - Mathématiques | CO5: E3 - Mathématiques | CP5: E3 - Mathématiques
A6: E4 | B6: E32 - Sciences physiques et chimiques appliquées | C6: U4 - Analyse, prescription, conception d'un projet | D6: E32 - Sciences physiques | E6: U4 - Gestion des sinistres et des | F6: U4 - Développement et suivi de l’activité commerciale | G6: E32 - Sciences physiques appliquées | H6: E3 - Biochimie structurale et fonctionnelle des protéines | I6: E4 - Éléments fondamentaux du droit | J6: Culture économique, juridique et managériale | K6: E4-Culture économique, juridique et managériale | L6: E4-Culture économique, juridique et managériale | M6: E32 - Physique - chimie | N6: E32 - Physique - Chimie | O6: E32 - Physique - Chimie | P6: E32 - Physique Chimie | Q6: E32 - Physique - chimie | R6: E32 - Sciences physiques appliquées | S6: E32 - Physique - chimie | T6: E32 - Sciences physiques et chimiques appliquées | U6: U4 - Réponse à une affaire | V6: E4 - Culture économique, juridique et managériale | W6: ESLV | X6: E4 - Étude et conception de réseaux informatiques | Y6: E4 - Étude et conception de produits électroniques | Z6: E32 - Sciences physiques | AA6: E4 - Préparation pour mise en production | AB6: U4 - Conception - Étude préliminaire | AC6: E32 - Physique et chimie | AD6: E41-Modélisation et choix techniques en environnement nucléaire : Pré-étude et modélisation | AE6: E32 - Physique - chimie | AF6: U32 - Physique-chimie | AG6: E32 - Physique - chimie | AH6: E32 - Physique - chimie | AI6: E32 - Physique et Chimie | AJ6: U32 et U42 - Physique - Chimie | AK6: U32 et U42 - Physique - Chimie | AL6: U32 et U42 - Physique - Chimie | AM6: E32 - Physique - chimie | AN6: E32 - Physique - chimie | AO6: Physique-chimie | AP6: Culture économique juridique et managériale appliquée | AQ6: E4-Culture économique juridique et managériale | AR6: E4-Physiques-Chimie | AS6: E32 - Physique-chimie | AT6: E32 - Physique-chimie | AU6: E32 - Physique - chimie | AV6: E32 Physique et Chimie | AW6: E32 Physique et Chimie | AX6: E32 Physique et Chimie | AY6: E32 Physique et Chimie | AZ6: E32 - Physique - chimie | BA6: E4-Culture économique, juridique et managériale | BB6: E4 - Culture économique, juridique et managériale | BC6: E32 - Physiques-chimie | BD6: Entrepreneuriat et pilotage de l’entreprise hôtelière (EPEH) | BE6: Entrepreneuriat et pilotage de l’entreprise hôtelière (EPEH) | BF6: Entrepreneuriat et pilotage de l’entreprise hôtelière (EPEH) | BG6: E3 - Culture économique juridique et managériale | BH6: E4 - Intégration d’équipements | BI6: Enseignement Scientifique en Langue Vivante (ESLV) | BJ6: U4 - Environnement scientifique et technologique | BK6: E4 - Physique - Chimie | BL6: E32 - Sciences physiques et chimiques | BM6: E32 - Sciences physiques et chimiques | BN6: E4 - Techniques et mise en œuvre | BO6: E4 - Techniques et mise en œuvre | BP6: E4 - Techniques et mise en œuvre | BQ6: E4 - Techniques et mise en œuvre | BR6: E4 - Techniques et mise en œuvre | BS6: E32-Physique-chimie | BT6: U4 - Épreuve professionnelle | BU6: U4 - Épreuve professionnelle | BV6: U4 - Épreuve professionnelle | BW6: E3 - Organisation, management et développement de l’activité | BX6: E32 - Physique - chimie | BY6: E32 - Physique - chimie | BZ6: U4 - Bloc 1 Relation client et négociation vente | CA6: E41-Mathématiques | CB6: E3 - Sciences appliquées | CC6: E32 - Physique - chimie | CD6: U4 - Communication professionnelle en français et en langue étrangère | CE6: E4 - Élaboration d’un projet prothétique en concertation avec un praticien | CF6: E4 - Politique de la structure et territoire | CG6: E4-Culture économique, juridique et managériale pour l'informatique | CH6: E4-Culture économique, juridique et managériale | CI6: Culture économique, juridique et managériale | CJ6: E32 - Sciences physiques | CK6: E41 - Pré-étude et modélisation d’un système optique | CL6: E3.2 - Sciences physiques et chimiques appliquées | CM6: U3 - Tourisme et territoires | CN6: E41 - Sciences physiques appliquées | CO6: E41 - Sciences physiques appliquées | CP6: E4 - Physique Chimie
A7: E5 | B7: E33 - Travaux pratiques de sciences physiques et chimiques appliquées | C7: U51 - Réponse à un projet | D7: E41 - Étude des spécifications générales d'un système pluritechnologique | E7: U5 - Communication digitale, utilisation du système d’information et des outils numériques | F7: U5 - Environnement économique, juridique et organisationnel de l’activité bancaire | G7: E41 - Dimensionnement et vérification d'ouvrages | H7: E41 - Microbiologie et génie fermentaire | I7: E5 - Environnement de l'activité notariale | J7: Relation commerciale interculturelle | K7: E5-Contribution à l'élaboration et au pilotage de la stratégie de communication | L7: E5-Traitement et contrôle des opérations comptables, fiscales et sociales : Étude de cas | M7: E4 - Réponse préliminaire à une affaire | N7: E4 - Conception préliminaire | O7: E4 - Conception préliminaire | P7: E41 - Expression du besoin et cahier des charges fonctionnel | Q7: E4 - Théorie du bateau | R7: E4 - Conception préliminaire d'un système microtechnique | S7: E4 - Conception préliminaire de produits carrossés | T7: E4 - Conception préliminaire d'un système automatique | U7: U5 - Conception d'un ensemble chaudronné et de sa réalisation | V7: E5 - Conception et négociation de solutions technico-commerciales | W7: Physique-chimie des Procédés Industriels | X7: E5 - Exploitation et maintenance de réseaux informatiques | Y7: E5 - Mise en œuvre de réseaux informatiques | Z7: E4 - Conception et Développement de produit en CAO | AA7: E5 - Proposition de solutions éditoriales | AB7: U51 - Analyse, diagnostic, maintenance | AC7: E41 - Analyse des enveloppes | AD7: E42-Modélisation et choix techniques en environnement nucléaire : Détermination et justification de choix techniques | AE7: E4 - Étude d’un projet de communication | AF7: E4 - Traduction technique du projet architectural | AG7: E4 - Répondre à une affaire - Conception préliminaire | AH7: E4 - Répondre à une affaire - Conception préliminaire | AI7: E4 - Réponse à un projet | AJ7: U41 - Analyse et Définition des systèmes | AK7: U41 - Analyse et Définition des systèmes | AL7: U41 - Analyse et Définition des systèmes | AM7: E4 - Conception préliminaire | AN7: E4 - Conception préliminaire | AO7: Géologie appliquée | AP7: Gérer les relations avec les clients fournisseurs de la PME | AQ7: E5-Mise en œuvre d'opérations de transport et de prestations logistiques | AR7: E5-Réponse à une affaire | AS7: E4 - Analyse technico_x0002_économique, juridique et mercatique | AT7: E4 - Analyse technico_x0002_économique, juridique et mercatique | AU7: E4 - Analyse d’un dysfonctionnement | AV7: E4 Intégration d'un bien | AW7: E4 Intégration d'un bien | AX7: E4 Intégration d'un bien | AY7: E4 Intégration d'un bien | AZ7: E4 - Analyse des systèmes et contrôle des performances | BA7: E5-Développement de la relation client et vente conseil | BB7: E5 - Développement de la relation client et vente conseil | BC7: E4 - Analyse du projet et de son contexte | BD7: Management de l’entreprise hôtelière et mercatique des services (MEHMS) | BE7: Management de l’entreprise hôtelière et mercatique des services (MEHMS) | BF7: Management de l’entreprise hôtelière et mercatique des services (MEHMS) | BG7: E4 - Préparation et mise en oeuvre d’une prestation de sécurité | BH7: E5 - Conduite des systèmes mécatroniques | BI7: Analyse | BJ7: U5 - Techniques professionnelles | BK7: E51 - Conception et mise en œuvre d’un système de mesure | BL7: E41 - Traduire les spécifications esthétiques et fonctionnelles d'un produit | BM7: E41 - Construction et définition du produit en CAO | BN7: E5 - Épreuve professionnelle de synthèse | BO7: E51 - Projet à caractère industriel | BP7: E51 - Projet à caractère industriel | BQ7: E51 - Projet à caractère industriel | BR7: E51 - Projet à caractère industriel | BS7: E4-Exploitation des unités de traitement et des réseaux | BT7: U5 - Conseil et expertise scientifiques et technologiques | BU7: U5 - Conseil et expertise scientifiques et technologiques | BV7: U5 - Conseil et expertise scientifiques et technologiques | BW7: E4 - Projet professionnel | BX7: E4 - Etude d'une situation professionnelle | BY7: E41 - Réalisation d’une campagne d’essais | BZ7: U5 - Bloc 2 Relation client à distance et digitalisation | CA7: E42-Optique géométrique et physique | CB7: E4 - Gestion et droit | CC7: E4 - QHSSE | CD7: U5 - Techniques immobilières – | CE7: E5 - Fabrication d’une prothèse fonctionnelle et esthétique en méthode traditionnelle ou numérique | CF7: E5 - Accompagnement et coordination du parcours de la personne | CG7: E5-Support et mise à disposition de services informatiques | CH7: E5-Support et mise à disposition de services informatiques | CI7: Optimisation des processus administratifs | CJ7: E41 - Répondre à une affaire | CK7: E42 - Conception et industrialisation d’un système optique | CL7: E4 - Diagnostic ou mise en œuvre | CM7: U4 - Gestion de la relation clientèle touristique | CN7: E42 - Sciences et techniques industrielles | CO7: E42 - Sciences et techniques industrielles | CP7: E5 - Analyse et conception d'ouvrage
A8: E6 | B8: E41 - Étude de modifications pluritechnologiques | C8: U52 - Conception détaillée et préparation de la réalisation du projet | D8: E42 - Vérifications des performances mécaniques et électriques d'un système pluritechnologique | E8: UF1 - Langue vivante étrangère 2 | F8: UF1 - Langue vivante 2 | G8: E42 - Conception d'ouvrages du bâtiment | H8: E42 - Biologie cellulaire | I8: E6 - Accompagnement du client selon les règles déontologiques | J8: Relation commerciale interculturelle en anglais et économie-gestion (co-interv) | K8: E6-Conception et mise en œuvre de solutions de communication | L8: E6-Traitement et contrôle des opérations comptables, fiscales et sociales : Pratiques comptables fiscales et sociales | M8: E5 - Conception et qualification des processus et moyens de production | N8: E5 - Projet industriel de conception et d’initialisation de processus | O8: E5 - Projet industriel de conception et d’initialisation de processus | P8: E42 - Conception préliminaire | Q8: E51 - Intégration de systèmes | R8: E51 - Conception détaillée : Pré-industrialisation | S8: E51 - Conception détaillée de produits carrossés | T8: E51 - Conception détaillée d'une chaine fonctionnelle | U8: U6 - Organisation et suivi de la réalisation, préfabrication, installation et de la maintenance | V8: E6 - Management de l'activité technico-commerciale | W8: CIRA | X8: E6 - Valorisation de la donnée et cybersécurité | Y8: E6 - Réalisation et maintenance de produits électroniques | Z8: E51 - Industrialisation et réalisation : Elaboration des processus | AA8: E61 - Projet professionnel | AB8: U52 - Conduite de projet / Chantier | AC8: E42 - Conception des enveloppes | AD8: E5-Analyse et organisation d'une activité en environnement nucléaire | AE8: E5 - Projet de conception de processus graphiques | AF8: E5 - Conception d'agencement | AG8: E5 - Projet industriel de conception détaillée d’un processus et d’industrialisation | AH8: E5 - Projet industriel de conception détaillée d’un outillage et d’industrialisation | AI8: E5 - Préparation et organisation du chantier | AJ8: U5 - Intervention sur les systèmes | AK8: U5 - Intervention sur les systèmes | AL8: U5 - Intervention sur les systèmes | AM8: E5 - Projet industriel de conception et d’initialisation de processus | AN8: E5 - Projet industriel de conception et d’initialisation de processus de forge | AO8: Activités de terrain | AP8: Participer à la gestion des risques de la PME | AQ8: E6-Conception d'opérations de transport et de prestations logistiques | AR8: E6-Qualification, industrialisation, contrôle | AS8: E51 - Analyse et conception | AT8: E51 - Analyse et conception | AU8: E51 - Réalisation d’un diagnostic | AV8: E51 Maintenance corrective | AW8: E51 Maintenance corrective | AX8: E51 Maintenance corrective | AY8: E51 Maintenance corrective | AZ8: E51 - Relation client | BA8: E6-Animation et dynamisation de l'offre commerciale | BB8: E6 - Animation et dynamisation de l’offre commerciale | BC8: E51 - Etude descriptive et économique | BD8: Sciences en hôtellerie restauration (SHR) Uniquement 1ère année | BE8: Ingénierie en hôtellerie restauration (IHR) Uniquement 1ère année | BF8: Sciences en hôtellerie restauration (SHR) Uniquement 1ère année | BG8: E51 - Management des ressources humaines | BH8: E6 - Maintenance des systèmes mécatroniques | BI8: Synthèse | BJ8: U6 - Projet | BK8: E52 - Préparation, réalisation, analyse et interprétation de résultats de mesure | BL8: E42 - Conception des modèles en 2D ou 3D | BM8: E42 - Conception d'un produit par moulage | BN8: E6 - Situation en milieu professionnel | BO8: E52 - Environnement économique et juridique du projet | BP8: E52 - Environnement économique et juridique du projet | BQ8: E52 - Environnement économique et juridique du projet | BR8: E52 - Environnement économique et juridique du projet | BS8: E51-Projet technique et démarche QSE | BT8: U6 - Soutenance du projet | BU8: U6 - Soutenance du projet | BV8: U6 - Soutenance du projet | BW8: E5 - Soutenance du rapport de stage | BX8: E5 - Acquisition et traitement des données | BY8: E42 - Maintenance et expertise | BZ8: U6 - Bloc 3 Relation Client et animation de réseaux | CA8: E43-Étude technique des systèmes optiques | CB8: E5 - Technologie : sensitométrie et équipement | CC8: E51 - Pilotage de la production | CD8: U6 - Conduite et présentation d’activités professionnelles | CE8: E6 - Management et entrepreneuriat en prothèse dentaire | CF8: E6 - Projet et démarche qualité | CG8: E6-Administration des systèmes et des réseaux | CH8: E6-Administration des systèmes et des réseaux | CI8: Gestion de projet | CJ8: E42 - Analyse, dimensionnement et choix de composants | CK8: E5 - Analyse et mise en œuvre d’un système optique | CL8: E5.1 - Étude de cas, analyse agrotechnique | CM8: U5 - Élaboration d’une prestation touristique | CN8: E43 - Sciences physiques appliquées | CO8: E43 - Sciences physiques appliquées | CP8: E6 - Préparation de chantier
A9: E7 | B9: E42 - Étude de processus d'assemblage ou de maintenance d'aéronefs | C9: U61 - Vérification et validation d'une partie de projet | D9: E51 - Réalisation d'une activité professionnelle en relation avec une entreprise | E9: UF2 - Epreuve facultative engagement étudiant | F9: UF2 - Certification professionnelle | G9: E5 - Etude économique et préparation de chantier | H9: E51 - Travaux pratiques de biologie moléculaire et de génie génétique | I9: E7 - Conduite d'un dossier en droit des personnes, de la famille et du patrimoine familial | J9: Mise en œuvre des opérations internationales | K9: E7-Accompagnement du développement de solutions media et digitales innovantes | L9: E7-Situations de contrôle de gestion et d'analyse financière | M9: E61 - Conception collaborative des produits | N9: E61 - Projet collaboratif d’optimisation d’un produit et d’un processus | O9: E61 - Projet collaboratif d’optimisation d’un produit et d’un processus | P9: E51 - Conception détaillée | Q9: E52 - Industrialisation d’un sous ensemble | R9: E52 - Conception détaillée : Modélisation | S9: E52 - Conception et qualification des processus de réalisation de produits carrossés | T9: E52 - Conception détaillée d'un système automatique | U9: UF1 - Epreuve facultative LV | V9: E7 - Développement de la clientèle et de la relation-client | W9: CIRA TP | X9: EF1 - Langue vivante facultative | Y9: EF1 - Langue vivante facultative | Z9: E52 - Industrialisation et réalisation : Validation d'une phase du processus | AA9: E62 - Présentation des activités professionnelles | AB9: U61 - Conception - Étude détaillée du projet | AC9: E5 - Préparation et suivi économiques de chantier | AD9: E61-Activités professionnelles : Rapport de stage ouvrier en entreprise | AE9: E61 - Définition collaborative de produits de communication | AF9: U61 - Organisation et préparation de la réalisation | AG9: E61 - Projet collaboratif d’optimisation d’un produit ou d’un processus | AH9: E61 - Projet collaboratif d’optimisation d’un produit ou d’un outillage | AI9: E61 - Contrôle de travaux | AJ9: U61 - Conduite de projet | AK9: U61 - Conduite de projet | AL9: U61 - Conduite de projet | AM9: E61 - Projet collaboratif d’optimisation d’un produit et d’un processus | AN9: E61 - Projet collaboratif d’optimisation d’un produit et d’un processus | AO9: Langue vivante 2 (facultatif) | AP9: Gérer le personnel et participer à la GRH de la PME | AQ9: E7-Analyse de la performance d'une activité de transport et de prestations logistiques | AR9: E7-Conception des moyens de production, caractérisation | AS9: E52 - Élaboration d’un processus | AT9: E52 - Élaboration d’un processus | AU9: E52 - Organisation et réalisation d’une intervention | AV9: E52 Maintenance préventive | AW9: E52 Maintenance préventive | AX9: E52 Maintenance préventive | AY9: E52 Maintenance préventive | AZ9: E52 - Intervention sur véhicule | BA9: E7-Gestion opérationnelle | BB9: E7 - Gestion opérationnelle | BC9: E52 - Analyse et suivi financiers | BD9: Ingénierie en hôtellerie restauration (IHR) Uniquement 1ère année | BE9: Sciences et technologies des services en restauration (STSR) Uniquement 1ère année | BF9: Ingénierie en hôtellerie restauration (IHR) Uniquement 1ère année | BG9: E52 - Gestion de la relation client | BH9: EF1 - Langue vivante facultative | BI9: Formulation | BJ9: UF1 - Épreuve facultative LV | BK9: E61 - Gestion et mise en œuvre d’instruments en milieu professionnel | BL9: E43 - Industrialisation du produit | BM9: E43 - Traduction esthétique et fonctionnelle d'un produit | BN9: EF1 - Langue vivante | BO9: E6 - Situation en milieu professionnel | BP9: E6 - Situation en milieu professionnel | BQ9: E6 - Situation en milieu professionnel | BR9: E6 - Situation en milieu professionnel | BS9: E52-Organisation, management et développement de l'activité | BT9: UF1 - Épreuve facultative Langue vivante : LVE.B | BU9: UF1 - Épreuve facultative Langue vivante : LVE.B | BV9: UF1 - Épreuve facultative Langue vivante : LVE.B | BW9: EF1 - Épreuve facultative de langue vivante | BX9: E61 - Projet professionnel | BY9: E43 - Adaptation des moyens d’essais et de la motorisation | BZ9: U7 - Communication en langue vivante étrangère 2 | CA9: E5-Analyse de la vision | CB9: E61 - Rapport de stage en milieu professionnel | CC9: E52 - Analyse et gestion de la production | CD9: UF1 - Épreuve facultative LV | CE9: EF1 - Épreuve facultative de langue vivante | CF9: EF1 - Langue vivante étrangère 2 | CG9: E7-Cybersécurite des services informatiques | CH9: E7-Cybersécurite des services informatiques | CI9: Collaboration à la gestion des ressources humaines | CJ9: E51 - Conception de systèmes constructifs bois | CK9: E61 - Rapport d’activité en entreprise | CL9: E5.2 - Étude de cas, analyse juridique, économique et managériale | CM9: U6 - Gestion de l’information touristique | CN9: E44 - Sciences et techniques industrielles | CO9: E44 - Sciences et techniques industrielles | CP9: E7 - Analyse de l'encadrement d'un projet
A10: E8 | B10: E5 - Contrôle et essais | C10: U62 - Conduite de projet en milieu professionnel | D10: E52 - Présentation du rapport de stage (ou d'activités professionnelles) | F10: UF3 - Epreuve facultative engagement étudiant | G10: E61 - Suivi de chantier | H10: E52 - Travaux pratiques de biochimie des protéines | I10: E8 - Conduite d'un dossier en droit des biens dans le domaine immobilier ou de l'entreprise | J10: Développement commercial international | K10: EF1-Langue vivante étrangère 2 | L10: E8-Parcours de professionnalisation | M10: E62 - Suivi de la production en entreprise | N10: E62 - Gestion et suivi de réalisation en entreprise | O10: E62 - Gestion et suivi de réalisation en entreprise | P10: E52 - Soutenance du rapport de stage | Q10: E53 - Organisation de la production | R10: E6 - Épreuve professionnelle de synthèse : Développement industriel d'un produit microtechnique et rapport de stage en entreprise | S10: E6 - Suivi de réalisation de produits carrossés en entreprise | T10: E61 - Rapport d'activité en entreprise | U10: UF2 - Epreuve facultative engagement étudiant | V10: E8 - Mise en œuvre de l'expertise technico-commerciale | W10: Projet technique | X10: EF2 - Engagement étudiant | Y10: EF2 - Engagement étudiant | Z10: E53 - Industrialisation et réalisation : Réalisation de tout ou partie du processus | AA10: EF1 - Langue vivante | AB10: U62 - Réalisation, mise en service d'un projet | AC10: E61 - Conduite de projet en milieu professionnel | AD10: E62-Activités professionnelles : Projet technique industriel | AE10: E62 - Suivi de réalisation de produits de communication en entreprise | AF10: U62 - Suivi de la réalisation | AG10: E62 - Pilotage de la production en entreprise | AH10: E62 - Pilotage de la production en entreprise | AI10: E62 - Conduite de travaux | AJ10: U62 - Rapport d'activités en milieu professionnel | AK10: U62 - Rapport d'activités en milieu professionnel | AL10: U62 - Rapport d'activités en milieu professionnel | AM10: E62 - Étude de Moulage | AN10: E62 - Etude de forgeage | AO10: Épreuve facultative engagement étudiant | AP10: Soutenir le fonctionnement et le développement de la PME | AQ10: E8-Pérennisation et développement de l'activité de transport et de prestations logistiques | AR10: E8-Suivi et amélioration de la production | AS10: E53 - Réalisation de tout ou partie du processus | AT10: E53 - Réalisation de tout ou partie du processus | AU10: E6 - Contribution au fonctionnement d’un service | AV10: E53 Organisation de la maintenance | AW10: E53 Organisation de la maintenance | AX10: E53 Organisation de la maintenance | AY10: E53 Organisation de la maintenance | AZ10: E61 - Connaissance de l’entreprise | BA10: E8-Management de l'équipe commerciale | BB10: E8 - Management de l’équipe commerciale | BC10: E61 - Projet numérique - étude quantitative | BD10: Sciences et technologies culinaires (STC) Uniquement 1ère année | BE10: Sciences et technologies des services en hébergement (STSH) Uniquement 1ère année | BF10: Sciences et technologies culinaires (STC) Uniquement 1ère année | BG10: E6 - Participation à la sécurité globale | BH10: EF2 - Épreuve facultative engagement étudiant | BI10: EF1 - Épreuve facultative LV2 | BJ10: UF2 - Épreuve facultative engagement étudiant | BK10: E62 - Conduite de projet de mesure | BL10: E5 - Elaboration et validation économique du processus de production | BM10: E5 - Élaboration et validation économique du processus de production | BN10: EF2 - Épreuve facultative engagement étudiant | BO10: EF1 - Langue vivante | BP10: EF1 - Langue vivante | BQ10: EF1 - Langue vivante | BR10: EF1 - Langue vivante | BS10: E6-Conception des unités de traitement et des réseaux | BT10: UF2 - Épreuve facultative engagement étudiant | BU10: UF2 - Épreuve facultative engagement étudiant | BV10: UF2 - Épreuve facultative engagement étudiant | BW10: EF2 - Épreuve facultative engagement étudiant | BX10: E62 - Compte-rendu d'activités en milieu professionnel | BY10: E5 - Mise au point d’une motorisation | BZ10: UF1 - Épreuve facultative LV | CA10: E61-Examen de vue et prises de mesures et adaptation | CB10: E62 - Projet photographique | CC10: E6 - Rapport d’activités en milieu professionnel | CD10: UF2 - Épreuve facultative engagement étudiant | CE10: EF2 - Épreuve facultative engagement étudiant | CF10: EF4-Épreuve facultative engagement étudiant | CG10: EF1-Langue vivante 2 | CH10: EF1-Langue vivante 2 | CI10: Ateliers de professionnalisation et de CEJM appliquée | CJ10: E52 - Suivi de chantier | CK10: E62 - Projet technique | CL10: E6.1 - EPS Activités en milieu professionnel | CM10: UF1 - Unité facultative Communication en langue vivante étrangère : langue C | CN10: E51 - Travaux pratiques de sciences physiques appliquées | CO10: E51 - Travaux pratiques de sciences physiques appliquées | CP10: E8 - Implantation et contrôle des travaux
A11: E9 | B11: E61 - Suivi de productions en milieu professionnel | C11: UF1 - Epreuve facultative LV | D11: E53 - Mesure et/ou contrôle à caractère industriel | G11: E62 - Implantation-Essais | H11: E53 - Travaux pratiques de microbiologie et de génie fermentaire | I11: EF1 - Épreuve facultative LV2 | J11: EF1 - Langue vivante étrangère 3 | K11: EF2-Engagement étudiant | L11: EF1-Langue vivante étrangère B | M11: EF1 - Langue vivante facultative | N11: EF1 - Langue vivante facultative | O11: EF1 - Langue vivante facultative | P11: E61 - Projet de prototypage | Q11: E61 - Etude et réalisation d’un projet | R11: EF - Epreuve facultative engagement étudiant | S11: EF1 - Épreuve facultative de langue vivante | T11: E62 - Conduite et réalisation d'un projet | V11: EF1 - Langue vivante | W11: Épreuve facultative engagement étudiant | Z11: E6 - Etude de cas en milieu industriel | AA11: EF2 - Épreuve facultative engagement étudiant | AB11: UF1 - Langue vivante facultative | AC11: E62 - Implantation et contrôles | AD11: EF1-Langue vivante | AE11: EF1 - Langue vivante facultative | AF11: UF1 - Épreuve facultative LV2 | AG11: EF1 - Langue vivante facultative | AH11: EF1 - Langue vivante facultative | AI11: EF1 - Épreuve facultative de langue vivante | AJ11: UF1 - Épreuve facultative LV | AK11: UF1 - Épreuve facultative LV | AL11: UF1 - Épreuve facultative LV | AM11: E63 - Gestion et suivi de réalisation en entreprise | AN11: E63 - Gestion et suivi de réalisation en entreprise | AP11: Communication | AQ11: EF1-Épreuve facultative langue vivante | AR11: EF1 - Épreuve facultative engagement étudiant | AS11: E6 - Étude de cas en milieu industriel | AT11: E6 - Étude de cas en milieu industriel | AU11: EF1 - Langue vivante facultative | AV11: E6 Maintenance améliorative | AW11: E6 Maintenance améliorative | AX11: E6 Maintenance améliorative | AY11: E6 Maintenance améliorative | AZ11: E62 - Mesures et analyse | BA11: EF1-Communication en Langue vivante étrangère 2 | BB11: EF1 - Communication en Langue vivante étrangère 2 | BC11: E62 - Compte-rendu d'activités en milieu professionnel | BD11: Sciences et technologies des services en hébergement (STSH) Uniquement 1ère année | BE11: Sciences en hôtellerie restauration (SHR) 1ère et 2ème Année | BF11: Sciences et technologies des services en restauration (STSR) Uniquement 1ère année | BG11: EF1 - Langue vivante | BI11: EF2 - Épreuve facultative engagement étudiant | BK11: EF1 - Langue vivante facultative | BL11: E6 - Etude de cas en milieu professionnel | BM11: E6 - Étude de cas en milieu professionnel | BO11: EF2 - Épreuve facultative engagement étudiant | BP11: EF2 - Épreuve facultative engagement étudiant | BQ11: EF2 - Épreuve facultative engagement étudiant | BR11: EF2 - Épreuve facultative engagement étudiant | BS11: EF1-Langue vivante étrangère 2 | BX11: UF1 - Épreuve facultative LV | BY11: E6 - Exploitation des résultats d’essai | BZ11: UF2 - Épreuve facultative engagement étudiant | CA11: E62-Contrôle d'équipement et réalisation technique | CB11: EF1 - Épreuve facultative LV | CC11: EF1 - Langue vivante 2 facultative | CG11: EF2-Mathématiques approfondies | CH11: EF2-Mathématiques approfondies | CI11: Langue vivante étrangère C (facultatif) | CJ11: E6 - Expérimentation et mise en œuvre | CK11: EF1 - Langue vivante II | CL11: E6.2 - EPS Projet | CM11: UF2 - Unité facultative Parcours de professionnalisation à l’étranger | CN11: E52 - Travaux pratiques de sciences et techniques industrielles | CO11: E52 - Travaux pratiques de sciences et techniques industrielles | CP11: EF1 - Épreuve facultative LV2
A12: E10 | B12: E62 - Maintien de navigabilité et documentation technique réalisés en entreprise | C12: UF2 - Epreuve facultative engagement étudiant | D12: EF1 - Langue vivante étrangère 2 | G12: UF1 - Epreuve facultative LV | H12: E54 - Travaux pratiques de biologie cellulaire | I12: EF2 - Épreuve facultative engagement étudiant | J12: EF2 - Préparation et suivi de césure | K12: EF3-Entrepreneuriat | L12: EF2-Module d'approfondissement | M12: EF2 - Épreuve facultative engagement étudiant | N12: EF2 - Épreuve facultative engagement étudiant | O12: EF2 - Épreuve facultative engagement étudiant | P12: E62 - Projet collaboratif d'optimisation | Q12: E62 - Communication sur les activités réalisées en milieu professionnel | S12: EF2 - Épreuve facultative engagement étudiant | T12: UF1 - Epreuve facultative LV | V12: EF2 - Module d'approfondissement | Z12: EF1 - Langue vivante | AB12: UF2 - Engagement étudiant | AC12: UF1 - Epreuve facultative LV | AD12: EF2-Engagement étudiant | AE12: EF2 - Design Graphique | AF12: UF2 - Épreuve facultative engagement étudiant | AG12: EF2 - Activité en milieu professionnel européen « label Europlastics » | AH12: EF2 - Activité en milieu professionnel européen « label Europlastics » | AI12: EF2 - Épreuve facultative engagement étudiant | AJ12: UF2 - Épreuve facultative engagement étudiant | AK12: UF2 - Épreuve facultative engagement étudiant | AL12: UF2 - Épreuve facultative engagement étudiant | AM12: EF1 - Langue vivante facultative | AN12: EF1 - Langue vivante facultative | AP12: Atelier de professionnalisation | AQ12: EF2-Module d'approfondissement | AR12: EF2 - Épreuve facultative LV2 | AS12: EF1 - Langue vivante 2 facultative | AT12: EF1 - Langue vivante 2 facultative | AU12: EF2 - Épreuve facultative engagement étudiant | AV12: EF1 Épreuve facultative langue vivante | AW12: EF1 Épreuve facultative langue vivante | AX12: EF1 Épreuve facultative langue vivante | AY12: EF1 Épreuve facultative langue vivante | AZ12: EF1 - Langue vivante facultative | BA12: EF2-Parcours de professionnalisation à l'étranger | BB12: EF2 - Parcours de professionnalisation à l’étranger | BC12: EF1 - Épreuve facultative LV | BD12: Sciences et technologies des services en restauration (STSR) 1ère et 2ème Année | BE12: Sciences et technologies culinaires (STC) 1ère et 2ème Année | BF12: Sciences et technologies des services en hébergement (STSH): 1ère et 2ème Année | BG12: EF2 - Module « Surveillance humaine et gardiennage » | BK12: EF2 - Épreuve facultative engagement étudiant | BL12: EF1 - Épreuve facultative LV2 | BM12: EF1 - Épreuve facultative LV2 | BS12: EF2 - Engagement étudiant | BX12: UF2 - Épreuve facultative engagement étudiant | BY12: EF1 - Langue vivante facultative | CA12: E63-Activités en milieu professionnel | CB12: EF2 - Épreuve facultative engagement étudiant | CC12: EF2 - Épreuve facultative engagement étudiant | CG12: EF3-Parcours de certification complémentaire | CH12: EF3-Parcours de certification complémentaire | CI12: Module de parcours individualisé (facultatif) | CJ12: EF1 - Langue vivante facultative | CK12: EF2 - Épreuve facultative engagement étudiant | CL12: EF1 - Épreuve facultative de langue étrangère | CM12: UF3 - Unité facultative Projet de spécialisation | CN12: E61- Réalisation d'un projet | CO12: E61- Réalisation d'un projet | CP12: EF2 - Épreuve facultative engagement étudiant
A13: E11 | B13: EF1 - Épreuve facultative de langue étrangère | D13: EF2 - Épreuve facultative engagement étudiant | G13: UF2 - Epreuve facultative engagement étudiant | H13: E6 - Appréciations de stage | J13: EF3 - Engagement étudiant | L13: EF3-Engagement étudiant | P13: UF1 - Epreuve facultative LV | Q13: EF1 - Épreuve facultative de langue vivante | T13: UF2 - Epreuve facultative engagement étudiant | V13: EF3 - Engagement étudiant | Z13: EF2 - Engagement étudiant | AC13: UF2 - Épreuve facultative engagement étudiant | AE13: EF3 - Épreuve facultative engagement étudiant | AG13: EF3 - Épreuve facultative engagement étudiant | AH13: EF3 - Épreuve facultative engagement étudiant | AM13: EF2 - Épreuve facultative engagement étudiant | AN13: EF2 - Épreuve facultative engagement étudiant | AP13: Langue vivante étrangère (facultatif) | AQ13: EF3-Épreuve facultative engagement étudiant | AS13: EF2 - Arts appliqués au textile | AT13: EF2 - Arts appliqués au textile | AV13: EF2 Épreuve facultative engagement étudiant | AW13: EF2 Épreuve facultative engagement étudiant | AX13: EF2 Épreuve facultative engagement étudiant | AY13: EF2 Épreuve facultative engagement étudiant | AZ13: EF2 - Épreuve facultative engagement étudiant | BA13: EF3-Entrepreneuriat | BB13: EF3 - Entrepreneuriat | BC13: EF2 - Épreuve facultative engagement étudiant | BD13: Enseignements spécifiques: Sommellerie et tech. de bar Uniquement 2ème Année | BE13: Conduite du projet entrepreneurial Uniquement 2ème Année | BF13: Enseignements spécifiques: Anglais et hébergement Uniquement 2ème Année | BG13: EF3 - Module d’approfondissement sectoriel | BL13: EF2 - Épreuve facultative engagement étudiant | BM13: EF2 - Épreuve facultative engagement étudiant | BY13: EF2 - Épreuve facultative engagement étudiant | CA13: EF1 - Épreuve facultative LV2 | CG13: EF4-Épreuve facultative engagement étudiant | CH13: EF4-Épreuve facultative engagement étudiant | CI13: Épreuve facultative engagement étudiant | CJ13: EF2 - Culture design et architecture | CL13: EF2 - Épreuve facultative engagement étudiant | CM13: UF4 - Épreuve facultative engagement étudiant | CN13: E62 - Rapport de stage en milieu professionnel | CO13: E62 - Rapport de stage en milieu professionnel
A14: E12 | B14: EF2 - Épreuve facultative engagement étudiant | H14: E6 - Anglais | P14: UF2 - Culture design de produit | Q14: EF2 - Module d’approfondissement | AP14: Épreuve facultative engagement étudiant | AS14: EF3 - Épreuve facultative engagement étudiant | AT14: EF3 - Épreuve facultative engagement étudiant | BA14: EF4-Engagement étudiant | BB14: EF4 - Épreuve facultative engagement étudiant | BD14: Conduite du projet entrepreneurial Uniquement 2ème Année | BE14: Enseignement facultatif : Langue vivante C | BF14: Conduite du projet entrepreneurial Uniquement 2ème Année | BG14: EF4 - Épreuve facultative engagement étudiant | CA14: EF2 - Épreuve facultative engagement étudiant | CJ14: EF3 - Épreuve facultative engagement étudiant | CN14: EF - Épreuve facultative engagement étudiant | CO14: EF - Épreuve facultative engagement étudiant
A15: E13 | H15: E6 - Expression - communication | P15: UF3 - Epreuve facultative engagement étudiant | Q15: EF3 - Épreuve facultative engagement étudiant | BD15: Enseignement facultatif : Langue Vivante C | BE15: Epreuve facultative: engagement étudiant | BF15: Enseignement facultatif : Langue vivante C
A16: E14 | H16: Projet pluritechnique encadré (1ère année) | BD16: Epreuve facultative: engagement étudiant | BF16: Epreuve facultative engagement étudiant
C17: changement de numérotation en 2026 | O17: changement de numérotation en 2026 | V17: changement de numérotation en 2027 | Y17: changement de numérotation en 2027 | AY17: changement de numérotation en 2027
A21: Très Favorable
A22: Favorable
A23: Doit Faire ses Preuves
A26: masquage
A27: code
A28: Livrets

Sheet 1. Informations administratives
A1: SAISIE ADMINISTRATIVE À REALISER AVANT LE CONSEIL DE CLASSE Toutes les cases vertes sont à remplir, en plus de la liste des étudiants.
A3: Examen : | C3: BTS | J3: voie de formation : | L3: Initiale | S3: =TODAY() -> 45635
A4: Sélectionner la spécialité dans le menu déroulant ci-joint : | C4: Tourisme | J4: session d'examen : | L4: 2025 | S4: =HLOOKUP(C4,'BTS ET EPREUVES'!B1:DK3,2,FALSE) -> BTS190
J5: Etablissement ou organisme de formation : | S5: =(L4-2)&" / "&(L4-1) -> 2023 / 2024 | T5: =(L4-1)&" / "&L4 -> 2024 / 2025
J6: RNE
B7: NOM | C7: Prénom | D7: date de naissance JJ/MM/AAAA | E7: Lieu de naissance | F7: n° INSEE (15 chiffres) | G7: INE | H7: Langue vivante | K7: Données en rouge à compléter avec les statistiques des années précèdentes avant le conseil de classe | S7: test INSEE
A8: C01 | K8: Résultats des sessions précédentes | S8: =IF(LEN(F8)<>15,0,1) -> 0 | AA8: OUI
A9: C02 | K9: Session | L9: nbr de candidats présentés | M9: nbr de candidats reçus | N9: % | S9: =IF(LEN(F9)<>15,0,1) -> 0 | AA9: NON
A10: C03 | S10: =IF(LEN(F10)<>15,0,1) -> 0
A11: C04 | J11: année a-1 | K11: =L4-1 -> 2024 | N11: =IFERROR(M11/L11,"") | S11: =IF(LEN(F11)<>15,0,1) -> 0
A12: C05 | J12: année a-2 | K12: =K11-1 -> 2023 | N12: =IFERROR(M12/L12,"") | S12: =IF(LEN(F12)<>15,0,1) -> 0
A13: C06 | J13: année a-3 | K13: =K12-1 -> 2022 | N13: =IFERROR(M13/L13,"") | S13: =IF(LEN(F13)<>15,0,1) -> 0
A14: C07 | J14: année a-4 | K14: =K13-1 -> 2021 | N14: =IFERROR(M14/L14,"") | S14: =IF(LEN(F14)<>15,0,1) -> 0
A15: C08 | J15: année a-5 | K15: =K14-1 -> 2020 | N15: =IFERROR(M15/L15,"") | S15: =IF(LEN(F15)<>15,0,1) -> 0
A16: C09 | S16: =IF(LEN(F16)<>15,0,1) -> 0
A17: C10 | S17: =IF(LEN(F17)<>15,0,1) -> 0
A18: C11 | S18: =IF(LEN(F18)<>15,0,1) -> 0
A19: C12 | S19: =IF(LEN(F19)<>15,0,1) -> 0
A20: C13 | S20: =IF(LEN(F20)<>15,0,1) -> 0
A21: C14 | S21: =IF(LEN(F21)<>15,0,1) -> 0
A22: C15 | S22: =IF(LEN(F22)<>15,0,1) -> 0
A23: C16 | S23: =IF(LEN(F23)<>15,0,1) -> 0
A24: C17 | S24: =IF(LEN(F24)<>15,0,1) -> 0
A25: C18 | S25: =IF(LEN(F25)<>15,0,1) -> 0
A26: C19 | S26: =IF(LEN(F26)<>15,0,1) -> 0
A27: C20 | S27: =IF(LEN(F27)<>15,0,1) -> 0
... A47: C40 | S47: =IF(LEN(F47)<>15,0,1) -> 0

Sheet 2. Saisie des notes
A1: Saisir les notes et appréciations de 1ère et 2ème année par matière | D1: Avis du dernier conseil de classe | G1: Enseignant : | P1: Enseignant : | Y1: Enseignant : | AH1: Enseignant : | AQ1: Enseignant : | AZ1: Enseignant : | BI1: Enseignant : | BR1: Enseignant : | CA1: Enseignant : | CJ1: Enseignant : | CS1: Enseignant : | DB1: Enseignant : | DK1: Enseignant : | DT1: Enseignant : | EF1: ne pas modifier ces cellules
G2: =INDEX('BTS ET EPREUVES'!$A$1:$DK$21,MATCH(G3,'BTS ET EPREUVES'!$A$1:$A$21,0),MATCH('1. Informations administratives'!$S$4,'BTS ET EPREUVES'!$A$2:$DK$2,0)) -> U1 - Culture générale et expression | P2: =INDEX('BTS ET EPREUVES'!$A$1:$DK$21,MATCH(P3,'BTS ET EPREUVES'!$A$1:$A$21,0),MATCH('1. Informations administratives'!$S$4,'BTS ET EPREUVES'!$A$2:$DK$2,0)) -> U21 - Communication en langue vivante étrangère : anglais | Y2: =INDEX('BTS ET EPREUVES'!$A$1:$DK$21,MATCH(Y3,'BTS ET EPREUVES'!$A$1:$A$21,0),MATCH('1. Informations administratives'!$S$4,'BTS ET EPREUVES'!$A$2:$DK$2,0)) -> U22 - Communication en langue vivante étrangère : langue B | AH2: =INDEX('BTS ET EPREUVES'!$A$1:$DK$21,MATCH(AH3,'BTS ET EPREUVES'!$A$1:$A$21,0),MATCH('1. Informations administratives'!$S$4,'BTS ET EPREUVES'!$A$2:$DK$2,0)) -> U3 - Tourisme et territoires | AQ2: =INDEX('BTS ET EPREUVES'!$A$1:$DK$21,MATCH(AQ3,'BTS ET EPREUVES'!$A$1:$A$21,0),MATCH('1. Informations administratives'!$S$4,'BTS ET EPREUVES'!$A$2:$DK$2,0)) -> U4 - Gestion de la relation clientèle touristique | AZ2: =INDEX('BTS ET EPREUVES'!$A$1:$DK$21,MATCH(AZ3,'BTS ET EPREUVES'!$A$1:$A$21,0),MATCH('1. Informations administratives'!$S$4,'BTS ET EPREUVES'!$A$2:$DK$2,0)) -> U5 - Élaboration d’une prestation touristique | BI2: =INDEX('BTS ET EPREUVES'!$A$1:$DK$21,MATCH(BI3,'BTS ET EPREUVES'!$A$1:$A$21,0),MATCH('1. Informations administratives'!$S$4,'BTS ET EPREUVES'!$A$2:$DK$2,0)) -> U6 - Gestion de l’information touristique | BR2: =INDEX('BTS ET EPREUVES'!$A$1:$DK$21,MATCH(BR3,'BTS ET EPREUVES'!$A$1:$A$21,0),MATCH('1. Informations administratives'!$S$4,'BTS ET EPREUVES'!$A$2:$DK$2,0)) -> UF1 - Unité facultative Communication en langue vivante étrangère : langue C | CA2: =INDEX('BTS ET EPREUVES'!$A$1:$DK$21,MATCH(CA3,'BTS ET EPREUVES'!$A$1:$A$21,0),MATCH('1. Informations administratives'!$S$4,'BTS ET EPREUVES'!$A$2:$DK$2,0)) -> UF2 - Unité facultative Parcours de professionnalisation à l’étranger | CJ2: =INDEX('BTS ET EPREUVES'!$A$1:$DK$21,MATCH(CJ3,'BTS ET EPREUVES'!$A$1:$A$21,0),MATCH('1. Informations administratives'!$S$4,'BTS ET EPREUVES'!$A$2:$DK$2,0)) -> UF3 - Unité facultative Projet de spécialisation | CS2: =INDEX('BTS ET EPREUVES'!$A$1:$DK$21,MATCH(CS3,'BTS ET EPREUVES'!$A$1:$A$21,0),MATCH('1. Informations administratives'!$S$4,'BTS ET EPREUVES'!$A$2:$DK$2,0)) -> UF4 - Épreuve facultative engagement étudiant | DB2: =INDEX('BTS ET EPREUVES'!$A$1:$DK$21,MATCH(DB3,'BTS ET EPREUVES'!$A$1:$A$21,0),MATCH('1. Informations administratives'!$S$4,'BTS ET EPREUVES'!$A$2:$DK$2,0)) -> 0 | DK2: =INDEX('BTS ET EPREUVES'!$A$1:$DK$21,MATCH(DK3,'BTS ET EPREUVES'!$A$1:$A$21,0),MATCH('1. Informations administratives'!$S$4,'BTS ET EPREUVES'!$A$2:$DK$2,0)) -> 0 | DT2: =INDEX('BTS ET EPREUVES'!$A$1:$DK$21,MATCH(DT3,'BTS ET EPREUVES'!$A$1:$A$21,0),MATCH('1. Informations administratives'!$S$4,'BTS ET EPREUVES'!$A$2:$DK$2,0)) -> 0
D3: CC1 | E3: CC2 | F3: PIX | G3: E1 | P3: E2 | Y3: E3 | AH3: E4 | AQ3: E5 | AZ3: E6 | BI3: E7 | BR3: E8 | CA3: E9 | CJ3: E10 | CS3: E11 | DB3: E12 | DK3: E13 | DT3: E14
A4: Candidats | B4: Nom | C4: Prénom | D4: Avis du conseil de classe (choisissez dans la liste déroulante) | E4: Observations éventuelles à écrire ci-dessous | F4: Obtention de la certification PIX (OUI / NON) | G4: Moy 1er Sem. ou 1er trim. 1ère année | H4: Moy 2ème Sem. ou 2ème trim. 1ère année | I4: Moy 3ème trim. 1ère année | J4: Moy 1ère année | K4: Moy 1er Sem. ou 1er trim. 2ème année | L4: Moy 2ème Sem. ou 2ème trim. 2ème année | M4: Moy 3ème trim. 2ème année | N4: Moy 2ème année | O4: Appréciations | P4: Moy 1er Sem. ou 1er trim. 1ère année | Q4: Moy 2ème Sem. ou 2ème trim. 1ère année | R4: Moy 3ème trim. 1ère année | S4: Moy 1ère année | T4: Moy 1er Sem. ou 1er trim. 2ème année | U4: Moy 2ème Sem. ou 2ème trim. 2ème année | V4: Moy 3ème trim. 2ème année | W4: Moy 2ème année | X4: Appréciations | Y4: Moy 1er Sem. ou 1er trim. 1ère année | Z4: Moy 2ème Sem. ou 2ème trim. 1ère année | AA4: Moy 3ème trim. 1ère année | AB4: Moy 1ère année | AC4: Moy 1er Sem. ou 1er trim. 2ème année | AD4: Moy 2ème Sem. ou 2ème trim. 2ème année | AE4: Moy 3ème trim. 2ème année | AF4: Moy 2ème année | AG4: Appréciations | AH4: Moy 1er Sem. ou 1er trim. 1ère année | AI4: Moy 2ème Sem. ou 2ème trim. 1ère année | AJ4: Moy 3ème trim. 1ère année | AK4: Moy 1ère année | AL4: Moy 1er Sem. ou 1er trim. 2ème année | AM4: Moy 2ème Sem. ou 2ème trim. 2ème année | AN4: Moy 3ème trim. 2ème année | AO4: Moy 2ème année | AP4: Appréciations | AQ4: Moy 1er Sem. ou 1er trim. 1ère année | AR4: Moy 2ème Sem. ou 2ème trim. 1ère année | AS4: Moy 3ème trim. 1ère année | AT4: Moy 1ère année | AU4: Moy 1er Sem. ou 1er trim. 2ème année | AV4: Moy 2ème Sem. ou 2ème trim. 2ème année | AW4: Moy 3ème trim. 2ème année | AX4: Moy 2ème année | AY4: Appréciations | AZ4: Moy 1er Sem. ou 1er trim. 1ère année | BA4: Moy 2ème Sem. ou 2ème trim. 1ère année | BB4: Moy 3ème trim. 1ère année | BC4: Moy 1ère année | BD4: Moy 1er Sem. ou 1er trim. 2ème année | BE4: Moy 2ème Sem. ou 2ème trim. 2ème année | BF4: Moy 3ème trim. 2ème année | BG4: Moy 2ème année | BH4: Appréciations | BI4: Moy 1er Sem. ou 1er trim. 1ère année | BJ4: Moy 2ème Sem. ou 2ème trim. 1ère année | BK4: Moy 3ème trim. 1ère année | BL4: Moy 1ère année | BM4: Moy 1er Sem. ou 1er trim. 2ème année | BN4: Moy 2ème Sem. ou 2ème trim. 2ème année | BO4: Moy 3ème trim. 2ème année | BP4: Moy 2ème année | BQ4: Appréciations | BR4: Moy 1er Sem. ou 1er trim. 1ère année | BS4: Moy 2ème Sem. ou 2ème trim. 1ère année | BT4: Moy 3ème trim. 1ère année | BU4: Moy 1ère année | BV4: Moy 1er Sem. ou 1er trim. 2ème année | BW4: Moy 2ème Sem. ou 2ème trim. 2ème année | BX4: Moy 3ème trim. 2ème année | BY4: Moy 2ème année | BZ4: Appréciations | CA4: Moy 1er Sem. ou 1er trim. 1ère année | CB4: Moy 2ème Sem. ou 2ème trim. 1ère année | CC4: Moy 3ème trim. 1ère année | CD4: Moy 1ère année | CE4: Moy 1er Sem. ou 1er trim. 2ème année | CF4: Moy 2ème Sem. ou 2ème trim. 2ème année | CG4: Moy 3ème trim. 2ème année | CH4: Moy 2ème année | CI4: Appréciations | CJ4: Moy 1er Sem. ou 1er trim. 1ère année | CK4: Moy 2ème Sem. ou 2ème trim. 1ère année | CL4: Moy 3ème trim. 1ère année | CM4: Moy 1ère année | CN4: Moy 1er Sem. ou 1er trim. 2ème année | CO4: Moy 2ème Sem. ou 2ème trim. 2ème année | CP4: Moy 3ème trim. 2ème année | CQ4: Moy 2ème année | CR4: Appréciations | CS4: Moy 1er Sem. ou 1er trim. 1ère année | CT4: Moy 2ème Sem. ou 2ème trim. 1ère année | CU4: Moy 3ème trim. 1ère année | CV4: Moy 1ère année | CW4: Moy 1er Sem. ou 1er trim. 2ème année | CX4: Moy 2ème Sem. ou 2ème trim. 2ème année | CY4: Moy 3ème trim. 2ème année | CZ4: Moy 2ème année | DA4: Appréciations | DB4: Moy 1er Sem. ou 1er trim. 1ère année | DC4: Moy 2ème Sem. ou 2ème trim. 1ère année | DD4: Moy 3ème trim. 1ère année | DE4: Moy 1ère année | DF4: Moy 1er Sem. ou 1er trim. 2ème année | DG4: Moy 2ème Sem. ou 2ème trim. 2ème année | DH4: Moy 3ème trim. 2ème année | DI4: Moy 2ème année | DJ4: Appréciations | DK4: Moy 1er Sem. ou 1er trim. 1ère année | DL4: Moy 2ème Sem. ou 2ème trim. 1ère année | DM4: Moy 3ème trim. 1ère année | DN4: Moy 1ère année | DO4: Moy 1er Sem. ou 1er trim. 2ème année | DP4: Moy 2ème Sem. ou 2ème trim. 2ème année | DQ4: Moy 3ème trim. 2ème année | DR4: Moy 2ème année | DS4: Appréciations | DT4: Moy 1er Sem. ou 1er trim. 1ère année | DU4: Moy 2ème Sem. ou 2ème trim. 1ère année | DV4: Moy 3ème trim. 1ère année | DW4: Moy 1ère année | DX4: Moy 1er Sem. ou 1er trim. 2ème année | DY4: Moy 2ème Sem. ou 2ème trim. 2ème année | DZ4: Moy 3ème trim. 2ème année | EA4: Moy 2ème année | EB4: Appréciations
A5: C00 | G5: =IFERROR(AVERAGE(G6:G41),"") | H5: =IFERROR(AVERAGE(H6:H41),"") | I5: =IFERROR(AVERAGE(I6:I41),"") | J5: =IFERROR(AVERAGE(J6:J41),"") | K5: =IFERROR(AVERAGE(K6:K41),"") | L5: =IFERROR(AVERAGE(L6:L41),"") | M5: =IFERROR(AVERAGE(M6:M41),"") | N5: =IFERROR(AVERAGE(N6:N41),"") | P5: =IFERROR(AVERAGE(P6:P41),"") | Q5: =IFERROR(AVERAGE(Q6:Q41),"") | R5: =IFERROR(AVERAGE(R6:R41),"") | S5: =IFERROR(AVERAGE(S6:S41),"") | T5: =IFERROR(AVERAGE(T6:T41),"") | U5: =IFERROR(AVERAGE(U6:U41),"") | V5: =IFERROR(AVERAGE(V6:V41),"") | W5: =IFERROR(AVERAGE(W6:W41),"") | Y5: =IFERROR(AVERAGE(Y6:Y41),"") | Z5: =IFERROR(AVERAGE(Z6:Z41),"") | AA5: =IFERROR(AVERAGE(AA6:AA41),"") | AB5: =IFERROR(AVERAGE(AB6:AB41),"") | AC5: =IFERROR(AVERAGE(AC6:AC41),"") | AD5: =IFERROR(AVERAGE(AD6:AD41),"") | AE5: =IFERROR(AVERAGE(AE6:AE41),"") | AF5: =IFERROR(AVERAGE(AF6:AF41),"") | AH5: =IFERROR(AVERAGE(AH6:AH41),"") | AI5: =IFERROR(AVERAGE(AI6:AI41),"") | AJ5: =IFERROR(AVERAGE(AJ6:AJ41),"") | AK5: =IFERROR(AVERAGE(AK6:AK41),"") | AL5: =IFERROR(AVERAGE(AL6:AL41),"") | AM5: =IFERROR(AVERAGE(AM6:AM41),"") | AN5: =IFERROR(AVERAGE(AN6:AN41),"") | AO5: =IFERROR(AVERAGE(AO6:AO41),"") | AQ5: =IFERROR(AVERAGE(AQ6:AQ41),"") | AR5: =IFERROR(AVERAGE(AR6:AR41),"") | AS5: =IFERROR(AVERAGE(AS6:AS41),"") | AT5: =IFERROR(AVERAGE(AT6:AT41),"") | AU5: =IFERROR(AVERAGE(AU6:AU41),"") | AV5: =IFERROR(AVERAGE(AV6:AV41),"") | AW5: =IFERROR(AVERAGE(AW6:AW41),"") | AX5: =IFERROR(AVERAGE(AX6:AX41),"") | AZ5: =IFERROR(AVERAGE(AZ6:AZ41),"") | BA5: =IFERROR(AVERAGE(BA6:BA41),"") | BB5: =IFERROR(AVERAGE(BB6:BB41),"") | BC5: =IFERROR(AVERAGE(BC6:BC41),"") | BD5: =IFERROR(AVERAGE(BD6:BD41),"") | BE5: =IFERROR(AVERAGE(BE6:BE41),"") | BF5: =IFERROR(AVERAGE(BF6:BF41),"") | BG5: =IFERROR(AVERAGE(BG6:BG41),"") | BI5: =IFERROR(AVERAGE(BI6:BI41),"") | BJ5: =IFERROR(AVERAGE(BJ6:BJ41),"") | BK5: =IFERROR(AVERAGE(BK6:BK41),"") | BL5: =IFERROR(AVERAGE(BL6:BL41),"") | BM5: =IFERROR(AVERAGE(BM6:BM41),"") | BN5: =IFERROR(AVERAGE(BN6:BN41),"") | BO5: =IFERROR(AVERAGE(BO6:BO41),"") | BP5: =IFERROR(AVERAGE(BP6:BP41),"") | BR5: =IFERROR(AVERAGE(BR6:BR41),"") | BS5: =IFERROR(AVERAGE(BS6:BS41),"") | BT5: =IFERROR(AVERAGE(BT6:BT41),"") | BU5: =IFERROR(AVERAGE(BU6:BU41),"") | BV5: =IFERROR(AVERAGE(BV6:BV41),"") | BW5: =IFERROR(AVERAGE(BW6:BW41),"") | BX5: =IFERROR(AVERAGE(BX6:BX41),"") | BY5: =IFERROR(AVERAGE(BY6:BY41),"") | CA5: =IFERROR(AVERAGE(CA6:CA41),"") | CB5: =IFERROR(AVERAGE(CB6:CB41),"") | CC5: =IFERROR(AVERAGE(CC6:CC41),"") | CD5: =IFERROR(AVERAGE(CD6:CD41),"") | CE5: =IFERROR(AVERAGE(CE6:CE41),"") | CF5: =IFERROR(AVERAGE(CF6:CF41),"") | CG5: =IFERROR(AVERAGE(CG6:CG41),"") | CH5: =IFERROR(AVERAGE(CH6:CH41),"") | CJ5: =IFERROR(AVERAGE(CJ6:CJ41),"") | CK5: =IFERROR(AVERAGE(CK6:CK41),"") | CL5: =IFERROR(AVERAGE(CL6:CL41),"") | CM5: =IFERROR(AVERAGE(CM6:CM41),"") | CN5: =IFERROR(AVERAGE(CN6:CN41),"") | CO5: =IFERROR(AVERAGE(CO6:CO41),"") | CP5: =IFERROR(AVERAGE(CP6:CP41),"") | CQ5: =IFERROR(AVERAGE(CQ6:CQ41),"") | CS5: =IFERROR(AVERAGE(CS6:CS41),"") | CT5: =IFERROR(AVERAGE(CT6:CT41),"") | CU5: =IFERROR(AVERAGE(CU6:CU41),"") | CV5: =IFERROR(AVERAGE(CV6:CV41),"") | CW5: =IFERROR(AVERAGE(CW6:CW41),"") | CX5: =IFERROR(AVERAGE(CX6:CX41),"") | CY5: =IFERROR(AVERAGE(CY6:CY41),"") | CZ5: =IFERROR(AVERAGE(CZ6:CZ41),"") | DB5: =IFERROR(AVERAGE(DB6:DB41),"") | DC5: =IFERROR(AVERAGE(DC6:DC41),"") | DD5: =IFERROR(AVERAGE(DD6:DD41),"") | DE5: =IFERROR(AVERAGE(DE6:DE41),"") | DF5: =IFERROR(AVERAGE(DF6:DF41),"") | DG5: =IFERROR(AVERAGE(DG6:DG41),"") | DH5: =IFERROR(AVERAGE(DH6:DH41),"") | DI5: =IFERROR(AVERAGE(DI6:DI41),"") | DK5: =IFERROR(AVERAGE(DK6:DK41),"") | DL5: =IFERROR(AVERAGE(DL6:DL41),"") | DM5: =IFERROR(AVERAGE(DM6:DM41),"") | DN5: =IFERROR(AVERAGE(DN6:DN41),"") | DO5: =IFERROR(AVERAGE(DO6:DO41),"") | DP5: =IFERROR(AVERAGE(DP6:DP41),"") | DQ5: =IFERROR(AVERAGE(DQ6:DQ41),"") | DR5: =IFERROR(AVERAGE(DR6:DR41),"") | DT5: =IFERROR(AVERAGE(DT6:DT41),"") | DU5: =IFERROR(AVERAGE(DU6:DU41),"") | DV5: =IFERROR(AVERAGE(DV6:DV41),"") | DW5: =IFERROR(AVERAGE(DW6:DW41),"") | DX5: =IFERROR(AVERAGE(DX6:DX41),"") | DY5: =IFERROR(AVERAGE(DY6:DY41),"") | DZ5: =IFERROR(AVERAGE(DZ6:DZ41),"") | EA5: =IFERROR(AVERAGE(EA6:EA41),"")
A6: C01 | B6: =IF(INDEX('1. Informations administratives'!A8:J43,MATCH(A6,'1. Informations administratives'!A8:A43,2),2)<>"",INDEX('1. Informations administratives'!A8:J43,MATCH(A6,'1. Informations administratives'!A8:A43,2),2),"") | C6: =IF(INDEX('1. Informations administratives'!A8:J43,MATCH(A6,'1. Informations administratives'!A8:A43,2),3)<>"",INDEX('1. Informations administratives'!A8:J43,MATCH(A6,'1. Informations administratives'!A8:A43,2),3),"") | J6: =IFERROR(AVERAGE(G6:I6),"") | N6: =IFERROR(AVERAGE(K6:M6),"") | S6: =IFERROR(AVERAGE(P6:R6),"") | W6: =IFERROR(AVERAGE(T6:V6),"") | AB6: =IFERROR(AVERAGE(Y6:AA6),"") | AF6: =IFERROR(AVERAGE(AC6:AE6),"") | AK6: =IFERROR(AVERAGE(AH6:AJ6),"") | AO6: =IFERROR(AVERAGE(AL6:AN6),"") | AT6: =IFERROR(AVERAGE(AQ6:AS6),"") | AX6: =IFERROR(AVERAGE(AU6:AW6),"") | BC6: =IFERROR(AVERAGE(AZ6:BB6),"") | BG6: =IFERROR(AVERAGE(BD6:BF6),"") | BL6: =IFERROR(AVERAGE(BI6:BK6),"") | BP6: =IFERROR(AVERAGE(BM6:BO6),"") | BU6: =IFERROR(AVERAGE(BR6:BT6),"") | BY6: =IFERROR(AVERAGE(BV6:BX6),"") | CD6: =IFERROR(AVERAGE(CA6:CC6),"") | CH6: =IFERROR(AVERAGE(CE6:CG6),"") | CM6: =IFERROR(AVERAGE(CJ6:CL6),"") | CQ6: =IFERROR(AVERAGE(CN6:CP6),"") | CV6: =IFERROR(AVERAGE(CS6:CU6),"") | CZ6: =IFERROR(AVERAGE(CW6:CY6),"") | DE6: =IFERROR(AVERAGE(DB6:DD6),"") | DI6: =IFERROR(AVERAGE(DF6:DH6),"") | DN6: =IFERROR(AVERAGE(DK6:DM6),"") | DR6: =IFERROR(AVERAGE(DO6:DQ6),"") | DW6: =IFERROR(AVERAGE(DT6:DV6),"") | EA6: =IFERROR(AVERAGE(DX6:DZ6),"") | EF6: =IF($D6="Très Favorable",1,0) -> 0 | EG6: =IF($D6="Favorable",1,0) -> 0 | EH6: =IF($D6="Doit faire ses preuves",1,0) -> 0
A7: C02 | B7: =IF(INDEX('1. Informations administratives'!A9:J44,MATCH(A7,'1. Informations administratives'!A9:A44,2),2)<>"",INDEX('1. Informations administratives'!A9:J44,MATCH(A7,'1. Informations administratives'!A9:A44,2),2),"") | C7: =IF(INDEX('1. Informations administratives'!A9:J44,MATCH(A7,'1. Informations administratives'!A9:A44,2),3)<>"",INDEX('1. Informations administratives'!A9:J44,MATCH(A7,'1. Informations administratives'!A9:A44,2),3),"") | J7: =IFERROR(AVERAGE(G7:I7),"") | N7: =IFERROR(AVERAGE(K7:M7),"") | S7: =IFERROR(AVERAGE(P7:R7),"") | W7: =IFERROR(AVERAGE(T7:V7),"") | AB7: =IFERROR(AVERAGE(Y7:AA7),"") | AF7: =IFERROR(AVERAGE(AC7:AE7),"") | AK7: =IFERROR(AVERAGE(AH7:AJ7),"") | AO7: =IFERROR(AVERAGE(AL7:AN7),"") | AT7: =IFERROR(AVERAGE(AQ7:AS7),"") | AX7: =IFERROR(AVERAGE(AU7:AW7),"") | BC7: =IFERROR(AVERAGE(AZ7:BB7),"") | BG7: =IFERROR(AVERAGE(BD7:BF7),"") | BL7: =IFERROR(AVERAGE(BI7:BK7),"") | BP7: =IFERROR(AVERAGE(BM7:BO7),"") | BU7: =IFERROR(AVERAGE(BR7:BT7),"") | BY7: =IFERROR(AVERAGE(BV7:BX7),"") | CD7: =IFERROR(AVERAGE(CA7:CC7),"") | CH7: =IFERROR(AVERAGE(CE7:CG7),"") | CM7: =IFERROR(AVERAGE(CJ7:CL7),"") | CQ7: =IFERROR(AVERAGE(CN7:CP7),"") | CV7: =IFERROR(AVERAGE(CS7:CU7),"") | CZ7: =IFERROR(AVERAGE(CW7:CY7),"") | DE7: =IFERROR(AVERAGE(DB7:DD7),"") | DI7: =IFERROR(AVERAGE(DF7:DH7),"") | DN7: =IFERROR(AVERAGE(DK7:DM7),"") | DR7: =IFERROR(AVERAGE(DO7:DQ7),"") | DW7: =IFERROR(AVERAGE(DT7:DV7),"") | EA7: =IFERROR(AVERAGE(DX7:DZ7),"") | EF7: =IF($D7="Très Favorable",1,0) -> 0 | EG7: =IF($D7="Favorable",1,0) -> 0 | EH7: =IF($D7="Doit faire ses preuves",1,0) -> 0
A8: C03 | B8: =IF(INDEX('1. Informations administratives'!A10:J45,MATCH(A8,'1. Informations administratives'!A10:A45,2),2)<>"",INDEX('1. Informations administratives'!A10:J45,MATCH(A8,'1. Informations administratives'!A10:A45,2),2),"") | C8: =IF(INDEX('1. Informations administratives'!A10:J45,MATCH(A8,'1. Informations administratives'!A10:A45,2),3)<>"",INDEX('1. Informations administratives'!A10:J45,MATCH(A8,'1. Informations administratives'!A10:A45,2),3),"") | J8: =IFERROR(AVERAGE(G8:I8),"") | N8: =IFERROR(AVERAGE(K8:M8),"") | S8: =IFERROR(AVERAGE(P8:R8),"") | W8: =IFERROR(AVERAGE(T8:V8),"") | AB8: =IFERROR(AVERAGE(Y8:AA8),"") | AF8: =IFERROR(AVERAGE(AC8:AE8),"") | AK8: =IFERROR(AVERAGE(AH8:AJ8),"") | AO8: =IFERROR(AVERAGE(AL8:AN8),"") | AT8: =IFERROR(AVERAGE(AQ8:AS8),"") | AX8: =IFERROR(AVERAGE(AU8:AW8),"") | BC8: =IFERROR(AVERAGE(AZ8:BB8),"") | BG8: =IFERROR(AVERAGE(BD8:BF8),"") | BL8: =IFERROR(AVERAGE(BI8:BK8),"") | BP8: =IFERROR(AVERAGE(BM8:BO8),"") | BU8: =IFERROR(AVERAGE(BR8:BT8),"") | BY8: =IFERROR(AVERAGE(BV8:BX8),"") | CD8: =IFERROR(AVERAGE(CA8:CC8),"") | CH8: =IFERROR(AVERAGE(CE8:CG8),"") | CM8: =IFERROR(AVERAGE(CJ8:CL8),"") | CQ8: =IFERROR(AVERAGE(CN8:CP8),"") | CV8: =IFERROR(AVERAGE(CS8:CU8),"") | CZ8: =IFERROR(AVERAGE(CW8:CY8),"") | DE8: =IFERROR(AVERAGE(DB8:DD8),"") | DI8: =IFERROR(AVERAGE(DF8:DH8),"") | DN8: =IFERROR(AVERAGE(DK8:DM8),"") | DR8: =IFERROR(AVERAGE(DO8:DQ8),"") | DW8: =IFERROR(AVERAGE(DT8:DV8),"") | EA8: =IFERROR(AVERAGE(DX8:DZ8),"") | EF8: =IF($D8="Très Favorable",1,0) -> 0 | EG8: =IF($D8="Favorable",1,0) -> 0 | EH8: =IF($D8="Doit faire ses preuves",1,0) -> 0
A9: C04 | B9: =IF(INDEX('1. Informations administratives'!A11:J46,MATCH(A9,'1. Informations administratives'!A11:A46,2),2)<>"",INDEX('1. Informations administratives'!A11:J46,MATCH(A9,'1. Informations administratives'!A11:A46,2),2),"") | C9: =IF(INDEX('1. Informations administratives'!A11:J46,MATCH(A9,'1. Informations administratives'!A11:A46,2),3)<>"",INDEX('1. Informations administratives'!A11:J46,MATCH(A9,'1. Informations administratives'!A11:A46,2),3),"") | J9: =IFERROR(AVERAGE(G9:I9),"") | N9: =IFERROR(AVERAGE(K9:M9),"") | S9: =IFERROR(AVERAGE(P9:R9),"") | W9: =IFERROR(AVERAGE(T9:V9),"") | AB9: =IFERROR(AVERAGE(Y9:AA9),"") | AF9: =IFERROR(AVERAGE(AC9:AE9),"") | AK9: =IFERROR(AVERAGE(AH9:AJ9),"") | AO9: =IFERROR(AVERAGE(AL9:AN9),"") | AT9: =IFERROR(AVERAGE(AQ9:AS9),"") | AX9: =IFERROR(AVERAGE(AU9:AW9),"") | BC9: =IFERROR(AVERAGE(AZ9:BB9),"") | BG9: =IFERROR(AVERAGE(BD9:BF9),"") | BL9: =IFERROR(AVERAGE(BI9:BK9),"") | BP9: =IFERROR(AVERAGE(BM9:BO9),"") | BU9: =IFERROR(AVERAGE(BR9:BT9),"") | BY9: =IFERROR(AVERAGE(BV9:BX9),"") | CD9: =IFERROR(AVERAGE(CA9:CC9),"") | CH9: =IFERROR(AVERAGE(CE9:CG9),"") | CM9: =IFERROR(AVERAGE(CJ9:CL9),"") | CQ9: =IFERROR(AVERAGE(CN9:CP9),"") | CV9: =IFERROR(AVERAGE(CS9:CU9),"") | CZ9: =IFERROR(AVERAGE(CW9:CY9),"") | DE9: =IFERROR(AVERAGE(DB9:DD9),"") | DI9: =IFERROR(AVERAGE(DF9:DH9),"") | DN9: =IFERROR(AVERAGE(DK9:DM9),"") | DR9: =IFERROR(AVERAGE(DO9:DQ9),"") | DW9: =IFERROR(AVERAGE(DT9:DV9),"") | EA9: =IFERROR(AVERAGE(DX9:DZ9),"") | EF9: =IF($D9="Très Favorable",1,0) -> 0 | EG9: =IF($D9="Favorable",1,0) -> 0 | EH9: =IF($D9="Doit faire ses preuves",1,0) -> 0
A10: C05 | B10: =IF(INDEX('1. Informations administratives'!A12:J47,MATCH(A10,'1. Informations administratives'!A12:A47,2),2)<>"",INDEX('1. Informations administratives'!A12:J47,MATCH(A10,'1. Informations administratives'!A12:A47,2),2),"") | C10: =IF(INDEX('1. Informations administratives'!A12:J47,MATCH(A10,'1. Informations administratives'!A12:A47,2),3)<>"",INDEX('1. Informations administratives'!A12:J47,MATCH(A10,'1. Informations administratives'!A12:A47,2),3),"") | J10: =IFERROR(AVERAGE(G10:I10),"") | N10: =IFERROR(AVERAGE(K10:M10),"") | S10: =IFERROR(AVERAGE(P10:R10),"") | W10: =IFERROR(AVERAGE(T10:V10),"") | AB10: =IFERROR(AVERAGE(Y10:AA10),"") | AF10: =IFERROR(AVERAGE(AC10:AE10),"") | AK10: =IFERROR(AVERAGE(AH10:AJ10),"") | AO10: =IFERROR(AVERAGE(AL10:AN10),"") | AT10: =IFERROR(AVERAGE(AQ10:AS10),"") | AX10: =IFERROR(AVERAGE(AU10:AW10),"") | BC10: =IFERROR(AVERAGE(AZ10:BB10),"") | BG10: =IFERROR(AVERAGE(BD10:BF10),"") | BL10: =IFERROR(AVERAGE(BI10:BK10),"") | BP10: =IFERROR(AVERAGE(BM10:BO10),"") | BU10: =IFERROR(AVERAGE(BR10:BT10),"") | BY10: =IFERROR(AVERAGE(BV10:BX10),"") | CD10: =IFERROR(AVERAGE(CA10:CC10),"") | CH10: =IFERROR(AVERAGE(CE10:CG10),"") | CM10: =IFERROR(AVERAGE(CJ10:CL10),"") | CQ10: =IFERROR(AVERAGE(CN10:CP10),"") | CV10: =IFERROR(AVERAGE(CS10:CU10),"") | CZ10: =IFERROR(AVERAGE(CW10:CY10),"") | DE10: =IFERROR(AVERAGE(DB10:DD10),"") | DI10: =IFERROR(AVERAGE(DF10:DH10),"") | DN10: =IFERROR(AVERAGE(DK10:DM10),"") | DR10: =IFERROR(AVERAGE(DO10:DQ10),"") | DW10: =IFERROR(AVERAGE(DT10:DV10),"") | EA10: =IFERROR(AVERAGE(DX10:DZ10),"") | EF10: =IF($D10="Très Favorable",1,0) -> 0 | EG10: =IF($D10="Favorable",1,0) -> 0 | EH10: =IF($D10="Doit faire ses preuves",1,0) -> 0
A11: C06 | B11: =IF(INDEX('1. Informations administratives'!A13:J48,MATCH(A11,'1. Informations administratives'!A13:A48,2),2)<>"",INDEX('1. Informations administratives'!A13:J48,MATCH(A11,'1. Informations administratives'!A13:A48,2),2),"") | C11: =IF(INDEX('1. Informations administratives'!A13:J48,MATCH(A11,'1. Informations administratives'!A13:A48,2),3)<>"",INDEX('1. Informations administratives'!A13:J48,MATCH(A11,'1. Informations administratives'!A13:A48,2),3),"") | J11: =IFERROR(AVERAGE(G11:I11),"") | N11: =IFERROR(AVERAGE(K11:M11),"") | S11: =IFERROR(AVERAGE(P11:R11),"") | W11: =IFERROR(AVERAGE(T11:V11),"") | AB11: =IFERROR(AVERAGE(Y11:AA11),"") | AF11: =IFERROR(AVERAGE(AC11:AE11),"") | AK11: =IFERROR(AVERAGE(AH11:AJ11),"") | AO11: =IFERROR(AVERAGE(AL11:AN11),"") | AT11: =IFERROR(AVERAGE(AQ11:AS11),"") | AX11: =IFERROR(AVERAGE(AU11:AW11),"") | BC11: =IFERROR(AVERAGE(AZ11:BB11),"") | BG11: =IFERROR(AVERAGE(BD11:BF11),"") | BL11: =IFERROR(AVERAGE(BI11:BK11),"") | BP11: =IFERROR(AVERAGE(BM11:BO11),"") | BU11: =IFERROR(AVERAGE(BR11:BT11),"") | BY11: =IFERROR(AVERAGE(BV11:BX11),"") | CD11: =IFERROR(AVERAGE(CA11:CC11),"") | CH11: =IFERROR(AVERAGE(CE11:CG11),"") | CM11: =IFERROR(AVERAGE(CJ11:CL11),"") | CQ11: =IFERROR(AVERAGE(CN11:CP11),"") | CV11: =IFERROR(AVERAGE(CS11:CU11),"") | CZ11: =IFERROR(AVERAGE(CW11:CY11),"") | DE11: =IFERROR(AVERAGE(DB11:DD11),"") | DI11: =IFERROR(AVERAGE(DF11:DH11),"") | DN11: =IFERROR(AVERAGE(DK11:DM11),"") | DR11: =IFERROR(AVERAGE(DO11:DQ11),"") | DW11: =IFERROR(AVERAGE(DT11:DV11),"") | EA11: =IFERROR(AVERAGE(DX11:DZ11),"") | EF11: =IF($D11="Très Favorable",1,0) -> 0 | EG11: =IF($D11="Favorable",1,0) -> 0 | EH11: =IF($D11="Doit faire ses preuves",1,0) -> 0
A12: C07 | B12: =IF(INDEX('1. Informations administratives'!A14:J49,MATCH(A12,'1. Informations administratives'!A14:A49,2),2)<>"",INDEX('1. Informations administratives'!A14:J49,MATCH(A12,'1. Informations administratives'!A14:A49,2),2),"") | C12: =IF(INDEX('1. Informations administratives'!A14:J49,MATCH(A12,'1. Informations administratives'!A14:A49,2),3)<>"",INDEX('1. Informations administratives'!A14:J49,MATCH(A12,'1. Informations administratives'!A14:A49,2),3),"") | J12: =IFERROR(AVERAGE(G12:I12),"") | N12: =IFERROR(AVERAGE(K12:M12),"") | S12: =IFERROR(AVERAGE(P12:R12),"") | W12: =IFERROR(AVERAGE(T12:V12),"") | AB12: =IFERROR(AVERAGE(Y12:AA12),"") | AF12: =IFERROR(AVERAGE(AC12:AE12),"") | AK12: =IFERROR(AVERAGE(AH12:AJ12),"") | AO12: =IFERROR(AVERAGE(AL12:AN12),"") | AT12: =IFERROR(AVERAGE(AQ12:AS12),"") | AX12: =IFERROR(AVERAGE(AU12:AW12),"") | BC12: =IFERROR(AVERAGE(AZ12:BB12),"") | BG12: =IFERROR(AVERAGE(BD12:BF12),"") | BL12: =IFERROR(AVERAGE(BI12:BK12),"") | BP12: =IFERROR(AVERAGE(BM12:BO12),"") | BU12: =IFERROR(AVERAGE(BR12:BT12),"") | BY12: =IFERROR(AVERAGE(BV12:BX12),"") | CD12: =IFERROR(AVERAGE(CA12:CC12),"") | CH12: =IFERROR(AVERAGE(CE12:CG12),"") | CM12: =IFERROR(AVERAGE(CJ12:CL12),"") | CQ12: =IFERROR(AVERAGE(CN12:CP12),"") | CV12: =IFERROR(AVERAGE(CS12:CU12),"") | CZ12: =IFERROR(AVERAGE(CW12:CY12),"") | DE12: =IFERROR(AVERAGE(DB12:DD12),"") | DI12: =IFERROR(AVERAGE(DF12:DH12),"") | DN12: =IFERROR(AVERAGE(DK12:DM12),"") | DR12: =IFERROR(AVERAGE(DO12:DQ12),"") | DW12: =IFERROR(AVERAGE(DT12:DV12),"") | EA12: =IFERROR(AVERAGE(DX12:DZ12),"") | EF12: =IF($D12="Très Favorable",1,0) -> 0 | EG12: =IF($D12="Favorable",1,0) -> 0 | EH12: =IF($D12="Doit faire ses preuves",1,0) -> 0
A13: C08 | B13: =IF(INDEX('1. Informations administratives'!A15:J50,MATCH(A13,'1. Informations administratives'!A15:A50,2),2)<>"",INDEX('1. Informations administratives'!A15:J50,MATCH(A13,'1. Informations administratives'!A15:A50,2),2),"") | C13: =IF(INDEX('1. Informations administratives'!A15:J50,MATCH(A13,'1. Informations administratives'!A15:A50,2),3)<>"",INDEX('1. Informations administratives'!A15:J50,MATCH(A13,'1. Informations administratives'!A15:A50,2),3),"") | J13: =IFERROR(AVERAGE(G13:I13),"") | N13: =IFERROR(AVERAGE(K13:M13),"") | S13: =IFERROR(AVERAGE(P13:R13),"") | W13: =IFERROR(AVERAGE(T13:V13),"") | AB13: =IFERROR(AVERAGE(Y13:AA13),"") | AF13: =IFERROR(AVERAGE(AC13:AE13),"") | AK13: =IFERROR(AVERAGE(AH13:AJ13),"") | AO13: =IFERROR(AVERAGE(AL13:AN13),"") | AT13: =IFERROR(AVERAGE(AQ13:AS13),"") | AX13: =IFERROR(AVERAGE(AU13:AW13),"") | BC13: =IFERROR(AVERAGE(AZ13:BB13),"") | BG13: =IFERROR(AVERAGE(BD13:BF13),"") | BL13: =IFERROR(AVERAGE(BI13:BK13),"") | BP13: =IFERROR(AVERAGE(BM13:BO13),"") | BU13: =IFERROR(AVERAGE(BR13:BT13),"") | BY13: =IFERROR(AVERAGE(BV13:BX13),"") | CD13: =IFERROR(AVERAGE(CA13:CC13),"") | CH13: =IFERROR(AVERAGE(CE13:CG13),"") | CM13: =IFERROR(AVERAGE(CJ13:CL13),"") | CQ13: =IFERROR(AVERAGE(CN13:CP13),"") | CV13: =IFERROR(AVERAGE(CS13:CU13),"") | CZ13: =IFERROR(AVERAGE(CW13:CY13),"") | DE13: =IFERROR(AVERAGE(DB13:DD13),"") | DI13: =IFERROR(AVERAGE(DF13:DH13),"") | DN13: =IFERROR(AVERAGE(DK13:DM13),"") | DR13: =IFERROR(AVERAGE(DO13:DQ13),"") | DW13: =IFERROR(AVERAGE(DT13:DV13),"") | EA13: =IFERROR(AVERAGE(DX13:DZ13),"") | EF13: =IF($D13="Très Favorable",1,0) -> 0 | EG13: =IF($D13="Favorable",1,0) -> 0 | EH13: =IF($D13="Doit faire ses preuves",1,0) -> 0
A14: C09 | B14: =IF(INDEX('1. Informations administratives'!A16:J51,MATCH(A14,'1. Informations administratives'!A16:A51,2),2)<>"",INDEX('1. Informations administratives'!A16:J51,MATCH(A14,'1. Informations administratives'!A16:A51,2),2),"") | C14: =IF(INDEX('1. Informations administratives'!A16:J51,MATCH(A14,'1. Informations administratives'!A16:A51,2),3)<>"",INDEX('1. Informations administratives'!A16:J51,MATCH(A14,'1. Informations administratives'!A16:A51,2),3),"") | J14: =IFERROR(AVERAGE(G14:I14),"") | N14: =IFERROR(AVERAGE(K14:M14),"") | S14: =IFERROR(AVERAGE(P14:R14),"") | W14: =IFERROR(AVERAGE(T14:V14),"") | AB14: =IFERROR(AVERAGE(Y14:AA14),"") | AF14: =IFERROR(AVERAGE(AC14:AE14),"") | AK14: =IFERROR(AVERAGE(AH14:AJ14),"") | AO14: =IFERROR(AVERAGE(AL14:AN14),"") | AT14: =IFERROR(AVERAGE(AQ14:AS14),"") | AX14: =IFERROR(AVERAGE(AU14:AW14),"") | BC14: =IFERROR(AVERAGE(AZ14:BB14),"") | BG14: =IFERROR(AVERAGE(BD14:BF14),"") | BL14: =IFERROR(AVERAGE(BI14:BK14),"") | BP14: =IFERROR(AVERAGE(BM14:BO14),"") | BU14: =IFERROR(AVERAGE(BR14:BT14),"") | BY14: =IFERROR(AVERAGE(BV14:BX14),"") | CD14: =IFERROR(AVERAGE(CA14:CC14),"") | CH14: =IFERROR(AVERAGE(CE14:CG14),"") | CM14: =IFERROR(AVERAGE(CJ14:CL14),"") | CQ14: =IFERROR(AVERAGE(CN14:CP14),"") | CV14: =IFERROR(AVERAGE(CS14:CU14),"") | CZ14: =IFERROR(AVERAGE(CW14:CY14),"") | DE14: =IFERROR(AVERAGE(DB14:DD14),"") | DI14: =IFERROR(AVERAGE(DF14:DH14),"") | DN14: =IFERROR(AVERAGE(DK14:DM14),"") | DR14: =IFERROR(AVERAGE(DO14:DQ14),"") | DW14: =IFERROR(AVERAGE(DT14:DV14),"") | EA14: =IFERROR(AVERAGE(DX14:DZ14),"") | EF14: =IF($D14="Très Favorable",1,0) -> 0 | EG14: =IF($D14="Favorable",1,0) -> 0 | EH14: =IF($D14="Doit faire ses preuves",1,0) -> 0
A15: C10 | B15: =IF(INDEX('1. Informations administratives'!A17:J52,MATCH(A15,'1. Informations administratives'!A17:A52,2),2)<>"",INDEX('1. Informations administratives'!A17:J52,MATCH(A15,'1. Informations administratives'!A17:A52,2),2),"") | C15: =IF(INDEX('1. Informations administratives'!A17:J52,MATCH(A15,'1. Informations administratives'!A17:A52,2),3)<>"",INDEX('1. Informations administratives'!A17:J52,MATCH(A15,'1. Informations administratives'!A17:A52,2),3),"") | J15: =IFERROR(AVERAGE(G15:I15),"") | N15: =IFERROR(AVERAGE(K15:M15),"") | S15: =IFERROR(AVERAGE(P15:R15),"") | W15: =IFERROR(AVERAGE(T15:V15),"") | AB15: =IFERROR(AVERAGE(Y15:AA15),"") | AF15: =IFERROR(AVERAGE(AC15:AE15),"") | AK15: =IFERROR(AVERAGE(AH15:AJ15),"") | AO15: =IFERROR(AVERAGE(AL15:AN15),"") | AT15: =IFERROR(AVERAGE(AQ15:AS15),"") | AX15: =IFERROR(AVERAGE(AU15:AW15),"") | BC15: =IFERROR(AVERAGE(AZ15:BB15),"") | BG15: =IFERROR(AVERAGE(BD15:BF15),"") | BL15: =IFERROR(AVERAGE(BI15:BK15),"") | BP15: =IFERROR(AVERAGE(BM15:BO15),"") | BU15: =IFERROR(AVERAGE(BR15:BT15),"") | BY15: =IFERROR(AVERAGE(BV15:BX15),"") | CD15: =IFERROR(AVERAGE(CA15:CC15),"") | CH15: =IFERROR(AVERAGE(CE15:CG15),"") | CM15: =IFERROR(AVERAGE(CJ15:CL15),"") | CQ15: =IFERROR(AVERAGE(CN15:CP15),"") | CV15: =IFERROR(AVERAGE(CS15:CU15),"") | CZ15: =IFERROR(AVERAGE(CW15:CY15),"") | DE15: =IFERROR(AVERAGE(DB15:DD15),"") | DI15: =IFERROR(AVERAGE(DF15:DH15),"") | DN15: =IFERROR(AVERAGE(DK15:DM15),"") | DR15: =IFERROR(AVERAGE(DO15:DQ15),"") | DW15: =IFERROR(AVERAGE(DT15:DV15),"") | EA15: =IFERROR(AVERAGE(DX15:DZ15),"") | EF15: =IF($D15="Très Favorable",1,0) -> 0 | EG15: =IF($D15="Favorable",1,0) -> 0 | EH15: =IF($D15="Doit faire ses preuves",1,0) -> 0
A16: C11 | B16: =IF(INDEX('1. Informations administratives'!A18:J53,MATCH(A16,'1. Informations administratives'!A18:A53,2),2)<>"",INDEX('1. Informations administratives'!A18:J53,MATCH(A16,'1. Informations administratives'!A18:A53,2),2),"") | C16: =IF(INDEX('1. Informations administratives'!A18:J53,MATCH(A16,'1. Informations administratives'!A18:A53,2),3)<>"",INDEX('1. Informations administratives'!A18:J53,MATCH(A16,'1. Informations administratives'!A18:A53,2),3),"") | J16: =IFERROR(AVERAGE(G16:I16),"") | N16: =IFERROR(AVERAGE(K16:M16),"") | S16: =IFERROR(AVERAGE(P16:R16),"") | W16: =IFERROR(AVERAGE(T16:V16),"") | AB16: =IFERROR(AVERAGE(Y16:AA16),"") | AF16: =IFERROR(AVERAGE(AC16:AE16),"") | AK16: =IFERROR(AVERAGE(AH16:AJ16),"") | AO16: =IFERROR(AVERAGE(AL16:AN16),"") | AT16: =IFERROR(AVERAGE(AQ16:AS16),"") | AX16: =IFERROR(AVERAGE(AU16:AW16),"") | BC16: =IFERROR(AVERAGE(AZ16:BB16),"") | BG16: =IFERROR(AVERAGE(BD16:BF16),"") | BL16: =IFERROR(AVERAGE(BI16:BK16),"") | BP16: =IFERROR(AVERAGE(BM16:BO16),"") | BU16: =IFERROR(AVERAGE(BR16:BT16),"") | BY16: =IFERROR(AVERAGE(BV16:BX16),"") | CD16: =IFERROR(AVERAGE(CA16:CC16),"") | CH16: =IFERROR(AVERAGE(CE16:CG16),"") | CM16: =IFERROR(AVERAGE(CJ16:CL16),"") | CQ16: =IFERROR(AVERAGE(CN16:CP16),"") | CV16: =IFERROR(AVERAGE(CS16:CU16),"") | CZ16: =IFERROR(AVERAGE(CW16:CY16),"") | DE16: =IFERROR(AVERAGE(DB16:DD16),"") | DI16: =IFERROR(AVERAGE(DF16:DH16),"") | DN16: =IFERROR(AVERAGE(DK16:DM16),"") | DR16: =IFERROR(AVERAGE(DO16:DQ16),"") | DW16: =IFERROR(AVERAGE(DT16:DV16),"") | EA16: =IFERROR(AVERAGE(DX16:DZ16),"") | EF16: =IF($D16="Très Favorable",1,0) -> 0 | EG16: =IF($D16="Favorable",1,0) -> 0 | EH16: =IF($D16="Doit faire ses preuves",1,0) -> 0
A17: C12 | B17: =IF(INDEX('1. Informations administratives'!A19:J54,MATCH(A17,'1. Informations administratives'!A19:A54,2),2)<>"",INDEX('1. Informations administratives'!A19:J54,MATCH(A17,'1. Informations administratives'!A19:A54,2),2),"") | C17: =IF(INDEX('1. Informations administratives'!A19:J54,MATCH(A17,'1. Informations administratives'!A19:A54,2),3)<>"",INDEX('1. Informations administratives'!A19:J54,MATCH(A17,'1. Informations administratives'!A19:A54,2),3),"") | J17: =IFERROR(AVERAGE(G17:I17),"") | N17: =IFERROR(AVERAGE(K17:M17),"") | S17: =IFERROR(AVERAGE(P17:R17),"") | W17: =IFERROR(AVERAGE(T17:V17),"") | AB17: =IFERROR(AVERAGE(Y17:AA17),"") | AF17: =IFERROR(AVERAGE(AC17:AE17),"") | AK17: =IFERROR(AVERAGE(AH17:AJ17),"") | AO17: =IFERROR(AVERAGE(AL17:AN17),"") | AT17: =IFERROR(AVERAGE(AQ17:AS17),"") | AX17: =IFERROR(AVERAGE(AU17:AW17),"") | BC17: =IFERROR(AVERAGE(AZ17:BB17),"") | BG17: =IFERROR(AVERAGE(BD17:BF17),"") | BL17: =IFERROR(AVERAGE(BI17:BK17),"") | BP17: =IFERROR(AVERAGE(BM17:BO17),"") | BU17: =IFERROR(AVERAGE(BR17:BT17),"") | BY17: =IFERROR(AVERAGE(BV17:BX17),"") | CD17: =IFERROR(AVERAGE(CA17:CC17),"") | CH17: =IFERROR(AVERAGE(CE17:CG17),"") | CM17: =IFERROR(AVERAGE(CJ17:CL17),"") | CQ17: =IFERROR(AVERAGE(CN17:CP17),"") | CV17: =IFERROR(AVERAGE(CS17:CU17),"") | CZ17: =IFERROR(AVERAGE(CW17:CY17),"") | DE17: =IFERROR(AVERAGE(DB17:DD17),"") | DI17: =IFERROR(AVERAGE(DF17:DH17),"") | DN17: =IFERROR(AVERAGE(DK17:DM17),"") | DR17: =IFERROR(AVERAGE(DO17:DQ17),"") | DW17: =IFERROR(AVERAGE(DT17:DV17),"") | EA17: =IFERROR(AVERAGE(DX17:DZ17),"") | EF17: =IF($D17="Très Favorable",1,0) -> 0 | EG17: =IF($D17="Favorable",1,0) -> 0 | EH17: =IF($D17="Doit faire ses preuves",1,0) -> 0
... A45: C40 | B45: =IF(INDEX('1. Informations administratives'!A47:J82,MATCH(A45,'1. Informations administratives'!A47:A82,2),2)<>"",INDEX('1. Informations administratives'!A47:J82,MATCH(A45,'1. Informations administratives'!A47:A82,2),2),"") | C45: =IF(INDEX('1. Informations administratives'!A47:J82,MATCH(A45,'1. Informations administratives'!A47:A82,2),3)<>"",INDEX('1. Informations administratives'!A47:J82,MATCH(A45,'1. Informations administratives'!A47:A82,2),3),"") | J45: =IFERROR(AVERAGE(G45:I45),"") | N45: =IFERROR(AVERAGE(K45:M45),"") | S45: =IFERROR(AVERAGE(P45:R45),"") | W45: =IFERROR(AVERAGE(T45:V45),"") | AB45: =IFERROR(AVERAGE(Y45:AA45),"") | AF45: =IFERROR(AVERAGE(AC45:AE45),"") | AK45: =IFERROR(AVERAGE(AH45:AJ45),"") | AO45: =IFERROR(AVERAGE(AL45:AN45),"") | AT45: =IFERROR(AVERAGE(AQ45:AS45),"") | AX45: =IFERROR(AVERAGE(AU45:AW45),"") | BC45: =IFERROR(AVERAGE(AZ45:BB45),"") | BG45: =IFERROR(AVERAGE(BD45:BF45),"") | BL45: =IFERROR(AVERAGE(BI45:BK45),"") | BP45: =IFERROR(AVERAGE(BM45:BO45),"") | BU45: =IFERROR(AVERAGE(BR45:BT45),"") | BY45: =IFERROR(AVERAGE(BV45:BX45),"") | CD45: =IFERROR(AVERAGE(CA45:CC45),"") | CH45: =IFERROR(AVERAGE(CE45:CG45),"") | CM45: =IFERROR(AVERAGE(CJ45:CL45),"") | CQ45: =IFERROR(AVERAGE(CN45:CP45),"") | CV45: =IFERROR(AVERAGE(CS45:CU45),"") | CZ45: =IFERROR(AVERAGE(CW45:CY45),"") | DE45: =IFERROR(AVERAGE(DB45:DD45),"") | DI45: =IFERROR(AVERAGE(DF45:DH45),"") | DN45: =IFERROR(AVERAGE(DK45:DM45),"") | DR45: =IFERROR(AVERAGE(DO45:DQ45),"") | DW45: =IFERROR(AVERAGE(DT45:DV45),"") | EA45: =IFERROR(AVERAGE(DX45:DZ45),"") | EF45: =IF($D45="Très Favorable",1,0) -> 0 | EG45: =IF($D45="Favorable",1,0) -> 0 | EH45: =IF($D45="Doit faire ses preuves",1,0) -> 0
EF46: =SUM(EF6:EF45) -> 0 | EG46: =SUM(EG6:EG45) -> 0 | EH46: =SUM(EH6:EH45) -> 0 | EI46: =SUM(EF46:EH46) -> 0

Sheet 3. Émargement
F1: Logo académique
B2: ÉMARGEMENT CANDIDATS - PRISE DE CONNAISANCE LIVRETS SCOLAIRES
B3: Établissement : | C3: ='1. Informations administratives'!L5 -> 0 | G3: ="RNE : "&'1. Informations administratives'!L6 -> RNE :
B4: Spécialité : | C4: ='1. Informations administratives'!C4 -> Tourisme | G4: ="session : "&'1. Informations administratives'!L4 -> session : 2025
B6: NOM | C6: Prénom | D6: date de naissance | E6: OBSERVATIONS | F6: J’ai pris connaissance de mon livret scolaire | G6: DATE et SIGNATURE
A7: C01 | B7: =UPPER(INDEX('1. Informations administratives'!$A$8:$J$47,MATCH(A7,'1. Informations administratives'!$A$8:$A$47,0),2)) | C7: =IF('1. Informations administratives'!B8<>0,INDEX('1. Informations administratives'!$A$8:$J$47,MATCH(A7,'1. Informations administratives'!$A$8:$A$47,0),3),"") | D7: =IF('1. Informations administratives'!B8<>0,INDEX('1. Informations administratives'!$A$8:$J$47,MATCH(A7,'1. Informations administratives'!$A$8:$A$47,0),4),"") | G7: …/…/…....
A8: C02 | B8: =UPPER(INDEX('1. Informations administratives'!$A$8:$J$47,MATCH(A8,'1. Informations administratives'!$A$8:$A$47,0),2)) | C8: =IF('1. Informations administratives'!B9<>0,INDEX('1. Informations administratives'!$A$8:$J$47,MATCH(A8,'1. Informations administratives'!$A$8:$A$47,0),3),"") | D8: =IF('1. Informations administratives'!B9<>0,INDEX('1. Informations administratives'!$A$8:$J$47,MATCH(A8,'1. Informations administratives'!$A$8:$A$47,0),4),"") | G8: …/…/…....
A9: C03 | B9: =UPPER(INDEX('1. Informations administratives'!$A$8:$J$47,MATCH(A9,'1. Informations administratives'!$A$8:$A$47,0),2)) | C9: =IF('1. Informations administratives'!B10<>0,INDEX('1. Informations administratives'!$A$8:$J$47,MATCH(A9,'1. Informations administratives'!$A$8:$A$47,0),3),"") | D9: =IF('1. Informations administratives'!B10<>0,INDEX('1. Informations administratives'!$A$8:$J$47,MATCH(A9,'1. Informations administratives'!$A$8:$A$47,0),4),"") | G9: …/…/…....
A10: C04 | B10: =UPPER(INDEX('1. Informations administratives'!$A$8:$J$47,MATCH(A10,'1. Informations administratives'!$A$8:$A$47,0),2)) | C10: =IF('1. Informations administratives'!B11<>0,INDEX('1. Informations administratives'!$A$8:$J$47,MATCH(A10,'1. Informations administratives'!$A$8:$A$47,0),3),"") | D10: =IF('1. Informations administratives'!B11<>0,INDEX('1. Informations administratives'!$A$8:$J$47,MATCH(A10,'1. Informations administratives'!$A$8:$A$47,0),4),"") | G10: …/…/…....
A11: C05 | B11: =UPPER(INDEX('1. Informations administratives'!$A$8:$J$47,MATCH(A11,'1. Informations administratives'!$A$8:$A$47,0),2)) | C11: =IF('1. Informations administratives'!B12<>0,INDEX('1. Informations administratives'!$A$8:$J$47,MATCH(A11,'1. Informations administratives'!$A$8:$A$47,0),3),"") | D11: =IF('1. Informations administratives'!B12<>0,INDEX('1. Informations administratives'!$A$8:$J$47,MATCH(A11,'1. Informations administratives'!$A$8:$A$47,0),4),"") | G11: …/…/…....
A12: C06 | B12: =UPPER(INDEX('1. Informations administratives'!$A$8:$J$47,MATCH(A12,'1. Informations administratives'!$A$8:$A$47,0),2)) | C12: =IF('1. Informations administratives'!B13<>0,INDEX('1. Informations administratives'!$A$8:$J$47,MATCH(A12,'1. Informations administratives'!$A$8:$A$47,0),3),"") | D12: =IF('1. Informations administratives'!B13<>0,INDEX('1. Informations administratives'!$A$8:$J$47,MATCH(A12,'1. Informations administratives'!$A$8:$A$47,0),4),"") | G12: …/…/…....
A13: C07 | B13: =UPPER(INDEX('1. Informations administratives'!$A$8:$J$47,MATCH(A13,'1. Informations administratives'!$A$8:$A$47,0),2)) | C13: =IF('1. Informations administratives'!B14<>0,INDEX('1. Informations administratives'!$A$8:$J$47,MATCH(A13,'1. Informations administratives'!$A$8:$A$47,0),3),"") | D13: =IF('1. Informations administratives'!B14<>0,INDEX('1. Informations administratives'!$A$8:$J$47,MATCH(A13,'1. Informations administratives'!$A$8:$A$47,0),4),"") | G13: …/…/…....
A14: C08 | B14: =UPPER(INDEX('1. Informations administratives'!$A$8:$J$47,MATCH(A14,'1. Informations administratives'!$A$8:$A$47,0),2)) | C14: =IF('1. Informations administratives'!B15<>0,INDEX('1. Informations administratives'!$A$8:$J$47,MATCH(A14,'1. Informations administratives'!$A$8:$A$47,0),3),"") | D14: =IF('1. Informations administratives'!B15<>0,INDEX('1. Informations administratives'!$A$8:$J$47,MATCH(A14,'1. Informations administratives'!$A$8:$A$47,0),4),"") | G14: …/…/…....
A15: C09 | B15: =UPPER(INDEX('1. Informations administratives'!$A$8:$J$47,MATCH(A15,'1. Informations administratives'!$A$8:$A$47,0),2)) | C15: =IF('1. Informations administratives'!B16<>0,INDEX('1. Informations administratives'!$A$8:$J$47,MATCH(A15,'1. Informations administratives'!$A$8:$A$47,0),3),"") | D15: =IF('1. Informations administratives'!B16<>0,INDEX('1. Informations administratives'!$A$8:$J$47,MATCH(A15,'1. Informations administratives'!$A$8:$A$47,0),4),"") | G15: …/…/…....
A16: C10 | B16: =UPPER(INDEX('1. Informations administratives'!$A$8:$J$47,MATCH(A16,'1. Informations administratives'!$A$8:$A$47,0),2)) | C16: =IF('1. Informations administratives'!B17<>0,INDEX('1. Informations administratives'!$A$8:$J$47,MATCH(A16,'1. Informations administratives'!$A$8:$A$47,0),3),"") | D16: =IF('1. Informations administratives'!B17<>0,INDEX('1. Informations administratives'!$A$8:$J$47,MATCH(A16,'1. Informations administratives'!$A$8:$A$47,0),4),"") | G16: …/…/…....
A17: C11 | B17: =UPPER(INDEX('1. Informations administratives'!$A$8:$J$47,MATCH(A17,'1. Informations administratives'!$A$8:$A$47,0),2)) | C17: =IF('1. Informations administratives'!B18<>0,INDEX('1. Informations administratives'!$A$8:$J$47,MATCH(A17,'1. Informations administratives'!$A$8:$A$47,0),3),"") | D17: =IF('1. Informations administratives'!B18<>0,INDEX('1. Informations administratives'!$A$8:$J$47,MATCH(A17,'1. Informations administratives'!$A$8:$A$47,0),4),"") | G17: …/…/…....
A18: C12 | B18: =UPPER(INDEX('1. Informations administratives'!$A$8:$J$47,MATCH(A18,'1. Informations administratives'!$A$8:$A$47,0),2)) | C18: =IF('1. Informations administratives'!B19<>0,INDEX('1. Informations administratives'!$A$8:$J$47,MATCH(A18,'1. Informations administratives'!$A$8:$A$47,0),3),"") | D18: =IF('1. Informations administratives'!B19<>0,INDEX('1. Informations administratives'!$A$8:$J$47,MATCH(A18,'1. Informations administratives'!$A$8:$A$47,0),4),"") | G18: …/…/…....
... A46: C40 | B46: =UPPER(INDEX('1. Informations administratives'!$A$8:$J$47,MATCH(A46,'1. Informations administratives'!$A$8:$A$47,0),2)) | C46: =IF('1. Informations administratives'!B47<>0,INDEX('1. Informations administratives'!$A$8:$J$47,MATCH(A46,'1. Informations administratives'!$A$8:$A$47,0),3),"") | D46: =IF('1. Informations administratives'!B47<>0,INDEX('1. Informations administratives'!$A$8:$J$47,MATCH(A46,'1. Informations administratives'!$A$8:$A$47,0),4),"") | G46: …/…/…....

Sheet C01
A2: {=RIGHT(CELL("nomfichier",A2),3)} -> C01 | D2: Examen : | F2: ='1. Informations administratives'!C3 -> BTS | I2: Année de l'examen | J2: Nom : | K2: =UPPER(INDEX('1. Informations administratives'!A8:J47,MATCH(A2,'1. Informations administratives'!A8:A47,0),2)) | O2: Prénom : | Q2: =INDEX('1. Informations administratives'!A8:J47,MATCH(A2,'1. Informations administratives'!A8:A47,0),3) -> 0 | V2: Cachet de l'établissement, date et signature du chef d'établissement :
D3: Spécialité : | F3: ='1. Informations administratives'!C4 -> Tourisme | V3: ='1. Informations administratives'!L5 -> 0
I4: ='1. Informations administratives'!L4 -> 2025 | J4: Date de naissance: | K4: =INDEX('1. Informations administratives'!$A$8:$J$47,MATCH($A$2,'1. Informations administratives'!$A$8:$A$47,0),4) -> 0 | O4: INE : | P4: =INDEX('1. Informations administratives'!A8:J47,MATCH(A2,'1. Informations administratives'!A8:A47,0),7) -> 0 | S4: Langue vivante
J5: Lieu de naissance : | K5: =INDEX('1. Informations administratives'!$A$8:$J$47,MATCH($A$2,'1. Informations administratives'!$A$8:$A$47,0),5) -> 0 | O5: INSEE : | P5: =INDEX('1. Informations administratives'!A8:J47,MATCH(A2,'1. Informations administratives'!A8:A47,0),6) -> 0 | S5: =INDEX('1. Informations administratives'!A8:J47,MATCH(A2,'1. Informations administratives'!A8:A47,0),8) -> 0
D7: Classe de 1ère année (1) | G7: ='1. Informations administratives'!L4-1 -> 2024 | H7: Enseignements | K7: Classe de 2ème année (2) | N7: ='1. Informations administratives'!L4 -> 2025 | O7: Appréciations | AD7: C00
D8: 1er trimestre | E8: 2ème trimestre | F8: 3ème trimestre | G8: Moyenne | K8: 1er trimestre | L8: 2ème trimestre | M8: 3ème trimestre | N8: Moyenne
D9: 1er semestre | E9: 2ème semestre | K9: 1er semestre | L9: 2ème semestre | AD9: Profil de la classe classe en noir | AE9: Profil du candidat en rouge
A10: E1 | D10: =IF(H10<>"",INDEX('2. Saisie des notes'!$G$6:$FB$50,MATCH($A$2,'2. Saisie des notes'!$A$6:$A$50,0),MATCH($A10,'2. Saisie des notes'!$G$3:$FB$3,0)),"") -> 0 | E10: {=IF(H10<>"",INDEX('2. Saisie des notes'!$G$6:$FB$50,MATCH($A$2,'2. Saisie des notes'!$A$6:$A$50,0),MATCH($A10,'2. Saisie des notes'!$G$3:$FB$3,0)+1),"")} -> 0 | F10: {=IF(H10<>"",INDEX('2. Saisie des notes'!$G$6:$FB$50,MATCH($A$2,'2. Saisie des notes'!$A$6:$A$50,0),MATCH($A10,'2. Saisie des notes'!$G$3:$FB$3,0)+2),"")} -> 0 | G10: {=IF(H10<>"",INDEX('2. Saisie des notes'!$G$6:$FB$50,MATCH($A$2,'2. Saisie des notes'!$A$6:$A$50,0),MATCH($A10,'2. Saisie des notes'!$G$3:$FB$3,0)+3),"")} | H10: =IF(INDEX('BTS ET EPREUVES'!$A$1:$DK$21,MATCH($A10,'BTS ET EPREUVES'!$A$1:$A$21,0),MATCH('1. Informations administratives'!$S$4,'BTS ET EPREUVES'!$A$2:$DK$2,0))<>"",INDEX('BTS ET EPREUVES'!$A$1:$DK$21,MATCH($A10,'BTS ET EPREUVES'!$A$1:$A$21,0),MATCH('1. Informations administratives'!$S$4,'BTS ET EPREUVES'!$A$2:$DK$2,0)),"") -> U1 - Culture générale et expression | K10: {=IF(H10<>"",INDEX('2. Saisie des notes'!$G$6:$FB$50,MATCH($A$2,'2. Saisie des notes'!$A$6:$A$50,0),MATCH($A10,'2. Saisie des notes'!$G$3:$FB$3,0)+4),"")} -> 0 | L10: {=IF(H10<>"",INDEX('2. Saisie des notes'!$G$6:$FB$50,MATCH($A$2,'2. Saisie des notes'!$A$6:$A$50,0),MATCH($A10,'2. Saisie des notes'!$G$3:$FB$3,0)+5),"")} -> 0 | M10: {=IF(H10<>"",INDEX('2. Saisie des notes'!$G$6:$FB$50,MATCH($A$2,'2. Saisie des notes'!$A$6:$A$50,0),MATCH($A10,'2. Saisie des notes'!$G$3:$FB$3,0)+6),"")} -> 0 | N10: {=IF(H10<>"",INDEX('2. Saisie des notes'!$G$6:$FB$50,MATCH($A$2,'2. Saisie des notes'!$A$6:$A$50,0),MATCH($A10,'2. Saisie des notes'!$G$3:$FB$3,0)+7),"")} | O10: {=IF(H10<>"",INDEX('2. Saisie des notes'!$G$6:$FB$50,MATCH($A$2,'2. Saisie des notes'!$A$6:$A$50,0),MATCH(A10,'2. Saisie des notes'!$G$3:$FB$3,0)+8),"")} -> 0 | AA10: =H10 -> U1 - Culture générale et expression | AD10: {=INDEX('2. Saisie des notes'!$G$5:$FB$50,MATCH("C00",'2. Saisie des notes'!$A$5:$A$50,0),MATCH(A10,'2. Saisie des notes'!$G$3:$FB$3,0)+7)} | AE10: =N10
A11: E2 | D11: =IF(H11<>"",INDEX('2. Saisie des notes'!$G$6:$FB$50,MATCH($A$2,'2. Saisie des notes'!$A$6:$A$50,0),MATCH($A11,'2. Saisie des notes'!$G$3:$FB$3,0)),"") -> 0 | E11: {=IF(H11<>"",INDEX('2. Saisie des notes'!$G$6:$FB$50,MATCH($A$2,'2. Saisie des notes'!$A$6:$A$50,0),MATCH($A11,'2. Saisie des notes'!$G$3:$FB$3,0)+1),"")} -> 0 | F11: {=IF(H11<>"",INDEX('2. Saisie des notes'!$G$6:$FB$50,MATCH($A$2,'2. Saisie des notes'!$A$6:$A$50,0),MATCH($A11,'2. Saisie des notes'!$G$3:$FB$3,0)+2),"")} -> 0 | G11: {=IF(H11<>"",INDEX('2. Saisie des notes'!$G$6:$FB$50,MATCH($A$2,'2. Saisie des notes'!$A$6:$A$50,0),MATCH($A11,'2. Saisie des notes'!$G$3:$FB$3,0)+3),"")} | H11: =IF(INDEX('BTS ET EPREUVES'!$A$1:$DK$21,MATCH($A11,'BTS ET EPREUVES'!$A$1:$A$21,0),MATCH('1. Informations administratives'!$S$4,'BTS ET EPREUVES'!$A$2:$DK$2,0))<>"",INDEX('BTS ET EPREUVES'!$A$1:$DK$21,MATCH($A11,'BTS ET EPREUVES'!$A$1:$A$21,0),MATCH('1. Informations administratives'!$S$4,'BTS ET EPREUVES'!$A$2:$DK$2,0)),"") -> U21 - Communication en langue vivante étrangère : anglais | K11: {=IF(H11<>"",INDEX('2. Saisie des notes'!$G$6:$FB$50,MATCH($A$2,'2. Saisie des notes'!$A$6:$A$50,0),MATCH($A11,'2. Saisie des notes'!$G$3:$FB$3,0)+4),"")} -> 0 | L11: {=IF(H11<>"",INDEX('2. Saisie des notes'!$G$6:$FB$50,MATCH($A$2,'2. Saisie des notes'!$A$6:$A$50,0),MATCH($A11,'2. Saisie des notes'!$G$3:$FB$3,0)+5),"")} -> 0 | M11: {=IF(H11<>"",INDEX('2. Saisie des notes'!$G$6:$FB$50,MATCH($A$2,'2. Saisie des notes'!$A$6:$A$50,0),MATCH($A11,'2. Saisie des notes'!$G$3:$FB$3,0)+6),"")} -> 0 | N11: {=IF(H11<>"",INDEX('2. Saisie des notes'!$G$6:$FB$50,MATCH($A$2,'2. Saisie des notes'!$A$6:$A$50,0),MATCH($A11,'2. Saisie des notes'!$G$3:$FB$3,0)+7),"")} | O11: {=IF(H11<>"",INDEX('2. Saisie des notes'!$G$6:$FB$50,MATCH($A$2,'2. Saisie des notes'!$A$6:$A$50,0),MATCH(A11,'2. Saisie des notes'!$G$3:$FB$3,0)+8),"")} -> 0 | AA11: =H11 -> U21 - Communication en langue vivante étrangère : anglais | AD11: {=INDEX('2. Saisie des notes'!$G$5:$FB$50,MATCH("C00",'2. Saisie des notes'!$A$5:$A$50,0),MATCH(A11,'2. Saisie des notes'!$G$3:$FB$3,0)+7)} | AE11: =N11
A12: E3 | D12: =IF(H12<>"",INDEX('2. Saisie des notes'!$G$6:$FB$50,MATCH($A$2,'2. Saisie des notes'!$A$6:$A$50,0),MATCH($A12,'2. Saisie des notes'!$G$3:$FB$3,0)),"") -> 0 | E12: {=IF(H12<>"",INDEX('2. Saisie des notes'!$G$6:$FB$50,MATCH($A$2,'2. Saisie des notes'!$A$6:$A$50,0),MATCH($A12,'2. Saisie des notes'!$G$3:$FB$3,0)+1),"")} -> 0 | F12: {=IF(H12<>"",INDEX('2. Saisie des notes'!$G$6:$FB$50,MATCH($A$2,'2. Saisie des notes'!$A$6:$A$50,0),MATCH($A12,'2. Saisie des notes'!$G$3:$FB$3,0)+2),"")} -> 0 | G12: {=IF(H12<>"",INDEX('2. Saisie des notes'!$G$6:$FB$50,MATCH($A$2,'2. Saisie des notes'!$A$6:$A$50,0),MATCH($A12,'2. Saisie des notes'!$G$3:$FB$3,0)+3),"")} | H12: =IF(INDEX('BTS ET EPREUVES'!$A$1:$DK$21,MATCH($A12,'BTS ET EPREUVES'!$A$1:$A$21,0),MATCH('1. Informations administratives'!$S$4,'BTS ET EPREUVES'!$A$2:$DK$2,0))<>"",INDEX('BTS ET EPREUVES'!$A$1:$DK$21,MATCH($A12,'BTS ET EPREUVES'!$A$1:$A$21,0),MATCH('1. Informations administratives'!$S$4,'BTS ET EPREUVES'!$A$2:$DK$2,0)),"") -> U22 - Communication en langue vivante étrangère : langue B | K12: {=IF(H12<>"",INDEX('2. Saisie des notes'!$G$6:$FB$50,MATCH($A$2,'2. Saisie des notes'!$A$6:$A$50,0),MATCH($A12,'2. Saisie des notes'!$G$3:$FB$3,0)+4),"")} -> 0 | L12: {=IF(H12<>"",INDEX('2. Saisie des notes'!$G$6:$FB$50,MATCH($A$2,'2. Saisie des notes'!$A$6:$A$50,0),MATCH($A12,'2. Saisie des notes'!$G$3:$FB$3,0)+5),"")} -> 0 | M12: {=IF(H12<>"",INDEX('2. Saisie des notes'!$G$6:$FB$50,MATCH($A$2,'2. Saisie des notes'!$A$6:$A$50,0),MATCH($A12,'2. Saisie des notes'!$G$3:$FB$3,0)+6),"")} -> 0 | N12: {=IF(H12<>"",INDEX('2. Saisie des notes'!$G$6:$FB$50,MATCH($A$2,'2. Saisie des notes'!$A$6:$A$50,0),MATCH($A12,'2. Saisie des notes'!$G$3:$FB$3,0)+7),"")} | O12: {=IF(H12<>"",INDEX('2. Saisie des notes'!$G$6:$FB$50,MATCH($A$2,'2. Saisie des notes'!$A$6:$A$50,0),MATCH(A12,'2. Saisie des notes'!$G$3:$FB$3,0)+8),"")} -> 0 | AA12: =H12 -> U22 - Communication en langue vivante étrangère : langue B | AD12: {=INDEX('2. Saisie des notes'!$G$5:$FB$50,MATCH("C00",'2. Saisie des notes'!$A$5:$A$50,0),MATCH(A12,'2. Saisie des notes'!$G$3:$FB$3,0)+7)} | AE12: =N12
A13: E4 | D13: =IF(H13<>"",INDEX('2. Saisie des notes'!$G$6:$FB$50,MATCH($A$2,'2. Saisie des notes'!$A$6:$A$50,0),MATCH($A13,'2. Saisie des notes'!$G$3:$FB$3,0)),"") -> 0 | E13: {=IF(H13<>"",INDEX('2. Saisie des notes'!$G$6:$FB$50,MATCH($A$2,'2. Saisie des notes'!$A$6:$A$50,0),MATCH($A13,'2. Saisie des notes'!$G$3:$FB$3,0)+1),"")} -> 0 | F13: {=IF(H13<>"",INDEX('2. Saisie des notes'!$G$6:$FB$50,MATCH($A$2,'2. Saisie des notes'!$A$6:$A$50,0),MATCH($A13,'2. Saisie des notes'!$G$3:$FB$3,0)+2),"")} -> 0 | G13: {=IF(H13<>"",INDEX('2. Saisie des notes'!$G$6:$FB$50,MATCH($A$2,'2. Saisie des notes'!$A$6:$A$50,0),MATCH($A13,'2. Saisie des notes'!$G$3:$FB$3,0)+3),"")} | H13: =IF(INDEX('BTS ET EPREUVES'!$A$1:$DK$21,MATCH($A13,'BTS ET EPREUVES'!$A$1:$A$21,0),MATCH('1. Informations administratives'!$S$4,'BTS ET EPREUVES'!$A$2:$DK$2,0))<>"",INDEX('BTS ET EPREUVES'!$A$1:$DK$21,MATCH($A13,'BTS ET EPREUVES'!$A$1:$A$21,0),MATCH('1. Informations administratives'!$S$4,'BTS ET EPREUVES'!$A$2:$DK$2,0)),"") -> U3 - Tourisme et territoires | K13: {=IF(H13<>"",INDEX('2. Saisie des notes'!$G$6:$FB$50,MATCH($A$2,'2. Saisie des notes'!$A$6:$A$50,0),MATCH($A13,'2. Saisie des notes'!$G$3:$FB$3,0)+4),"")} -> 0 | L13: {=IF(H13<>"",INDEX('2. Saisie des notes'!$G$6:$FB$50,MATCH($A$2,'2. Saisie des notes'!$A$6:$A$50,0),MATCH($A13,'2. Saisie des notes'!$G$3:$FB$3,0)+5),"")} -> 0 | M13: {=IF(H13<>"",INDEX('2. Saisie des notes'!$G$6:$FB$50,MATCH($A$2,'2. Saisie des notes'!$A$6:$A$50,0),MATCH($A13,'2. Saisie des notes'!$G$3:$FB$3,0)+6),"")} -> 0 | N13: {=IF(H13<>"",INDEX('2. Saisie des notes'!$G$6:$FB$50,MATCH($A$2,'2. Saisie des notes'!$A$6:$A$50,0),MATCH($A13,'2. Saisie des notes'!$G$3:$FB$3,0)+7),"")} | O13: {=IF(H13<>"",INDEX('2. Saisie des notes'!$G$6:$FB$50,MATCH($A$2,'2. Saisie des notes'!$A$6:$A$50,0),MATCH(A13,'2. Saisie des notes'!$G$3:$FB$3,0)+8),"")} -> 0 | AA13: =H13 -> U3 - Tourisme et territoires | AD13: {=INDEX('2. Saisie des notes'!$G$5:$FB$50,MATCH("C00",'2. Saisie des notes'!$A$5:$A$50,0),MATCH(A13,'2. Saisie des notes'!$G$3:$FB$3,0)+7)} | AE13: =N13
A14: E5 | D14: =IF(H14<>"",INDEX('2. Saisie des notes'!$G$6:$FB$50,MATCH($A$2,'2. Saisie des notes'!$A$6:$A$50,0),MATCH($A14,'2. Saisie des notes'!$G$3:$FB$3,0)),"") -> 0 | E14: {=IF(H14<>"",INDEX('2. Saisie des notes'!$G$6:$FB$50,MATCH($A$2,'2. Saisie des notes'!$A$6:$A$50,0),MATCH($A14,'2. Saisie des notes'!$G$3:$FB$3,0)+1),"")} -> 0 | F14: {=IF(H14<>"",INDEX('2. Saisie des notes'!$G$6:$FB$50,MATCH($A$2,'2. Saisie des notes'!$A$6:$A$50,0),MATCH($A14,'2. Saisie des notes'!$G$3:$FB$3,0)+2),"")} -> 0 | G14: {=IF(H14<>"",INDEX('2. Saisie des notes'!$G$6:$FB$50,MATCH($A$2,'2. Saisie des notes'!$A$6:$A$50,0),MATCH($A14,'2. Saisie des notes'!$G$3:$FB$3,0)+3),"")} | H14: =IF(INDEX('BTS ET EPREUVES'!$A$1:$DK$21,MATCH($A14,'BTS ET EPREUVES'!$A$1:$A$21,0),MATCH('1. Informations administratives'!$S$4,'BTS ET EPREUVES'!$A$2:$DK$2,0))<>"",INDEX('BTS ET EPREUVES'!$A$1:$DK$21,MATCH($A14,'BTS ET EPREUVES'!$A$1:$A$21,0),MATCH('1. Informations administratives'!$S$4,'BTS ET EPREUVES'!$A$2:$DK$2,0)),"") -> U4 - Gestion de la relation clientèle touristique | K14: {=IF(H14<>"",INDEX('2. Saisie des notes'!$G$6:$FB$50,MATCH($A$2,'2. Saisie des notes'!$A$6:$A$50,0),MATCH($A14,'2. Saisie des notes'!$G$3:$FB$3,0)+4),"")} -> 0 | L14: {=IF(H14<>"",INDEX('2. Saisie des notes'!$G$6:$FB$50,MATCH($A$2,'2. Saisie des notes'!$A$6:$A$50,0),MATCH($A14,'2. Saisie des notes'!$G$3:$FB$3,0)+5),"")} -> 0 | M14: {=IF(H14<>"",INDEX('2. Saisie des notes'!$G$6:$FB$50,MATCH($A$2,'2. Saisie des notes'!$A$6:$A$50,0),MATCH($A14,'2. Saisie des notes'!$G$3:$FB$3,0)+6),"")} -> 0 | N14: {=IF(H14<>"",INDEX('2. Saisie des notes'!$G$6:$FB$50,MATCH($A$2,'2. Saisie des notes'!$A$6:$A$50,0),MATCH($A14,'2. Saisie des notes'!$G$3:$FB$3,0)+7),"")} | O14: {=IF(H14<>"",INDEX('2. Saisie des notes'!$G$6:$FB$50,MATCH($A$2,'2. Saisie des notes'!$A$6:$A$50,0),MATCH(A14,'2. Saisie des notes'!$G$3:$FB$3,0)+8),"")} -> 0 | AA14: =H14 -> U4 - Gestion de la relation clientèle touristique | AD14: {=INDEX('2. Saisie des notes'!$G$5:$FB$50,MATCH("C00",'2. Saisie des notes'!$A$5:$A$50,0),MATCH(A14,'2. Saisie des notes'!$G$3:$FB$3,0)+7)} | AE14: =N14
A15: E6 | D15: =IF(H15<>"",INDEX('2. Saisie des notes'!$G$6:$FB$50,MATCH($A$2,'2. Saisie des notes'!$A$6:$A$50,0),MATCH($A15,'2. Saisie des notes'!$G$3:$FB$3,0)),"") -> 0 | E15: {=IF(H15<>"",INDEX('2. Saisie des notes'!$G$6:$FB$50,MATCH($A$2,'2. Saisie des notes'!$A$6:$A$50,0),MATCH($A15,'2. Saisie des notes'!$G$3:$FB$3,0)+1),"")} -> 0 | F15: {=IF(H15<>"",INDEX('2. Saisie des notes'!$G$6:$FB$50,MATCH($A$2,'2. Saisie des notes'!$A$6:$A$50,0),MATCH($A15,'2. Saisie des notes'!$G$3:$FB$3,0)+2),"")} -> 0 | G15: {=IF(H15<>"",INDEX('2. Saisie des notes'!$G$6:$FB$50,MATCH($A$2,'2. Saisie des notes'!$A$6:$A$50,0),MATCH($A15,'2. Saisie des notes'!$G$3:$FB$3,0)+3),"")} | H15: =IF(INDEX('BTS ET EPREUVES'!$A$1:$DK$21,MATCH($A15,'BTS ET EPREUVES'!$A$1:$A$21,0),MATCH('1. Informations administratives'!$S$4,'BTS ET EPREUVES'!$A$2:$DK$2,0))<>"",INDEX('BTS ET EPREUVES'!$A$1:$DK$21,MATCH($A15,'BTS ET EPREUVES'!$A$1:$A$21,0),MATCH('1. Informations administratives'!$S$4,'BTS ET EPREUVES'!$A$2:$DK$2,0)),"") -> U5 - Élaboration d’une prestation touristique | K15: {=IF(H15<>"",INDEX('2. Saisie des notes'!$G$6:$FB$50,MATCH($A$2,'2. Saisie des notes'!$A$6:$A$50,0),MATCH($A15,'2. Saisie des notes'!$G$3:$FB$3,0)+4),"")} -> 0 | L15: {=IF(H15<>"",INDEX('2. Saisie des notes'!$G$6:$FB$50,MATCH($A$2,'2. Saisie des notes'!$A$6:$A$50,0),MATCH($A15,'2. Saisie des notes'!$G$3:$FB$3,0)+5),"")} -> 0 | M15: {=IF(H15<>"",INDEX('2. Saisie des notes'!$G$6:$FB$50,MATCH($A$2,'2. Saisie des notes'!$A$6:$A$50,0),MATCH($A15,'2. Saisie des notes'!$G$3:$FB$3,0)+6),"")} -> 0 | N15: {=IF(H15<>"",INDEX('2. Saisie des notes'!$G$6:$FB$50,MATCH($A$2,'2. Saisie des notes'!$A$6:$A$50,0),MATCH($A15,'2. Saisie des notes'!$G$3:$FB$3,0)+7),"")} | O15: {=IF(H15<>"",INDEX('2. Saisie des notes'!$G$6:$FB$50,MATCH($A$2,'2. Saisie des notes'!$A$6:$A$50,0),MATCH(A15,'2. Saisie des notes'!$G$3:$FB$3,0)+8),"")} -> 0 | AA15: =H15 -> U5 - Élaboration d’une prestation touristique | AD15: {=INDEX('2. Saisie des notes'!$G$5:$FB$50,MATCH("C00",'2. Saisie des notes'!$A$5:$A$50,0),MATCH(A15,'2. Saisie des notes'!$G$3:$FB$3,0)+7)} | AE15: =N15
A16: E7 | D16: =IF(H16<>"",INDEX('2. Saisie des notes'!$G$6:$FB$50,MATCH($A$2,'2. Saisie des notes'!$A$6:$A$50,0),MATCH($A16,'2. Saisie des notes'!$G$3:$FB$3,0)),"") -> 0 | E16: {=IF(H16<>"",INDEX('2. Saisie des notes'!$G$6:$FB$50,MATCH($A$2,'2. Saisie des notes'!$A$6:$A$50,0),MATCH($A16,'2. Saisie des notes'!$G$3:$FB$3,0)+1),"")} -> 0 | F16: {=IF(H16<>"",INDEX('2. Saisie des notes'!$G$6:$FB$50,MATCH($A$2,'2. Saisie des notes'!$A$6:$A$50,0),MATCH($A16,'2. Saisie des notes'!$G$3:$FB$3,0)+2),"")} -> 0 | G16: {=IF(H16<>"",INDEX('2. Saisie des notes'!$G$6:$FB$50,MATCH($A$2,'2. Saisie des notes'!$A$6:$A$50,0),MATCH($A16,'2. Saisie des notes'!$G$3:$FB$3,0)+3),"")} | H16: =IF(INDEX('BTS ET EPREUVES'!$A$1:$DK$21,MATCH($A16,'BTS ET EPREUVES'!$A$1:$A$21,0),MATCH('1. Informations administratives'!$S$4,'BTS ET EPREUVES'!$A$2:$DK$2,0))<>"",INDEX('BTS ET EPREUVES'!$A$1:$DK$21,MATCH($A16,'BTS ET EPREUVES'!$A$1:$A$21,0),MATCH('1. Informations administratives'!$S$4,'BTS ET EPREUVES'!$A$2:$DK$2,0)),"") -> U6 - Gestion de l’information touristique | K16: {=IF(H16<>"",INDEX('2. Saisie des notes'!$G$6:$FB$50,MATCH($A$2,'2. Saisie des notes'!$A$6:$A$50,0),MATCH($A16,'2. Saisie des notes'!$G$3:$FB$3,0)+4),"")} -> 0 | L16: {=IF(H16<>"",INDEX('2. Saisie des notes'!$G$6:$FB$50,MATCH($A$2,'2. Saisie des notes'!$A$6:$A$50,0),MATCH($A16,'2. Saisie des notes'!$G$3:$FB$3,0)+5),"")} -> 0 | M16: {=IF(H16<>"",INDEX('2. Saisie des notes'!$G$6:$FB$50,MATCH($A$2,'2. Saisie des notes'!$A$6:$A$50,0),MATCH($A16,'2. Saisie des notes'!$G$3:$FB$3,0)+6),"")} -> 0 | N16: {=IF(H16<>"",INDEX('2. Saisie des notes'!$G$6:$FB$50,MATCH($A$2,'2. Saisie des notes'!$A$6:$A$50,0),MATCH($A16,'2. Saisie des notes'!$G$3:$FB$3,0)+7),"")} | O16: {=IF(H16<>"",INDEX('2. Saisie des notes'!$G$6:$FB$50,MATCH($A$2,'2. Saisie des notes'!$A$6:$A$50,0),MATCH(A16,'2. Saisie des notes'!$G$3:$FB$3,0)+8),"")} -> 0 | AA16: =H16 -> U6 - Gestion de l’information touristique | AD16: {=INDEX('2. Saisie des notes'!$G$5:$FB$50,MATCH("C00",'2. Saisie des notes'!$A$5:$A$50,0),MATCH(A16,'2. Saisie des notes'!$G$3:$FB$3,0)+7)} | AE16: =N16
A17: E8 | D17: =IF(H17<>"",INDEX('2. Saisie des notes'!$G$6:$FB$50,MATCH($A$2,'2. Saisie des notes'!$A$6:$A$50,0),MATCH($A17,'2. Saisie des notes'!$G$3:$FB$3,0)),"") -> 0 | E17: {=IF(H17<>"",INDEX('2. Saisie des notes'!$G$6:$FB$50,MATCH($A$2,'2. Saisie des notes'!$A$6:$A$50,0),MATCH($A17,'2. Saisie des notes'!$G$3:$FB$3,0)+1),"")} -> 0 | F17: {=IF(H17<>"",INDEX('2. Saisie des notes'!$G$6:$FB$50,MATCH($A$2,'2. Saisie des notes'!$A$6:$A$50,0),MATCH($A17,'2. Saisie des notes'!$G$3:$FB$3,0)+2),"")} -> 0 | G17: {=IF(H17<>"",INDEX('2. Saisie des notes'!$G$6:$FB$50,MATCH($A$2,'2. Saisie des notes'!$A$6:$A$50,0),MATCH($A17,'2. Saisie des notes'!$G$3:$FB$3,0)+3),"")} | H17: =IF(INDEX('BTS ET EPREUVES'!$A$1:$DK$21,MATCH($A17,'BTS ET EPREUVES'!$A$1:$A$21,0),MATCH('1. Informations administratives'!$S$4,'BTS ET EPREUVES'!$A$2:$DK$2,0))<>"",INDEX('BTS ET EPREUVES'!$A$1:$DK$21,MATCH($A17,'BTS ET EPREUVES'!$A$1:$A$21,0),MATCH('1. Informations administratives'!$S$4,'BTS ET EPREUVES'!$A$2:$DK$2,0)),"") -> UF1 - Unité facultative Communication en langue vivante étrangère : langue C | K17: {=IF(H17<>"",INDEX('2. Saisie des notes'!$G$6:$FB$50,MATCH($A$2,'2. Saisie des notes'!$A$6:$A$50,0),MATCH($A17,'2. Saisie des notes'!$G$3:$FB$3,0)+4),"")} -> 0 | L17: {=IF(H17<>"",INDEX('2. Saisie des notes'!$G$6:$FB$50,MATCH($A$2,'2. Saisie des notes'!$A$6:$A$50,0),MATCH($A17,'2. Saisie des notes'!$G$3:$FB$3,0)+5),"")} -> 0 | M17: {=IF(H17<>"",INDEX('2. Saisie des notes'!$G$6:$FB$50,MATCH($A$2,'2. Saisie des notes'!$A$6:$A$50,0),MATCH($A17,'2. Saisie des notes'!$G$3:$FB$3,0)+6),"")} -> 0 | N17: {=IF(H17<>"",INDEX('2. Saisie des notes'!$G$6:$FB$50,MATCH($A$2,'2. Saisie des notes'!$A$6:$A$50,0),MATCH($A17,'2. Saisie des notes'!$G$3:$FB$3,0)+7),"")} | O17: {=IF(H17<>"",INDEX('2. Saisie des notes'!$G$6:$FB$50,MATCH($A$2,'2. Saisie des notes'!$A$6:$A$50,0),MATCH(A17,'2. Saisie des notes'!$G$3:$FB$3,0)+8),"")} -> 0 | AA17: =H17 -> UF1 - Unité facultative Communication en langue vivante étrangère : langue C | AD17: {=INDEX('2. Saisie des notes'!$G$5:$FB$50,MATCH("C00",'2. Saisie des notes'!$A$5:$A$50,0),MATCH(A17,'2. Saisie des notes'!$G$3:$FB$3,0)+7)} | AE17: =N17
A18: E9 | D18: =IF(H18<>"",INDEX('2. Saisie des notes'!$G$6:$FB$50,MATCH($A$2,'2. Saisie des notes'!$A$6:$A$50,0),MATCH($A18,'2. Saisie des notes'!$G$3:$FB$3,0)),"") -> 0 | E18: {=IF(H18<>"",INDEX('2. Saisie des notes'!$G$6:$FB$50,MATCH($A$2,'2. Saisie des notes'!$A$6:$A$50,0),MATCH($A18,'2. Saisie des notes'!$G$3:$FB$3,0)+1),"")} -> 0 | F18: {=IF(H18<>"",INDEX('2. Saisie des notes'!$G$6:$FB$50,MATCH($A$2,'2. Saisie des notes'!$A$6:$A$50,0),MATCH($A18,'2. Saisie des notes'!$G$3:$FB$3,0)+2),"")} -> 0 | G18: {=IF(H18<>"",INDEX('2. Saisie des notes'!$G$6:$FB$50,MATCH($A$2,'2. Saisie des notes'!$A$6:$A$50,0),MATCH($A18,'2. Saisie des notes'!$G$3:$FB$3,0)+3),"")} | H18: =IF(INDEX('BTS ET EPREUVES'!$A$1:$DK$21,MATCH($A18,'BTS ET EPREUVES'!$A$1:$A$21,0),MATCH('1. Informations administratives'!$S$4,'BTS ET EPREUVES'!$A$2:$DK$2,0))<>"",INDEX('BTS ET EPREUVES'!$A$1:$DK$21,MATCH($A18,'BTS ET EPREUVES'!$A$1:$A$21,0),MATCH('1. Informations administratives'!$S$4,'BTS ET EPREUVES'!$A$2:$DK$2,0)),"") -> UF2 - Unité facultative Parcours de professionnalisation à l’étranger | K18: {=IF(H18<>"",INDEX('2. Saisie des notes'!$G$6:$FB$50,MATCH($A$2,'2. Saisie des notes'!$A$6:$A$50,0),MATCH($A18,'2. Saisie des notes'!$G$3:$FB$3,0)+4),"")} -> 0 | L18: {=IF(H18<>"",INDEX('2. Saisie des notes'!$G$6:$FB$50,MATCH($A$2,'2. Saisie des notes'!$A$6:$A$50,0),MATCH($A18,'2. Saisie des notes'!$G$3:$FB$3,0)+5),"")} -> 0 | M18: {=IF(H18<>"",INDEX('2. Saisie des notes'!$G$6:$FB$50,MATCH($A$2,'2. Saisie des notes'!$A$6:$A$50,0),MATCH($A18,'2. Saisie des notes'!$G$3:$FB$3,0)+6),"")} -> 0 | N18: {=IF(H18<>"",INDEX('2. Saisie des notes'!$G$6:$FB$50,MATCH($A$2,'2. Saisie des notes'!$A$6:$A$50,0),MATCH($A18,'2. Saisie des notes'!$G$3:$FB$3,0)+7),"")} | O18: {=IF(H18<>"",INDEX('2. Saisie des notes'!$G$6:$FB$50,MATCH($A$2,'2. Saisie des notes'!$A$6:$A$50,0),MATCH(A18,'2. Saisie des notes'!$G$3:$FB$3,0)+8),"")} -> 0 | AA18: =H18 -> UF2 - Unité facultative Parcours de professionnalisation à l’étranger | AD18: {=INDEX('2. Saisie des notes'!$G$5:$FB$50,MATCH("C00",'2. Saisie des notes'!$A$5:$A$50,0),MATCH(A18,'2. Saisie des notes'!$G$3:$FB$3,0)+7)} | AE18: =N18
A19: E10 | D19: =IF(H19<>"",INDEX('2. Saisie des notes'!$G$6:$FB$50,MATCH($A$2,'2. Saisie des notes'!$A$6:$A$50,0),MATCH($A19,'2. Saisie des notes'!$G$3:$FB$3,0)),"") -> 0 | E19: {=IF(H19<>"",INDEX('2. Saisie des notes'!$G$6:$FB$50,MATCH($A$2,'2. Saisie des notes'!$A$6:$A$50,0),MATCH($A19,'2. Saisie des notes'!$G$3:$FB$3,0)+1),"")} -> 0 | F19: {=IF(H19<>"",INDEX('2. Saisie des notes'!$G$6:$FB$50,MATCH($A$2,'2. Saisie des notes'!$A$6:$A$50,0),MATCH($A19,'2. Saisie des notes'!$G$3:$FB$3,0)+2),"")} -> 0 | G19: {=IF(H19<>"",INDEX('2. Saisie des notes'!$G$6:$FB$50,MATCH($A$2,'2. Saisie des notes'!$A$6:$A$50,0),MATCH($A19,'2. Saisie des notes'!$G$3:$FB$3,0)+3),"")} | H19: =IF(INDEX('BTS ET EPREUVES'!$A$1:$DK$21,MATCH($A19,'BTS ET EPREUVES'!$A$1:$A$21,0),MATCH('1. Informations administratives'!$S$4,'BTS ET EPREUVES'!$A$2:$DK$2,0))<>"",INDEX('BTS ET EPREUVES'!$A$1:$DK$21,MATCH($A19,'BTS ET EPREUVES'!$A$1:$A$21,0),MATCH('1. Informations administratives'!$S$4,'BTS ET EPREUVES'!$A$2:$DK$2,0)),"") -> UF3 - Unité facultative Projet de spécialisation | K19: {=IF(H19<>"",INDEX('2. Saisie des notes'!$G$6:$FB$50,MATCH($A$2,'2. Saisie des notes'!$A$6:$A$50,0),MATCH($A19,'2. Saisie des notes'!$G$3:$FB$3,0)+4),"")} -> 0 | L19: {=IF(H19<>"",INDEX('2. Saisie des notes'!$G$6:$FB$50,MATCH($A$2,'2. Saisie des notes'!$A$6:$A$50,0),MATCH($A19,'2. Saisie des notes'!$G$3:$FB$3,0)+5),"")} -> 0 | M19: {=IF(H19<>"",INDEX('2. Saisie des notes'!$G$6:$FB$50,MATCH($A$2,'2. Saisie des notes'!$A$6:$A$50,0),MATCH($A19,'2. Saisie des notes'!$G$3:$FB$3,0)+6),"")} -> 0 | N19: {=IF(H19<>"",INDEX('2. Saisie des notes'!$G$6:$FB$50,MATCH($A$2,'2. Saisie des notes'!$A$6:$A$50,0),MATCH($A19,'2. Saisie des notes'!$G$3:$FB$3,0)+7),"")} | O19: {=IF(H19<>"",INDEX('2. Saisie des notes'!$G$6:$FB$50,MATCH($A$2,'2. Saisie des notes'!$A$6:$A$50,0),MATCH(A19,'2. Saisie des notes'!$G$3:$FB$3,0)+8),"")} -> 0 | AA19: =H19 -> UF3 - Unité facultative Projet de spécialisation | AD19: {=INDEX('2. Saisie des notes'!$G$5:$FB$50,MATCH("C00",'2. Saisie des notes'!$A$5:$A$50,0),MATCH(A19,'2. Saisie des notes'!$G$3:$FB$3,0)+7)} | AE19: =N19
A20: E11 | D20: =IF(H20<>"",INDEX('2. Saisie des notes'!$G$6:$FB$50,MATCH($A$2,'2. Saisie des notes'!$A$6:$A$50,0),MATCH($A20,'2. Saisie des notes'!$G$3:$FB$3,0)),"") -> 0 | E20: {=IF(H20<>"",INDEX('2. Saisie des notes'!$G$6:$FB$50,MATCH($A$2,'2. Saisie des notes'!$A$6:$A$50,0),MATCH($A20,'2. Saisie des notes'!$G$3:$FB$3,0)+1),"")} -> 0 | F20: {=IF(H20<>"",INDEX('2. Saisie des notes'!$G$6:$FB$50,MATCH($A$2,'2. Saisie des notes'!$A$6:$A$50,0),MATCH($A20,'2. Saisie des notes'!$G$3:$FB$3,0)+2),"")} -> 0 | G20: {=IF(H20<>"",INDEX('2. Saisie des notes'!$G$6:$FB$50,MATCH($A$2,'2. Saisie des notes'!$A$6:$A$50,0),MATCH($A20,'2. Saisie des notes'!$G$3:$FB$3,0)+3),"")} | H20: =IF(INDEX('BTS ET EPREUVES'!$A$1:$DK$21,MATCH($A20,'BTS ET EPREUVES'!$A$1:$A$21,0),MATCH('1. Informations administratives'!$S$4,'BTS ET EPREUVES'!$A$2:$DK$2,0))<>"",INDEX('BTS ET EPREUVES'!$A$1:$DK$21,MATCH($A20,'BTS ET EPREUVES'!$A$1:$A$21,0),MATCH('1. Informations administratives'!$S$4,'BTS ET EPREUVES'!$A$2:$DK$2,0)),"") -> UF4 - Épreuve facultative engagement étudiant | K20: {=IF(H20<>"",INDEX('2. Saisie des notes'!$G$6:$FB$50,MATCH($A$2,'2. Saisie des notes'!$A$6:$A$50,0),MATCH($A20,'2. Saisie des notes'!$G$3:$FB$3,0)+4),"")} -> 0 | L20: {=IF(H20<>"",INDEX('2. Saisie des notes'!$G$6:$FB$50,MATCH($A$2,'2. Saisie des notes'!$A$6:$A$50,0),MATCH($A20,'2. Saisie des notes'!$G$3:$FB$3,0)+5),"")} -> 0 | M20: {=IF(H20<>"",INDEX('2. Saisie des notes'!$G$6:$FB$50,MATCH($A$2,'2. Saisie des notes'!$A$6:$A$50,0),MATCH($A20,'2. Saisie des notes'!$G$3:$FB$3,0)+6),"")} -> 0 | N20: {=IF(H20<>"",INDEX('2. Saisie des notes'!$G$6:$FB$50,MATCH($A$2,'2. Saisie des notes'!$A$6:$A$50,0),MATCH($A20,'2. Saisie des notes'!$G$3:$FB$3,0)+7),"")} | O20: {=IF(H20<>"",INDEX('2. Saisie des notes'!$G$6:$FB$50,MATCH($A$2,'2. Saisie des notes'!$A$6:$A$50,0),MATCH(A20,'2. Saisie des notes'!$G$3:$FB$3,0)+8),"")} -> 0 | AA20: =H20 -> UF4 - Épreuve facultative engagement étudiant | AD20: {=INDEX('2. Saisie des notes'!$G$5:$FB$50,MATCH("C00",'2. Saisie des notes'!$A$5:$A$50,0),MATCH(A20,'2. Saisie des notes'!$G$3:$FB$3,0)+7)} | AE20: =N20
A21: E12 | D21: =IF(H21<>"",INDEX('2. Saisie des notes'!$G$6:$FB$50,MATCH($A$2,'2. Saisie des notes'!$A$6:$A$50,0),MATCH($A21,'2. Saisie des notes'!$G$3:$FB$3,0)),"") | E21: {=IF(H21<>"",INDEX('2. Saisie des notes'!$G$6:$FB$50,MATCH($A$2,'2. Saisie des notes'!$A$6:$A$50,0),MATCH($A21,'2. Saisie des notes'!$G$3:$FB$3,0)+1),"")} | F21: {=IF(H21<>"",INDEX('2. Saisie des notes'!$G$6:$FB$50,MATCH($A$2,'2. Saisie des notes'!$A$6:$A$50,0),MATCH($A21,'2. Saisie des notes'!$G$3:$FB$3,0)+2),"")} | G21: {=IF(H21<>"",INDEX('2. Saisie des notes'!$G$6:$FB$50,MATCH($A$2,'2. Saisie des notes'!$A$6:$A$50,0),MATCH($A21,'2. Saisie des notes'!$G$3:$FB$3,0)+3),"")} | H21: =IF(INDEX('BTS ET EPREUVES'!$A$1:$DK$21,MATCH($A21,'BTS ET EPREUVES'!$A$1:$A$21,0),MATCH('1. Informations administratives'!$S$4,'BTS ET EPREUVES'!$A$2:$DK$2,0))<>"",INDEX('BTS ET EPREUVES'!$A$1:$DK$21,MATCH($A21,'BTS ET EPREUVES'!$A$1:$A$21,0),MATCH('1. Informations administratives'!$S$4,'BTS ET EPREUVES'!$A$2:$DK$2,0)),"") | K21: {=IF(H21<>"",INDEX('2. Saisie des notes'!$G$6:$FB$50,MATCH($A$2,'2. Saisie des notes'!$A$6:$A$50,0),MATCH($A21,'2. Saisie des notes'!$G$3:$FB$3,0)+4),"")} | L21: {=IF(H21<>"",INDEX('2. Saisie des notes'!$G$6:$FB$50,MATCH($A$2,'2. Saisie des notes'!$A$6:$A$50,0),MATCH($A21,'2. Saisie des notes'!$G$3:$FB$3,0)+5),"")} | M21: {=IF(H21<>"",INDEX('2. Saisie des notes'!$G$6:$FB$50,MATCH($A$2,'2. Saisie des notes'!$A$6:$A$50,0),MATCH($A21,'2. Saisie des notes'!$G$3:$FB$3,0)+6),"")} | N21: {=IF(H21<>"",INDEX('2. Saisie des notes'!$G$6:$FB$50,MATCH($A$2,'2. Saisie des notes'!$A$6:$A$50,0),MATCH($A21,'2. Saisie des notes'!$G$3:$FB$3,0)+7),"")} | O21: {=IF(H21<>"",INDEX('2. Saisie des notes'!$G$6:$FB$50,MATCH($A$2,'2. Saisie des notes'!$A$6:$A$50,0),MATCH(A21,'2. Saisie des notes'!$G$3:$FB$3,0)+8),"")} | AA21: =H21 | AD21: {=INDEX('2. Saisie des notes'!$G$5:$FB$50,MATCH("C00",'2. Saisie des notes'!$A$5:$A$50,0),MATCH(A21,'2. Saisie des notes'!$G$3:$FB$3,0)+7)} | AE21: =N21
... A23: E14 | D23: =IF(H23<>"",INDEX('2. Saisie des notes'!$G$6:$FB$50,MATCH($A$2,'2. Saisie des notes'!$A$6:$A$50,0),MATCH($A23,'2. Saisie des notes'!$G$3:$FB$3,0)),"") | E23: {=IF(H23<>"",INDEX('2. Saisie des notes'!$G$6:$FB$50,MATCH($A$2,'2. Saisie des notes'!$A$6:$A$50,0),MATCH($A23,'2. Saisie des notes'!$G$3:$FB$3,0)+1),"")} | F23: {=IF(H23<>"",INDEX('2. Saisie des notes'!$G$6:$FB$50,MATCH($A$2,'2. Saisie des notes'!$A$6:$A$50,0),MATCH($A23,'2. Saisie des notes'!$G$3:$FB$3,0)+2),"")} | G23: {=IF(H23<>"",INDEX('2. Saisie des notes'!$G$6:$FB$50,MATCH($A$2,'2. Saisie des notes'!$A$6:$A$50,0),MATCH($A23,'2. Saisie des notes'!$G$3:$FB$3,0)+3),"")} | H23: =IF(INDEX('BTS ET EPREUVES'!$A$1:$DK$21,MATCH($A23,'BTS ET EPREUVES'!$A$1:$A$21,0),MATCH('1. Informations administratives'!$S$4,'BTS ET EPREUVES'!$A$2:$DK$2,0))<>"",INDEX('BTS ET EPREUVES'!$A$1:$DK$21,MATCH($A23,'BTS ET EPREUVES'!$A$1:$A$21,0),MATCH('1. Informations administratives'!$S$4,'BTS ET EPREUVES'!$A$2:$DK$2,0)),"") | K23: {=IF(H23<>"",INDEX('2. Saisie des notes'!$G$6:$FB$50,MATCH($A$2,'2. Saisie des notes'!$A$6:$A$50,0),MATCH($A23,'2. Saisie des notes'!$G$3:$FB$3,0)+4),"")} | L23: {=IF(H23<>"",INDEX('2. Saisie des notes'!$G$6:$FB$50,MATCH($A$2,'2. Saisie des notes'!$A$6:$A$50,0),MATCH($A23,'2. Saisie des notes'!$G$3:$FB$3,0)+5),"")} | M23: {=IF(H23<>"",INDEX('2. Saisie des notes'!$G$6:$FB$50,MATCH($A$2,'2. Saisie des notes'!$A$6:$A$50,0),MATCH($A23,'2. Saisie des notes'!$G$3:$FB$3,0)+6),"")} | N23: {=IF(H23<>"",INDEX('2. Saisie des notes'!$G$6:$FB$50,MATCH($A$2,'2. Saisie des notes'!$A$6:$A$50,0),MATCH($A23,'2. Saisie des notes'!$G$3:$FB$3,0)+7),"")} | O23: {=IF(H23<>"",INDEX('2. Saisie des notes'!$G$6:$FB$50,MATCH($A$2,'2. Saisie des notes'!$A$6:$A$50,0),MATCH(A23,'2. Saisie des notes'!$G$3:$FB$3,0)+8),"")} | AA23: =H23 | AD23: {=INDEX('2. Saisie des notes'!$G$5:$FB$50,MATCH("C00",'2. Saisie des notes'!$A$5:$A$50,0),MATCH(A23,'2. Saisie des notes'!$G$3:$FB$3,0)+7)} | AE23: =N23
A24: E15 | G24: (1) Année antérieure à celle de l'examen | M24: (2) Année de l'examen
D25: Certification de compétences numériques PIX cocher la case pour attester de l'obtention de la certification | J25: =IF(INDEX('2. Saisie des notes'!$D$6:$FB$50,MATCH($A$2,'2. Saisie des notes'!$A$6:$A$50,0),MATCH("PIX",'2. Saisie des notes'!$D$3:$FB$3,0))="OUI","X","")
D27: AVIS DU CONSEIL DE CLASSE ET OBSERVATIONS EVENTUELLES | K27: REPARTITION DES AVIS EN % | P27: Résultats des sessions précédentes | T27: DATE, SIGNATURE ET REMARQUES EVENTUELLES
D28: =INDEX('2. Saisie des notes'!$D$6:$FB$50,MATCH($A$2,'2. Saisie des notes'!$A$6:$A$50,0),MATCH("CC1",'2. Saisie des notes'!$D$3:$FB$3,0)) -> 0 | K28: Avis | N28: Effectif total de la classe | P28: Année | Q28: Présentés | R28: Recues | S28: %
K29: Très Favorable | L29: Favorable | M29: Doit faire ses preuves
D31: =IF(INDEX('2. Saisie des notes'!$D$6:$FB$50,MATCH($A$2,'2. Saisie des notes'!$A$6:$A$50,0),MATCH("CC2",'2. Saisie des notes'!$D$3:$FB$3,0))<>"",INDEX('2. Saisie des notes'!$D$6:$FB$50,MATCH($A$2,'2. Saisie des notes'!$A$6:$A$50,0),MATCH("CC2",'2. Saisie des notes'!$D$3:$FB$3,0)),"") | K31: ='2. Saisie des notes'!EF$46/'2. Saisie des notes'!$EI$46 -> #DIV/0! | L31: ='2. Saisie des notes'!EG$46/'2. Saisie des notes'!$EI$46 -> #DIV/0! | M31: ='2. Saisie des notes'!EH$46/'2. Saisie des notes'!$EI$46 -> #DIV/0! | N31: ='2. Saisie des notes'!EI46 -> 0 | P31: ='1. Informations administratives'!K11 -> 2024 | Q31: ='1. Informations administratives'!L11 -> 0 | R31: ='1. Informations administratives'!M11 -> 0 | S31: ='1. Informations administratives'!N11
P32: ='1. Informations administratives'!K12 -> 2023 | Q32: ='1. Informations administratives'!L12 -> 0 | R32: ='1. Informations administratives'!M12 -> 0 | S32: ='1. Informations administratives'!N12
P33: ='1. Informations administratives'!K13 -> 2022 | Q33: ='1. Informations administratives'!L13 -> 0 | R33: ='1. Informations administratives'!M13 -> 0 | S33: ='1. Informations administratives'!N13
F108: Visa du Président du jury (groupe 1) | S108: Visa du Président du jury (groupe 2)

Sheet C02
A2: {=RIGHT(CELL("nomfichier",A2),3)} -> C02 | D2: Examen : | F2: ='1. Informations administratives'!C3 -> BTS | I2: Année de l'examen | J2: Nom : | K2: =UPPER(INDEX('1. Informations administratives'!A8:J47,MATCH(A2,'1. Informations administratives'!A8:A47,0),2)) | O2: Prénom : | Q2: =INDEX('1. Informations administratives'!A8:J47,MATCH(A2,'1. Informations administratives'!A8:A47,0),3) -> 0 | V2: Cachet de l'établissement, date et signature du chef d'établissement :
D3: Spécialité : | F3: ='1. Informations administratives'!C4 -> Tourisme | V3: ='1. Informations administratives'!L5 -> 0
I4: ='1. Informations administratives'!L4 -> 2025 | J4: Date de naissance: | K4: =INDEX('1. Informations administratives'!$A$8:$J$47,MATCH($A$2,'1. Informations administratives'!$A$8:$A$47,0),4) -> 0 | O4: INE : | P4: =INDEX('1. Informations administratives'!A8:J47,MATCH(A2,'1. Informations administratives'!A8:A47,0),7) -> 0 | S4: Langue vivante
J5: Lieu de naissance : | K5: =INDEX('1. Informations administratives'!$A$8:$J$47,MATCH($A$2,'1. Informations administratives'!$A$8:$A$47,0),5) -> 0 | O5: INSEE : | P5: =INDEX('1. Informations administratives'!A8:J47,MATCH(A2,'1. Informations administratives'!A8:A47,0),6) -> 0 | S5: =INDEX('1. Informations administratives'!A8:J47,MATCH(A2,'1. Informations administratives'!A8:A47,0),8) -> 0
D7: Classe de 1ère année (1) | G7: ='1. Informations administratives'!L4-1 -> 2024 | H7: Enseignements | K7: Classe de 2ème année (2) | N7: ='1. Informations administratives'!L4 -> 2025 | O7: Appréciations | AD7: C00
D8: 1er trimestre | E8: 2ème trimestre | F8: 3ème trimestre | G8: Moyenne | K8: 1er trimestre | L8: 2ème trimestre | M8: 3ème trimestre | N8: Moyenne
D9: 1er semestre | E9: 2ème semestre | K9: 1er semestre | L9: 2ème semestre | AD9: Profil de la classe classe en noir | AE9: Profil du candidat en rouge
A10: E1 | D10: =IF(H10<>"",INDEX('2. Saisie des notes'!$G$6:$FB$50,MATCH($A$2,'2. Saisie des notes'!$A$6:$A$50,0),MATCH($A10,'2. Saisie des notes'!$G$3:$FB$3,0)),"") -> 0 | E10: {=IF(H10<>"",INDEX('2. Saisie des notes'!$G$6:$FB$50,MATCH($A$2,'2. Saisie des notes'!$A$6:$A$50,0),MATCH($A10,'2. Saisie des notes'!$G$3:$FB$3,0)+1),"")} -> 0 | F10: {=IF(H10<>"",INDEX('2. Saisie des notes'!$G$6:$FB$50,MATCH($A$2,'2. Saisie des notes'!$A$6:$A$50,0),MATCH($A10,'2. Saisie des notes'!$G$3:$FB$3,0)+2),"")} -> 0 | G10: {=IF(H10<>"",INDEX('2. Saisie des notes'!$G$6:$FB$50,MATCH($A$2,'2. Saisie des notes'!$A$6:$A$50,0),MATCH($A10,'2. Saisie des notes'!$G$3:$FB$3,0)+3),"")} | H10: =IF(INDEX('BTS ET EPREUVES'!$A$1:$DK$21,MATCH($A10,'BTS ET EPREUVES'!$A$1:$A$21,0),MATCH('1. Informations administratives'!$S$4,'BTS ET EPREUVES'!$A$2:$DK$2,0))<>"",INDEX('BTS ET EPREUVES'!$A$1:$DK$21,MATCH($A10,'BTS ET EPREUVES'!$A$1:$A$21,0),MATCH('1. Informations administratives'!$S$4,'BTS ET EPREUVES'!$A$2:$DK$2,0)),"") -> U1 - Culture générale et expression | K10: {=IF(H10<>"",INDEX('2. Saisie des notes'!$G$6:$FB$50,MATCH($A$2,'2. Saisie des notes'!$A$6:$A$50,0),MATCH($A10,'2. Saisie des notes'!$G$3:$FB$3,0)+4),"")} -> 0 | L10: {=IF(H10<>"",INDEX('2. Saisie des notes'!$G$6:$FB$50,MATCH($A$2,'2. Saisie des notes'!$A$6:$A$50,0),MATCH($A10,'2. Saisie des notes'!$G$3:$FB$3,0)+5),"")} -> 0 | M10: {=IF(H10<>"",INDEX('2. Saisie des notes'!$G$6:$FB$50,MATCH($A$2,'2. Saisie des notes'!$A$6:$A$50,0),MATCH($A10,'2. Saisie des notes'!$G$3:$FB$3,0)+6),"")} -> 0 | N10: {=IF(H10<>"",INDEX('2. Saisie des notes'!$G$6:$FB$50,MATCH($A$2,'2. Saisie des notes'!$A$6:$A$50,0),MATCH($A10,'2. Saisie des notes'!$G$3:$FB$3,0)+7),"")} | O10: {=IF(H10<>"",INDEX('2. Saisie des notes'!$G$6:$FB$50,MATCH($A$2,'2. Saisie des notes'!$A$6:$A$50,0),MATCH(A10,'2. Saisie des notes'!$G$3:$FB$3,0)+8),"")} -> 0 | AA10: =H10 -> U1 - Culture générale et expression | AD10: {=INDEX('2. Saisie des notes'!$G$5:$FB$50,MATCH("C00",'2. Saisie des notes'!$A$5:$A$50,0),MATCH(A10,'2. Saisie des notes'!$G$3:$FB$3,0)+7)} | AE10: =N10
A11: E2 | D11: =IF(H11<>"",INDEX('2. Saisie des notes'!$G$6:$FB$50,MATCH($A$2,'2. Saisie des notes'!$A$6:$A$50,0),MATCH($A11,'2. Saisie des notes'!$G$3:$FB$3,0)),"") -> 0 | E11: {=IF(H11<>"",INDEX('2. Saisie des notes'!$G$6:$FB$50,MATCH($A$2,'2. Saisie des notes'!$A$6:$A$50,0),MATCH($A11,'2. Saisie des notes'!$G$3:$FB$3,0)+1),"")} -> 0 | F11: {=IF(H11<>"",INDEX('2. Saisie des notes'!$G$6:$FB$50,MATCH($A$2,'2. Saisie des notes'!$A$6:$A$50,0),MATCH($A11,'2. Saisie des notes'!$G$3:$FB$3,0)+2),"")} -> 0 | G11: {=IF(H11<>"",INDEX('2. Saisie des notes'!$G$6:$FB$50,MATCH($A$2,'2. Saisie des notes'!$A$6:$A$50,0),MATCH($A11,'2. Saisie des notes'!$G$3:$FB$3,0)+3),"")} | H11: =IF(INDEX('BTS ET EPREUVES'!$A$1:$DK$21,MATCH($A11,'BTS ET EPREUVES'!$A$1:$A$21,0),MATCH('1. Informations administratives'!$S$4,'BTS ET EPREUVES'!$A$2:$DK$2,0))<>"",INDEX('BTS ET EPREUVES'!$A$1:$DK$21,MATCH($A11,'BTS ET EPREUVES'!$A$1:$A$21,0),MATCH('1. Informations administratives'!$S$4,'BTS ET EPREUVES'!$A$2:$DK$2,0)),"") -> U21 - Communication en langue vivante étrangère : anglais | K11: {=IF(H11<>"",INDEX('2. Saisie des notes'!$G$6:$FB$50,MATCH($A$2,'2. Saisie des notes'!$A$6:$A$50,0),MATCH($A11,'2. Saisie des notes'!$G$3:$FB$3,0)+4),"")} -> 0 | L11: {=IF(H11<>"",INDEX('2. Saisie des notes'!$G$6:$FB$50,MATCH($A$2,'2. Saisie des notes'!$A$6:$A$50,0),MATCH($A11,'2. Saisie des notes'!$G$3:$FB$3,0)+5),"")} -> 0 | M11: {=IF(H11<>"",INDEX('2. Saisie des notes'!$G$6:$FB$50,MATCH($A$2,'2. Saisie des notes'!$A$6:$A$50,0),MATCH($A11,'2. Saisie des notes'!$G$3:$FB$3,0)+6),"")} -> 0 | N11: {=IF(H11<>"",INDEX('2. Saisie des notes'!$G$6:$FB$50,MATCH($A$2,'2. Saisie des notes'!$A$6:$A$50,0),MATCH($A11,'2. Saisie des notes'!$G$3:$FB$3,0)+7),"")} | O11: {=IF(H11<>"",INDEX('2. Saisie des notes'!$G$6:$FB$50,MATCH($A$2,'2. Saisie des notes'!$A$6:$A$50,0),MATCH(A11,'2. Saisie des notes'!$G$3:$FB$3,0)+8),"")} -> 0 | AA11: =H11 -> U21 - Communication en langue vivante étrangère : anglais | AD11: {=INDEX('2. Saisie des notes'!$G$5:$FB$50,MATCH("C00",'2. Saisie des notes'!$A$5:$A$50,0),MATCH(A11,'2. Saisie des notes'!$G$3:$FB$3,0)+7)} | AE11: =N11
A12: E3 | D12: =IF(H12<>"",INDEX('2. Saisie des notes'!$G$6:$FB$50,MATCH($A$2,'2. Saisie des notes'!$A$6:$A$50,0),MATCH($A12,'2. Saisie des notes'!$G$3:$FB$3,0)),"") -> 0 | E12: {=IF(H12<>"",INDEX('2. Saisie des notes'!$G$6:$FB$50,MATCH($A$2,'2. Saisie des notes'!$A$6:$A$50,0),MATCH($A12,'2. Saisie des notes'!$G$3:$FB$3,0)+1),"")} -> 0 | F12: {=IF(H12<>"",INDEX('2. Saisie des notes'!$G$6:$FB$50,MATCH($A$2,'2. Saisie des notes'!$A$6:$A$50,0),MATCH($A12,'2. Saisie des notes'!$G$3:$FB$3,0)+2),"")} -> 0 | G12: {=IF(H12<>"",INDEX('2. Saisie des notes'!$G$6:$FB$50,MATCH($A$2,'2. Saisie des notes'!$A$6:$A$50,0),MATCH($A12,'2. Saisie des notes'!$G$3:$FB$3,0)+3),"")} | H12: =IF(INDEX('BTS ET EPREUVES'!$A$1:$DK$21,MATCH($A12,'BTS ET EPREUVES'!$A$1:$A$21,0),MATCH('1. Informations administratives'!$S$4,'BTS ET EPREUVES'!$A$2:$DK$2,0))<>"",INDEX('BTS ET EPREUVES'!$A$1:$DK$21,MATCH($A12,'BTS ET EPREUVES'!$A$1:$A$21,0),MATCH('1. Informations administratives'!$S$4,'BTS ET EPREUVES'!$A$2:$DK$2,0)),"") -> U22 - Communication en langue vivante étrangère : langue B | K12: {=IF(H12<>"",INDEX('2. Saisie des notes'!$G$6:$FB$50,MATCH($A$2,'2. Saisie des notes'!$A$6:$A$50,0),MATCH($A12,'2. Saisie des notes'!$G$3:$FB$3,0)+4),"")} -> 0 | L12: {=IF(H12<>"",INDEX('2. Saisie des notes'!$G$6:$FB$50,MATCH($A$2,'2. Saisie des notes'!$A$6:$A$50,0),MATCH($A12,'2. Saisie des notes'!$G$3:$FB$3,0)+5),"")} -> 0 | M12: {=IF(H12<>"",INDEX('2. Saisie des notes'!$G$6:$FB$50,MATCH($A$2,'2. Saisie des notes'!$A$6:$A$50,0),MATCH($A12,'2. Saisie des notes'!$G$3:$FB$3,0)+6),"")} -> 0 | N12: {=IF(H12<>"",INDEX('2. Saisie des notes'!$G$6:$FB$50,MATCH($A$2,'2. Saisie des notes'!$A$6:$A$50,0),MATCH($A12,'2. Saisie des notes'!$G$3:$FB$3,0)+7),"")} | O12: {=IF(H12<>"",INDEX('2. Saisie des notes'!$G$6:$FB$50,MATCH($A$2,'2. Saisie des notes'!$A$6:$A$50,0),MATCH(A12,'2. Saisie des notes'!$G$3:$FB$3,0)+8),"")} -> 0 | AA12: =H12 -> U22 - Communication en langue vivante étrangère : langue B | AD12: {=INDEX('2. Saisie des notes'!$G$5:$FB$50,MATCH("C00",'2. Saisie des notes'!$A$5:$A$50,0),MATCH(A12,'2. Saisie des notes'!$G$3:$FB$3,0)+7)} | AE12: =N12
A13: E4 | D13: =IF(H13<>"",INDEX('2. Saisie des notes'!$G$6:$FB$50,MATCH($A$2,'2. Saisie des notes'!$A$6:$A$50,0),MATCH($A13,'2. Saisie des notes'!$G$3:$FB$3,0)),"") -> 0 | E13: {=IF(H13<>"",INDEX('2. Saisie des notes'!$G$6:$FB$50,MATCH($A$2,'2. Saisie des notes'!$A$6:$A$50,0),MATCH($A13,'2. Saisie des notes'!$G$3:$FB$3,0)+1),"")} -> 0 | F13: {=IF(H13<>"",INDEX('2. Saisie des notes'!$G$6:$FB$50,MATCH($A$2,'2. Saisie des notes'!$A$6:$A$50,0),MATCH($A13,'2. Saisie des notes'!$G$3:$FB$3,0)+2),"")} -> 0 | G13: {=IF(H13<>"",INDEX('2. Saisie des notes'!$G$6:$FB$50,MATCH($A$2,'2. Saisie des notes'!$A$6:$A$50,0),MATCH($A13,'2. Saisie des notes'!$G$3:$FB$3,0)+3),"")} | H13: =IF(INDEX('BTS ET EPREUVES'!$A$1:$DK$21,MATCH($A13,'BTS ET EPREUVES'!$A$1:$A$21,0),MATCH('1. Informations administratives'!$S$4,'BTS ET EPREUVES'!$A$2:$DK$2,0))<>"",INDEX('BTS ET EPREUVES'!$A$1:$DK$21,MATCH($A13,'BTS ET EPREUVES'!$A$1:$A$21,0),MATCH('1. Informations administratives'!$S$4,'BTS ET EPREUVES'!$A$2:$DK$2,0)),"") -> U3 - Tourisme et territoires | K13: {=IF(H13<>"",INDEX('2. Saisie des notes'!$G$6:$FB$50,MATCH($A$2,'2. Saisie des notes'!$A$6:$A$50,0),MATCH($A13,'2. Saisie des notes'!$G$3:$FB$3,0)+4),"")} -> 0 | L13: {=IF(H13<>"",INDEX('2. Saisie des notes'!$G$6:$FB$50,MATCH($A$2,'2. Saisie des notes'!$A$6:$A$50,0),MATCH($A13,'2. Saisie des notes'!$G$3:$FB$3,0)+5),"")} -> 0 | M13: {=IF(H13<>"",INDEX('2. Saisie des notes'!$G$6:$FB$50,MATCH($A$2,'2. Saisie des notes'!$A$6:$A$50,0),MATCH($A13,'2. Saisie des notes'!$G$3:$FB$3,0)+6),"")} -> 0 | N13: {=IF(H13<>"",INDEX('2. Saisie des notes'!$G$6:$FB$50,MATCH($A$2,'2. Saisie des notes'!$A$6:$A$50,0),MATCH($A13,'2. Saisie des notes'!$G$3:$FB$3,0)+7),"")} | O13: {=IF(H13<>"",INDEX('2. Saisie des notes'!$G$6:$FB$50,MATCH($A$2,'2. Saisie des notes'!$A$6:$A$50,0),MATCH(A13,'2. Saisie des notes'!$G$3:$FB$3,0)+8),"")} -> 0 | AA13: =H13 -> U3 - Tourisme et territoires | AD13: {=INDEX('2. Saisie des notes'!$G$5:$FB$50,MATCH("C00",'2. Saisie des notes'!$A$5:$A$50,0),MATCH(A13,'2. Saisie des notes'!$G$3:$FB$3,0)+7)} | AE13: =N13
A14: E5 | D14: =IF(H14<>"",INDEX('2. Saisie des notes'!$G$6:$FB$50,MATCH($A$2,'2. Saisie des notes'!$A$6:$A$50,0),MATCH($A14,'2. Saisie des notes'!$G$3:$FB$3,0)),"") -> 0 | E14: {=IF(H14<>"",INDEX('2. Saisie des notes'!$G$6:$FB$50,MATCH($A$2,'2. Saisie des notes'!$A$6:$A$50,0),MATCH($A14,'2. Saisie des notes'!$G$3:$FB$3,0)+1),"")} -> 0 | F14: {=IF(H14<>"",INDEX('2. Saisie des notes'!$G$6:$FB$50,MATCH($A$2,'2. Saisie des notes'!$A$6:$A$50,0),MATCH($A14,'2. Saisie des notes'!$G$3:$FB$3,0)+2),"")} -> 0 | G14: {=IF(H14<>"",INDEX('2. Saisie des notes'!$G$6:$FB$50,MATCH($A$2,'2. Saisie des notes'!$A$6:$A$50,0),MATCH($A14,'2. Saisie des notes'!$G$3:$FB$3,0)+3),"")} | H14: =IF(INDEX('BTS ET EPREUVES'!$A$1:$DK$21,MATCH($A14,'BTS ET EPREUVES'!$A$1:$A$21,0),MATCH('1. Informations administratives'!$S$4,'BTS ET EPREUVES'!$A$2:$DK$2,0))<>"",INDEX('BTS ET EPREUVES'!$A$1:$DK$21,MATCH($A14,'BTS ET EPREUVES'!$A$1:$A$21,0),MATCH('1. Informations administratives'!$S$4,'BTS ET EPREUVES'!$A$2:$DK$2,0)),"") -> U4 - Gestion de la relation clientèle touristique | K14: {=IF(H14<>"",INDEX('2. Saisie des notes'!$G$6:$FB$50,MATCH($A$2,'2. Saisie des notes'!$A$6:$A$50,0),MATCH($A14,'2. Saisie des notes'!$G$3:$FB$3,0)+4),"")} -> 0 | L14: {=IF(H14<>"",INDEX('2. Saisie des notes'!$G$6:$FB$50,MATCH($A$2,'2. Saisie des notes'!$A$6:$A$50,0),MATCH($A14,'2. Saisie des notes'!$G$3:$FB$3,0)+5),"")} -> 0 | M14: {=IF(H14<>"",INDEX('2. Saisie des notes'!$G$6:$FB$50,MATCH($A$2,'2. Saisie des notes'!$A$6:$A$50,0),MATCH($A14,'2. Saisie des notes'!$G$3:$FB$3,0)+6),"")} -> 0 | N14: {=IF(H14<>"",INDEX('2. Saisie des notes'!$G$6:$FB$50,MATCH($A$2,'2. Saisie des notes'!$A$6:$A$50,0),MATCH($A14,'2. Saisie des notes'!$G$3:$FB$3,0)+7),"")} | O14: {=IF(H14<>"",INDEX('2. Saisie des notes'!$G$6:$FB$50,MATCH($A$2,'2. Saisie des notes'!$A$6:$A$50,0),MATCH(A14,'2. Saisie des notes'!$G$3:$FB$3,0)+8),"")} -> 0 | AA14: =H14 -> U4 - Gestion de la relation clientèle touristique | AD14: {=INDEX('2. Saisie des notes'!$G$5:$FB$50,MATCH("C00",'2. Saisie des notes'!$A$5:$A$50,0),MATCH(A14,'2. Saisie des notes'!$G$3:$FB$3,0)+7)} | AE14: =N14
A15: E6 | D15: =IF(H15<>"",INDEX('2. Saisie des notes'!$G$6:$FB$50,MATCH($A$2,'2. Saisie des notes'!$A$6:$A$50,0),MATCH($A15,'2. Saisie des notes'!$G$3:$FB$3,0)),"") -> 0 | E15: {=IF(H15<>"",INDEX('2. Saisie des notes'!$G$6:$FB$50,MATCH($A$2,'2. Saisie des notes'!$A$6:$A$50,0),MATCH($A15,'2. Saisie des notes'!$G$3:$FB$3,0)+1),"")} -> 0 | F15: {=IF(H15<>"",INDEX('2. Saisie des notes'!$G$6:$FB$50,MATCH($A$2,'2. Saisie des notes'!$A$6:$A$50,0),MATCH($A15,'2. Saisie des notes'!$G$3:$FB$3,0)+2),"")} -> 0 | G15: {=IF(H15<>"",INDEX('2. Saisie des notes'!$G$6:$FB$50,MATCH($A$2,'2. Saisie des notes'!$A$6:$A$50,0),MATCH($A15,'2. Saisie des notes'!$G$3:$FB$3,0)+3),"")} | H15: =IF(INDEX('BTS ET EPREUVES'!$A$1:$DK$21,MATCH($A15,'BTS ET EPREUVES'!$A$1:$A$21,0),MATCH('1. Informations administratives'!$S$4,'BTS ET EPREUVES'!$A$2:$DK$2,0))<>"",INDEX('BTS ET EPREUVES'!$A$1:$DK$21,MATCH($A15,'BTS ET EPREUVES'!$A$1:$A$21,0),MATCH('1. Informations administratives'!$S$4,'BTS ET EPREUVES'!$A$2:$DK$2,0)),"") -> U5 - Élaboration d’une prestation touristique | K15: {=IF(H15<>"",INDEX('2. Saisie des notes'!$G$6:$FB$50,MATCH($A$2,'2. Saisie des notes'!$A$6:$A$50,0),MATCH($A15,'2. Saisie des notes'!$G$3:$FB$3,0)+4),"")} -> 0 | L15: {=IF(H15<>"",INDEX('2. Saisie des notes'!$G$6:$FB$50,MATCH($A$2,'2. Saisie des notes'!$A$6:$A$50,0),MATCH($A15,'2. Saisie des notes'!$G$3:$FB$3,0)+5),"")} -> 0 | M15: {=IF(H15<>"",INDEX('2. Saisie des notes'!$G$6:$FB$50,MATCH($A$2,'2. Saisie des notes'!$A$6:$A$50,0),MATCH($A15,'2. Saisie des notes'!$G$3:$FB$3,0)+6),"")} -> 0 | N15: {=IF(H15<>"",INDEX('2. Saisie des notes'!$G$6:$FB$50,MATCH($A$2,'2. Saisie des notes'!$A$6:$A$50,0),MATCH($A15,'2. Saisie des notes'!$G$3:$FB$3,0)+7),"")} | O15: {=IF(H15<>"",INDEX('2. Saisie des notes'!$G$6:$FB$50,MATCH($A$2,'2. Saisie des notes'!$A$6:$A$50,0),MATCH(A15,'2. Saisie des notes'!$G$3:$FB$3,0)+8),"")} -> 0 | AA15: =H15 -> U5 - Élaboration d’une prestation touristique | AD15: {=INDEX('2. Saisie des notes'!$G$5:$FB$50,MATCH("C00",'2. Saisie des notes'!$A$5:$A$50,0),MATCH(A15,'2. Saisie des notes'!$G$3:$FB$3,0)+7)} | AE15: =N15
A16: E7 | D16: =IF(H16<>"",INDEX('2. Saisie des notes'!$G$6:$FB$50,MATCH($A$2,'2. Saisie des notes'!$A$6:$A$50,0),MATCH($A16,'2. Saisie des notes'!$G$3:$FB$3,0)),"") -> 0 | E16: {=IF(H16<>"",INDEX('2. Saisie des notes'!$G$6:$FB$50,MATCH($A$2,'2. Saisie des notes'!$A$6:$A$50,0),MATCH($A16,'2. Saisie des notes'!$G$3:$FB$3,0)+1),"")} -> 0 | F16: {=IF(H16<>"",INDEX('2. Saisie des notes'!$G$6:$FB$50,MATCH($A$2,'2. Saisie des notes'!$A$6:$A$50,0),MATCH($A16,'2. Saisie des notes'!$G$3:$FB$3,0)+2),"")} -> 0 | G16: {=IF(H16<>"",INDEX('2. Saisie des notes'!$G$6:$FB$50,MATCH($A$2,'2. Saisie des notes'!$A$6:$A$50,0),MATCH($A16,'2. Saisie des notes'!$G$3:$FB$3,0)+3),"")} | H16: =IF(INDEX('BTS ET EPREUVES'!$A$1:$DK$21,MATCH($A16,'BTS ET EPREUVES'!$A$1:$A$21,0),MATCH('1. Informations administratives'!$S$4,'BTS ET EPREUVES'!$A$2:$DK$2,0))<>"",INDEX('BTS ET EPREUVES'!$A$1:$DK$21,MATCH($A16,'BTS ET EPREUVES'!$A$1:$A$21,0),MATCH('1. Informations administratives'!$S$4,'BTS ET EPREUVES'!$A$2:$DK$2,0)),"") -> U6 - Gestion de l’information touristique | K16: {=IF(H16<>"",INDEX('2. Saisie des notes'!$G$6:$FB$50,MATCH($A$2,'2. Saisie des notes'!$A$6:$A$50,0),MATCH($A16,'2. Saisie des notes'!$G$3:$FB$3,0)+4),"")} -> 0 | L16: {=IF(H16<>"",INDEX('2. Saisie des notes'!$G$6:$FB$50,MATCH($A$2,'2. Saisie des notes'!$A$6:$A$50,0),MATCH($A16,'2. Saisie des notes'!$G$3:$FB$3,0)+5),"")} -> 0 | M16: {=IF(H16<>"",INDEX('2. Saisie des notes'!$G$6:$FB$50,MATCH($A$2,'2. Saisie des notes'!$A$6:$A$50,0),MATCH($A16,'2. Saisie des notes'!$G$3:$FB$3,0)+6),"")} -> 0 | N16: {=IF(H16<>"",INDEX('2. Saisie des notes'!$G$6:$FB$50,MATCH($A$2,'2. Saisie des notes'!$A$6:$A$50,0),MATCH($A16,'2. Saisie des notes'!$G$3:$FB$3,0)+7),"")} | O16: {=IF(H16<>"",INDEX('2. Saisie des notes'!$G$6:$FB$50,MATCH($A$2,'2. Saisie des notes'!$A$6:$A$50,0),MATCH(A16,'2. Saisie des notes'!$G$3:$FB$3,0)+8),"")} -> 0 | AA16: =H16 -> U6 - Gestion de l’information touristique | AD16: {=INDEX('2. Saisie des notes'!$G$5:$FB$50,MATCH("C00",'2. Saisie des notes'!$A$5:$A$50,0),MATCH(A16,'2. Saisie des notes'!$G$3:$FB$3,0)+7)} | AE16: =N16
A17: E8 | D17: =IF(H17<>"",INDEX('2. Saisie des notes'!$G$6:$FB$50,MATCH($A$2,'2. Saisie des notes'!$A$6:$A$50,0),MATCH($A17,'2. Saisie des notes'!$G$3:$FB$3,0)),"") -> 0 | E17: {=IF(H17<>"",INDEX('2. Saisie des notes'!$G$6:$FB$50,MATCH($A$2,'2. Saisie des notes'!$A$6:$A$50,0),MATCH($A17,'2. Saisie des notes'!$G$3:$FB$3,0)+1),"")} -> 0 | F17: {=IF(H17<>"",INDEX('2. Saisie des notes'!$G$6:$FB$50,MATCH($A$2,'2. Saisie des notes'!$A$6:$A$50,0),MATCH($A17,'2. Saisie des notes'!$G$3:$FB$3,0)+2),"")} -> 0 | G17: {=IF(H17<>"",INDEX('2. Saisie des notes'!$G$6:$FB$50,MATCH($A$2,'2. Saisie des notes'!$A$6:$A$50,0),MATCH($A17,'2. Saisie des notes'!$G$3:$FB$3,0)+3),"")} | H17: =IF(INDEX('BTS ET EPREUVES'!$A$1:$DK$21,MATCH($A17,'BTS ET EPREUVES'!$A$1:$A$21,0),MATCH('1. Informations administratives'!$S$4,'BTS ET EPREUVES'!$A$2:$DK$2,0))<>"",INDEX('BTS ET EPREUVES'!$A$1:$DK$21,MATCH($A17,'BTS ET EPREUVES'!$A$1:$A$21,0),MATCH('1. Informations administratives'!$S$4,'BTS ET EPREUVES'!$A$2:$DK$2,0)),"") -> UF1 - Unité facultative Communication en langue vivante étrangère : langue C | K17: {=IF(H17<>"",INDEX('2. Saisie des notes'!$G$6:$FB$50,MATCH($A$2,'2. Saisie des notes'!$A$6:$A$50,0),MATCH($A17,'2. Saisie des notes'!$G$3:$FB$3,0)+4),"")} -> 0 | L17: {=IF(H17<>"",INDEX('2. Saisie des notes'!$G$6:$FB$50,MATCH($A$2,'2. Saisie des notes'!$A$6:$A$50,0),MATCH($A17,'2. Saisie des notes'!$G$3:$FB$3,0)+5),"")} -> 0 | M17: {=IF(H17<>"",INDEX('2. Saisie des notes'!$G$6:$FB$50,MATCH($A$2,'2. Saisie des notes'!$A$6:$A$50,0),MATCH($A17,'2. Saisie des notes'!$G$3:$FB$3,0)+6),"")} -> 0 | N17: {=IF(H17<>"",INDEX('2. Saisie des notes'!$G$6:$FB$50,MATCH($A$2,'2. Saisie des notes'!$A$6:$A$50,0),MATCH($A17,'2. Saisie des notes'!$G$3:$FB$3,0)+7),"")} | O17: {=IF(H17<>"",INDEX('2. Saisie des notes'!$G$6:$FB$50,MATCH($A$2,'2. Saisie des notes'!$A$6:$A$50,0),MATCH(A17,'2. Saisie des notes'!$G$3:$FB$3,0)+8),"")} -> 0 | AA17: =H17 -> UF1 - Unité facultative Communication en langue vivante étrangère : langue C | AD17: {=INDEX('2. Saisie des notes'!$G$5:$FB$50,MATCH("C00",'2. Saisie des notes'!$A$5:$A$50,0),MATCH(A17,'2. Saisie des notes'!$G$3:$FB$3,0)+7)} | AE17: =N17
A18: E9 | D18: =IF(H18<>"",INDEX('2. Saisie des notes'!$G$6:$FB$50,MATCH($A$2,'2. Saisie des notes'!$A$6:$A$50,0),MATCH($A18,'2. Saisie des notes'!$G$3:$FB$3,0)),"") -> 0 | E18: {=IF(H18<>"",INDEX('2. Saisie des notes'!$G$6:$FB$50,MATCH($A$2,'2. Saisie des notes'!$A$6:$A$50,0),MATCH($A18,'2. Saisie des notes'!$G$3:$FB$3,0)+1),"")} -> 0 | F18: {=IF(H18<>"",INDEX('2. Saisie des notes'!$G$6:$FB$50,MATCH($A$2,'2. Saisie des notes'!$A$6:$A$50,0),MATCH($A18,'2. Saisie des notes'!$G$3:$FB$3,0)+2),"")} -> 0 | G18: {=IF(H18<>"",INDEX('2. Saisie des notes'!$G$6:$FB$50,MATCH($A$2,'2. Saisie des notes'!$A$6:$A$50,0),MATCH($A18,'2. Saisie des notes'!$G$3:$FB$3,0)+3),"")} | H18: =IF(INDEX('BTS ET EPREUVES'!$A$1:$DK$21,MATCH($A18,'BTS ET EPREUVES'!$A$1:$A$21,0),MATCH('1. Informations administratives'!$S$4,'BTS ET EPREUVES'!$A$2:$DK$2,0))<>"",INDEX('BTS ET EPREUVES'!$A$1:$DK$21,MATCH($A18,'BTS ET EPREUVES'!$A$1:$A$21,0),MATCH('1. Informations administratives'!$S$4,'BTS ET EPREUVES'!$A$2:$DK$2,0)),"") -> UF2 - Unité facultative Parcours de professionnalisation à l’étranger | K18: {=IF(H18<>"",INDEX('2. Saisie des notes'!$G$6:$FB$50,MATCH($A$2,'2. Saisie des notes'!$A$6:$A$50,0),MATCH($A18,'2. Saisie des notes'!$G$3:$FB$3,0)+4),"")} -> 0 | L18: {=IF(H18<>"",INDEX('2. Saisie des notes'!$G$6:$FB$50,MATCH($A$2,'2. Saisie des notes'!$A$6:$A$50,0),MATCH($A18,'2. Saisie des notes'!$G$3:$FB$3,0)+5),"")} -> 0 | M18: {=IF(H18<>"",INDEX('2. Saisie des notes'!$G$6:$FB$50,MATCH($A$2,'2. Saisie des notes'!$A$6:$A$50,0),MATCH($A18,'2. Saisie des notes'!$G$3:$FB$3,0)+6),"")} -> 0 | N18: {=IF(H18<>"",INDEX('2. Saisie des notes'!$G$6:$FB$50,MATCH($A$2,'2. Saisie des notes'!$A$6:$A$50,0),MATCH($A18,'2. Saisie des notes'!$G$3:$FB$3,0)+7),"")} | O18: {=IF(H18<>"",INDEX('2. Saisie des notes'!$G$6:$FB$50,MATCH($A$2,'2. Saisie des notes'!$A$6:$A$50,0),MATCH(A18,'2. Saisie des notes'!$G$3:$FB$3,0)+8),"")} -> 0 | AA18: =H18 -> UF2 - Unité facultative Parcours de professionnalisation à l’étranger | AD18: {=INDEX('2. Saisie des notes'!$G$5:$FB$50,MATCH("C00",'2. Saisie des notes'!$A$5:$A$50,0),MATCH(A18,'2. Saisie des notes'!$G$3:$FB$3,0)+7)} | AE18: =N18
A19: E10 | D19: =IF(H19<>"",INDEX('2. Saisie des notes'!$G$6:$FB$50,MATCH($A$2,'2. Saisie des notes'!$A$6:$A$50,0),MATCH($A19,'2. Saisie des notes'!$G$3:$FB$3,0)),"") -> 0 | E19: {=IF(H19<>"",INDEX('2. Saisie des notes'!$G$6:$FB$50,MATCH($A$2,'2. Saisie des notes'!$A$6:$A$50,0),MATCH($A19,'2. Saisie des notes'!$G$3:$FB$3,0)+1),"")} -> 0 | F19: {=IF(H19<>"",INDEX('2. Saisie des notes'!$G$6:$FB$50,MATCH($A$2,'2. Saisie des notes'!$A$6:$A$50,0),MATCH($A19,'2. Saisie des notes'!$G$3:$FB$3,0)+2),"")} -> 0 | G19: {=IF(H19<>"",INDEX('2. Saisie des notes'!$G$6:$FB$50,MATCH($A$2,'2. Saisie des notes'!$A$6:$A$50,0),MATCH($A19,'2. Saisie des notes'!$G$3:$FB$3,0)+3),"")} | H19: =IF(INDEX('BTS ET EPREUVES'!$A$1:$DK$21,MATCH($A19,'BTS ET EPREUVES'!$A$1:$A$21,0),MATCH('1. Informations administratives'!$S$4,'BTS ET EPREUVES'!$A$2:$DK$2,0))<>"",INDEX('BTS ET EPREUVES'!$A$1:$DK$21,MATCH($A19,'BTS ET EPREUVES'!$A$1:$A$21,0),MATCH('1. Informations administratives'!$S$4,'BTS ET EPREUVES'!$A$2:$DK$2,0)),"") -> UF3 - Unité facultative Projet de spécialisation | K19: {=IF(H19<>"",INDEX('2. Saisie des notes'!$G$6:$FB$50,MATCH($A$2,'2. Saisie des notes'!$A$6:$A$50,0),MATCH($A19,'2. Saisie des notes'!$G$3:$FB$3,0)+4),"")} -> 0 | L19: {=IF(H19<>"",INDEX('2. Saisie des notes'!$G$6:$FB$50,MATCH($A$2,'2. Saisie des notes'!$A$6:$A$50,0),MATCH($A19,'2. Saisie des notes'!$G$3:$FB$3,0)+5),"")} -> 0 | M19: {=IF(H19<>"",INDEX('2. Saisie des notes'!$G$6:$FB$50,MATCH($A$2,'2. Saisie des notes'!$A$6:$A$50,0),MATCH($A19,'2. Saisie des notes'!$G$3:$FB$3,0)+6),"")} -> 0 | N19: {=IF(H19<>"",INDEX('2. Saisie des notes'!$G$6:$FB$50,MATCH($A$2,'2. Saisie des notes'!$A$6:$A$50,0),MATCH($A19,'2. Saisie des notes'!$G$3:$FB$3,0)+7),"")} | O19: {=IF(H19<>"",INDEX('2. Saisie des notes'!$G$6:$FB$50,MATCH($A$2,'2. Saisie des notes'!$A$6:$A$50,0),MATCH(A19,'2. Saisie des notes'!$G$3:$FB$3,0)+8),"")} -> 0 | AA19: =H19 -> UF3 - Unité facultative Projet de spécialisation | AD19: {=INDEX('2. Saisie des notes'!$G$5:$FB$50,MATCH("C00",'2. Saisie des notes'!$A$5:$A$50,0),MATCH(A19,'2. Saisie des notes'!$G$3:$FB$3,0)+7)} | AE19: =N19
A20: E11 | D20: =IF(H20<>"",INDEX('2. Saisie des notes'!$G$6:$FB$50,MATCH($A$2,'2. Saisie des notes'!$A$6:$A$50,0),MATCH($A20,'2. Saisie des notes'!$G$3:$FB$3,0)),"") -> 0 | E20: {=IF(H20<>"",INDEX('2. Saisie des notes'!$G$6:$FB$50,MATCH($A$2,'2. Saisie des notes'!$A$6:$A$50,0),MATCH($A20,'2. Saisie des notes'!$G$3:$FB$3,0)+1),"")} -> 0 | F20: {=IF(H20<>"",INDEX('2. Saisie des notes'!$G$6:$FB$50,MATCH($A$2,'2. Saisie des notes'!$A$6:$A$50,0),MATCH($A20,'2. Saisie des notes'!$G$3:$FB$3,0)+2),"")} -> 0 | G20: {=IF(H20<>"",INDEX('2. Saisie des notes'!$G$6:$FB$50,MATCH($A$2,'2. Saisie des notes'!$A$6:$A$50,0),MATCH($A20,'2. Saisie des notes'!$G$3:$FB$3,0)+3),"")} | H20: =IF(INDEX('BTS ET EPREUVES'!$A$1:$DK$21,MATCH($A20,'BTS ET EPREUVES'!$A$1:$A$21,0),MATCH('1. Informations administratives'!$S$4,'BTS ET EPREUVES'!$A$2:$DK$2,0))<>"",INDEX('BTS ET EPREUVES'!$A$1:$DK$21,MATCH($A20,'BTS ET EPREUVES'!$A$1:$A$21,0),MATCH('1. Informations administratives'!$S$4,'BTS ET EPREUVES'!$A$2:$DK$2,0)),"") -> UF4 - Épreuve facultative engagement étudiant | K20: {=IF(H20<>"",INDEX('2. Saisie des notes'!$G$6:$FB$50,MATCH($A$2,'2. Saisie des notes'!$A$6:$A$50,0),MATCH($A20,'2. Saisie des notes'!$G$3:$FB$3,0)+4),"")} -> 0 | L20: {=IF(H20<>"",INDEX('2. Saisie des notes'!$G$6:$FB$50,MATCH($A$2,'2. Saisie des notes'!$A$6:$A$50,0),MATCH($A20,'2. Saisie des notes'!$G$3:$FB$3,0)+5),"")} -> 0 | M20: {=IF(H20<>"",INDEX('2. Saisie des notes'!$G$6:$FB$50,MATCH($A$2,'2. Saisie des notes'!$A$6:$A$50,0),MATCH($A20,'2. Saisie des notes'!$G$3:$FB$3,0)+6),"")} -> 0 | N20: {=IF(H20<>"",INDEX('2. Saisie des notes'!$G$6:$FB$50,MATCH($A$2,'2. Saisie des notes'!$A$6:$A$50,0),MATCH($A20,'2. Saisie des notes'!$G$3:$FB$3,0)+7),"")} | O20: {=IF(H20<>"",INDEX('2. Saisie des notes'!$G$6:$FB$50,MATCH($A$2,'2. Saisie des notes'!$A$6:$A$50,0),MATCH(A20,'2. Saisie des notes'!$G$3:$FB$3,0)+8),"")} -> 0 | AA20: =H20 -> UF4 - Épreuve facultative engagement étudiant | AD20: {=INDEX('2. Saisie des notes'!$G$5:$FB$50,MATCH("C00",'2. Saisie des notes'!$A$5:$A$50,0),MATCH(A20,'2. Saisie des notes'!$G$3:$FB$3,0)+7)} | AE20: =N20
A21: E12 | D21: =IF(H21<>"",INDEX('2. Saisie des notes'!$G$6:$FB$50,MATCH($A$2,'2. Saisie des notes'!$A$6:$A$50,0),MATCH($A21,'2. Saisie des notes'!$G$3:$FB$3,0)),"") | E21: {=IF(H21<>"",INDEX('2. Saisie des notes'!$G$6:$FB$50,MATCH($A$2,'2. Saisie des notes'!$A$6:$A$50,0),MATCH($A21,'2. Saisie des notes'!$G$3:$FB$3,0)+1),"")} | F21: {=IF(H21<>"",INDEX('2. Saisie des notes'!$G$6:$FB$50,MATCH($A$2,'2. Saisie des notes'!$A$6:$A$50,0),MATCH($A21,'2. Saisie des notes'!$G$3:$FB$3,0)+2),"")} | G21: {=IF(H21<>"",INDEX('2. Saisie des notes'!$G$6:$FB$50,MATCH($A$2,'2. Saisie des notes'!$A$6:$A$50,0),MATCH($A21,'2. Saisie des notes'!$G$3:$FB$3,0)+3),"")} | H21: =IF(INDEX('BTS ET EPREUVES'!$A$1:$DK$21,MATCH($A21,'BTS ET EPREUVES'!$A$1:$A$21,0),MATCH('1. Informations administratives'!$S$4,'BTS ET EPREUVES'!$A$2:$DK$2,0))<>"",INDEX('BTS ET EPREUVES'!$A$1:$DK$21,MATCH($A21,'BTS ET EPREUVES'!$A$1:$A$21,0),MATCH('1. Informations administratives'!$S$4,'BTS ET EPREUVES'!$A$2:$DK$2,0)),"") | K21: {=IF(H21<>"",INDEX('2. Saisie des notes'!$G$6:$FB$50,MATCH($A$2,'2. Saisie des notes'!$A$6:$A$50,0),MATCH($A21,'2. Saisie des notes'!$G$3:$FB$3,0)+4),"")} | L21: {=IF(H21<>"",INDEX('2. Saisie des notes'!$G$6:$FB$50,MATCH($A$2,'2. Saisie des notes'!$A$6:$A$50,0),MATCH($A21,'2. Saisie des notes'!$G$3:$FB$3,0)+5),"")} | M21: {=IF(H21<>"",INDEX('2. Saisie des notes'!$G$6:$FB$50,MATCH($A$2,'2. Saisie des notes'!$A$6:$A$50,0),MATCH($A21,'2. Saisie des notes'!$G$3:$FB$3,0)+6),"")} | N21: {=IF(H21<>"",INDEX('2. Saisie des notes'!$G$6:$FB$50,MATCH($A$2,'2. Saisie des notes'!$A$6:$A$50,0),MATCH($A21,'2. Saisie des notes'!$G$3:$FB$3,0)+7),"")} | O21: {=IF(H21<>"",INDEX('2. Saisie des notes'!$G$6:$FB$50,MATCH($A$2,'2. Saisie des notes'!$A$6:$A$50,0),MATCH(A21,'2. Saisie des notes'!$G$3:$FB$3,0)+8),"")} | AA21: =H21 | AD21: {=INDEX('2. Saisie des notes'!$G$5:$FB$50,MATCH("C00",'2. Saisie des notes'!$A$5:$A$50,0),MATCH(A21,'2. Saisie des notes'!$G$3:$FB$3,0)+7)} | AE21: =N21
... A23: E14 | D23: =IF(H23<>"",INDEX('2. Saisie des notes'!$G$6:$FB$50,MATCH($A$2,'2. Saisie des notes'!$A$6:$A$50,0),MATCH($A23,'2. Saisie des notes'!$G$3:$FB$3,0)),"") | E23: {=IF(H23<>"",INDEX('2. Saisie des notes'!$G$6:$FB$50,MATCH($A$2,'2. Saisie des notes'!$A$6:$A$50,0),MATCH($A23,'2. Saisie des notes'!$G$3:$FB$3,0)+1),"")} | F23: {=IF(H23<>"",INDEX('2. Saisie des notes'!$G$6:$FB$50,MATCH($A$2,'2. Saisie des notes'!$A$6:$A$50,0),MATCH($A23,'2. Saisie des notes'!$G$3:$FB$3,0)+2),"")} | G23: {=IF(H23<>"",INDEX('2. Saisie des notes'!$G$6:$FB$50,MATCH($A$2,'2. Saisie des notes'!$A$6:$A$50,0),MATCH($A23,'2. Saisie des notes'!$G$3:$FB$3,0)+3),"")} | H23: =IF(INDEX('BTS ET EPREUVES'!$A$1:$DK$21,MATCH($A23,'BTS ET EPREUVES'!$A$1:$A$21,0),MATCH('1. Informations administratives'!$S$4,'BTS ET EPREUVES'!$A$2:$DK$2,0))<>"",INDEX('BTS ET EPREUVES'!$A$1:$DK$21,MATCH($A23,'BTS ET EPREUVES'!$A$1:$A$21,0),MATCH('1. Informations administratives'!$S$4,'BTS ET EPREUVES'!$A$2:$DK$2,0)),"") | K23: {=IF(H23<>"",INDEX('2. Saisie des notes'!$G$6:$FB$50,MATCH($A$2,'2. Saisie des notes'!$A$6:$A$50,0),MATCH($A23,'2. Saisie des notes'!$G$3:$FB$3,0)+4),"")} | L23: {=IF(H23<>"",INDEX('2. Saisie des notes'!$G$6:$FB$50,MATCH($A$2,'2. Saisie des notes'!$A$6:$A$50,0),MATCH($A23,'2. Saisie des notes'!$G$3:$FB$3,0)+5),"")} | M23: {=IF(H23<>"",INDEX('2. Saisie des notes'!$G$6:$FB$50,MATCH($A$2,'2. Saisie des notes'!$A$6:$A$50,0),MATCH($A23,'2. Saisie des notes'!$G$3:$FB$3,0)+6),"")} | N23: {=IF(H23<>"",INDEX('2. Saisie des notes'!$G$6:$FB$50,MATCH($A$2,'2. Saisie des notes'!$A$6:$A$50,0),MATCH($A23,'2. Saisie des notes'!$G$3:$FB$3,0)+7),"")} | O23: {=IF(H23<>"",INDEX('2. Saisie des notes'!$G$6:$FB$50,MATCH($A$2,'2. Saisie des notes'!$A$6:$A$50,0),MATCH(A23,'2. Saisie des notes'!$G$3:$FB$3,0)+8),"")} | AA23: =H23 | AD23: {=INDEX('2. Saisie des notes'!$G$5:$FB$50,MATCH("C00",'2. Saisie des notes'!$A$5:$A$50,0),MATCH(A23,'2. Saisie des notes'!$G$3:$FB$3,0)+7)} | AE23: =N23
A24: E15 | G24: (1) Année antérieure à celle de l'examen | M24: (2) Année de l'examen
D25: Certification de compétences numériques PIX cocher la case pour attester de l'obtention de la certification | J25: =IF(INDEX('2. Saisie des notes'!$D$6:$FB$50,MATCH($A$2,'2. Saisie des notes'!$A$6:$A$50,0),MATCH("PIX",'2. Saisie des notes'!$D$3:$FB$3,0))="OUI","X","")
D27: AVIS DU CONSEIL DE CLASSE ET OBSERVATIONS EVENTUELLES | K27: REPARTITION DES AVIS EN % | P27: Résultats des sessions précédentes | T27: DATE, SIGNATURE ET REMARQUES EVENTUELLES
D28: =INDEX('2. Saisie des notes'!$D$6:$FB$50,MATCH($A$2,'2. Saisie des notes'!$A$6:$A$50,0),MATCH("CC1",'2. Saisie des notes'!$D$3:$FB$3,0)) -> 0 | K28: Avis | N28: Effectif total de la classe | P28: Année | Q28: Présentés | R28: Recues | S28: %
K29: Très Favorable | L29: Favorable | M29: Doit faire ses preuves
D31: =IF(INDEX('2. Saisie des notes'!$D$6:$FB$50,MATCH($A$2,'2. Saisie des notes'!$A$6:$A$50,0),MATCH("CC2",'2. Saisie des notes'!$D$3:$FB$3,0))<>"",INDEX('2. Saisie des notes'!$D$6:$FB$50,MATCH($A$2,'2. Saisie des notes'!$A$6:$A$50,0),MATCH("CC2",'2. Saisie des notes'!$D$3:$FB$3,0)),"") | K31: ='2. Saisie des notes'!EF$46/'2. Saisie des notes'!$EI$46 -> #DIV/0! | L31: ='2. Saisie des notes'!EG$46/'2. Saisie des notes'!$EI$46 -> #DIV/0! | M31: ='2. Saisie des notes'!EH$46/'2. Saisie des notes'!$EI$46 -> #DIV/0! | N31: ='2. Saisie des notes'!EI46 -> 0 | P31: ='1. Informations administratives'!K11 -> 2024 | Q31: ='1. Informations administratives'!L11 -> 0 | R31: ='1. Informations administratives'!M11 -> 0 | S31: ='1. Informations administratives'!N11
P32: ='1. Informations administratives'!K12 -> 2023 | Q32: ='1. Informations administratives'!L12 -> 0 | R32: ='1. Informations administratives'!M12 -> 0 | S32: ='1. Informations administratives'!N12
P33: ='1. Informations administratives'!K13 -> 2022 | Q33: ='1. Informations administratives'!L13 -> 0 | R33: ='1. Informations administratives'!M13 -> 0 | S33: ='1. Informations administratives'!N13
F108: Visa du Président du jury (groupe 1) | S108: Visa du Président du jury (groupe 2)

Sheet C03
A2: {=RIGHT(CELL("nomfichier",A2),3)} -> C03 | D2: Examen : | F2: ='1. Informations administratives'!C3 -> BTS | I2: Année de l'examen | J2: Nom : | K2: =UPPER(INDEX('1. Informations administratives'!A8:J47,MATCH(A2,'1. Informations administratives'!A8:A47,0),2)) | O2: Prénom : | Q2: =INDEX('1. Informations administratives'!A8:J47,MATCH(A2,'1. Informations administratives'!A8:A47,0),3) -> 0 | V2: Cachet de l'établissement, date et signature du chef d'établissement :
D3: Spécialité : | F3: ='1. Informations administratives'!C4 -> Tourisme | V3: ='1. Informations administratives'!L5 -> 0
I4: ='1. Informations administratives'!L4 -> 2025 | J4: Date de naissance: | K4: =INDEX('1. Informations administratives'!$A$8:$J$47,MATCH($A$2,'1. Informations administratives'!$A$8:$A$47,0),4) -> 0 | O4: INE : | P4: =INDEX('1. Informations administratives'!A8:J47,MATCH(A2,'1. Informations administratives'!A8:A47,0),7) -> 0 | S4: Langue vivante
J5: Lieu de naissance : | K5: =INDEX('1. Informations administratives'!$A$8:$J$47,MATCH($A$2,'1. Informations administratives'!$A$8:$A$47,0),5) -> 0 | O5: INSEE : | P5: =INDEX('1. Informations administratives'!A8:J47,MATCH(A2,'1. Informations administratives'!A8:A47,0),6) -> 0 | S5: =INDEX('1. Informations administratives'!A8:J47,MATCH(A2,'1. Informations administratives'!A8:A47,0),8) -> 0
D7: Classe de 1ère année (1) | G7: ='1. Informations administratives'!L4-1 -> 2024 | H7: Enseignements | K7: Classe de 2ème année (2) | N7: ='1. Informations administratives'!L4 -> 2025 | O7: Appréciations | AD7: C00
D8: 1er trimestre | E8: 2ème trimestre | F8: 3ème trimestre | G8: Moyenne | K8: 1er trimestre | L8: 2ème trimestre | M8: 3ème trimestre | N8: Moyenne
D9: 1er semestre | E9: 2ème semestre | K9: 1er semestre | L9: 2ème semestre | AD9: Profil de la classe classe en noir | AE9: Profil du candidat en rouge
A10: E1 | D10: =IF(H10<>"",INDEX('2. Saisie des notes'!$G$6:$FB$50,MATCH($A$2,'2. Saisie des notes'!$A$6:$A$50,0),MATCH($A10,'2. Saisie des notes'!$G$3:$FB$3,0)),"") -> 0 | E10: {=IF(H10<>"",INDEX('2. Saisie des notes'!$G$6:$FB$50,MATCH($A$2,'2. Saisie des notes'!$A$6:$A$50,0),MATCH($A10,'2. Saisie des notes'!$G$3:$FB$3,0)+1),"")} -> 0 | F10: {=IF(H10<>"",INDEX('2. Saisie des notes'!$G$6:$FB$50,MATCH($A$2,'2. Saisie des notes'!$A$6:$A$50,0),MATCH($A10,'2. Saisie des notes'!$G$3:$FB$3,0)+2),"")} -> 0 | G10: {=IF(H10<>"",INDEX('2. Saisie des notes'!$G$6:$FB$50,MATCH($A$2,'2. Saisie des notes'!$A$6:$A$50,0),MATCH($A10,'2. Saisie des notes'!$G$3:$FB$3,0)+3),"")} | H10: =IF(INDEX('BTS ET EPREUVES'!$A$1:$DK$21,MATCH($A10,'BTS ET EPREUVES'!$A$1:$A$21,0),MATCH('1. Informations administratives'!$S$4,'BTS ET EPREUVES'!$A$2:$DK$2,0))<>"",INDEX('BTS ET EPREUVES'!$A$1:$DK$21,MATCH($A10,'BTS ET EPREUVES'!$A$1:$A$21,0),MATCH('1. Informations administratives'!$S$4,'BTS ET EPREUVES'!$A$2:$DK$2,0)),"") -> U1 - Culture générale et expression | K10: {=IF(H10<>"",INDEX('2. Saisie des notes'!$G$6:$FB$50,MATCH($A$2,'2. Saisie des notes'!$A$6:$A$50,0),MATCH($A10,'2. Saisie des notes'!$G$3:$FB$3,0)+4),"")} -> 0 | L10: {=IF(H10<>"",INDEX('2. Saisie des notes'!$G$6:$FB$50,MATCH($A$2,'2. Saisie des notes'!$A$6:$A$50,0),MATCH($A10,'2. Saisie des notes'!$G$3:$FB$3,0)+5),"")} -> 0 | M10: {=IF(H10<>"",INDEX('2. Saisie des notes'!$G$6:$FB$50,MATCH($A$2,'2. Saisie des notes'!$A$6:$A$50,0),MATCH($A10,'2. Saisie des notes'!$G$3:$FB$3,0)+6),"")} -> 0 | N10: {=IF(H10<>"",INDEX('2. Saisie des notes'!$G$6:$FB$50,MATCH($A$2,'2. Saisie des notes'!$A$6:$A$50,0),MATCH($A10,'2. Saisie des notes'!$G$3:$FB$3,0)+7),"")} | O10: {=IF(H10<>"",INDEX('2. Saisie des notes'!$G$6:$FB$50,MATCH($A$2,'2. Saisie des notes'!$A$6:$A$50,0),MATCH(A10,'2. Saisie des notes'!$G$3:$FB$3,0)+8),"")} -> 0 | AA10: =H10 -> U1 - Culture générale et expression | AD10: {=INDEX('2. Saisie des notes'!$G$5:$FB$50,MATCH("C00",'2. Saisie des notes'!$A$5:$A$50,0),MATCH(A10,'2. Saisie des notes'!$G$3:$FB$3,0)+7)} | AE10: =N10
A11: E2 | D11: =IF(H11<>"",INDEX('2. Saisie des notes'!$G$6:$FB$50,MATCH($A$2,'2. Saisie des notes'!$A$6:$A$50,0),MATCH($A11,'2. Saisie des notes'!$G$3:$FB$3,0)),"") -> 0 | E11: {=IF(H11<>"",INDEX('2. Saisie des notes'!$G$6:$FB$50,MATCH($A$2,'2. Saisie des notes'!$A$6:$A$50,0),MATCH($A11,'2. Saisie des notes'!$G$3:$FB$3,0)+1),"")} -> 0 | F11: {=IF(H11<>"",INDEX('2. Saisie des notes'!$G$6:$FB$50,MATCH($A$2,'2. Saisie des notes'!$A$6:$A$50,0),MATCH($A11,'2. Saisie des notes'!$G$3:$FB$3,0)+2),"")} -> 0 | G11: {=IF(H11<>"",INDEX('2. Saisie des notes'!$G$6:$FB$50,MATCH($A$2,'2. Saisie des notes'!$A$6:$A$50,0),MATCH($A11,'2. Saisie des notes'!$G$3:$FB$3,0)+3),"")} | H11: =IF(INDEX('BTS ET EPREUVES'!$A$1:$DK$21,MATCH($A11,'BTS ET EPREUVES'!$A$1:$A$21,0),MATCH('1. Informations administratives'!$S$4,'BTS ET EPREUVES'!$A$2:$DK$2,0))<>"",INDEX('BTS ET EPREUVES'!$A$1:$DK$21,MATCH($A11,'BTS ET EPREUVES'!$A$1:$A$21,0),MATCH('1. Informations administratives'!$S$4,'BTS ET EPREUVES'!$A$2:$DK$2,0)),"") -> U21 - Communication en langue vivante étrangère : anglais | K11: {=IF(H11<>"",INDEX('2. Saisie des notes'!$G$6:$FB$50,MATCH($A$2,'2. Saisie des notes'!$A$6:$A$50,0),MATCH($A11,'2. Saisie des notes'!$G$3:$FB$3,0)+4),"")} -> 0 | L11: {=IF(H11<>"",INDEX('2. Saisie des notes'!$G$6:$FB$50,MATCH($A$2,'2. Saisie des notes'!$A$6:$A$50,0),MATCH($A11,'2. Saisie des notes'!$G$3:$FB$3,0)+5),"")} -> 0 | M11: {=IF(H11<>"",INDEX('2. Saisie des notes'!$G$6:$FB$50,MATCH($A$2,'2. Saisie des notes'!$A$6:$A$50,0),MATCH($A11,'2. Saisie des notes'!$G$3:$FB$3,0)+6),"")} -> 0 | N11: {=IF(H11<>"",INDEX('2. Saisie des notes'!$G$6:$FB$50,MATCH($A$2,'2. Saisie des notes'!$A$6:$A$50,0),MATCH($A11,'2. Saisie des notes'!$G$3:$FB$3,0)+7),"")} | O11: {=IF(H11<>"",INDEX('2. Saisie des notes'!$G$6:$FB$50,MATCH($A$2,'2. Saisie des notes'!$A$6:$A$50,0),MATCH(A11,'2. Saisie des notes'!$G$3:$FB$3,0)+8),"")} -> 0 | AA11: =H11 -> U21 - Communication en langue vivante étrangère : anglais | AD11: {=INDEX('2. Saisie des notes'!$G$5:$FB$50,MATCH("C00",'2. Saisie des notes'!$A$5:$A$50,0),MATCH(A11,'2. Saisie des notes'!$G$3:$FB$3,0)+7)} | AE11: =N11
A12: E3 | D12: =IF(H12<>"",INDEX('2. Saisie des notes'!$G$6:$FB$50,MATCH($A$2,'2. Saisie des notes'!$A$6:$A$50,0),MATCH($A12,'2. Saisie des notes'!$G$3:$FB$3,0)),"") -> 0 | E12: {=IF(H12<>"",INDEX('2. Saisie des notes'!$G$6:$FB$50,MATCH($A$2,'2. Saisie des notes'!$A$6:$A$50,0),MATCH($A12,'2. Saisie des notes'!$G$3:$FB$3,0)+1),"")} -> 0 | F12: {=IF(H12<>"",INDEX('2. Saisie des notes'!$G$6:$FB$50,MATCH($A$2,'2. Saisie des notes'!$A$6:$A$50,0),MATCH($A12,'2. Saisie des notes'!$G$3:$FB$3,0)+2),"")} -> 0 | G12: {=IF(H12<>"",INDEX('2. Saisie des notes'!$G$6:$FB$50,MATCH($A$2,'2. Saisie des notes'!$A$6:$A$50,0),MATCH($A12,'2. Saisie des notes'!$G$3:$FB$3,0)+3),"")} | H12: =IF(INDEX('BTS ET EPREUVES'!$A$1:$DK$21,MATCH($A12,'BTS ET EPREUVES'!$A$1:$A$21,0),MATCH('1. Informations administratives'!$S$4,'BTS ET EPREUVES'!$A$2:$DK$2,0))<>"",INDEX('BTS ET EPREUVES'!$A$1:$DK$21,MATCH($A12,'BTS ET EPREUVES'!$A$1:$A$21,0),MATCH('1. Informations administratives'!$S$4,'BTS ET EPREUVES'!$A$2:$DK$2,0)),"") -> U22 - Communication en langue vivante étrangère : langue B | K12: {=IF(H12<>"",INDEX('2. Saisie des notes'!$G$6:$FB$50,MATCH($A$2,'2. Saisie des notes'!$A$6:$A$50,0),MATCH($A12,'2. Saisie des notes'!$G$3:$FB$3,0)+4),"")} -> 0 | L12: {=IF(H12<>"",INDEX('2. Saisie des notes'!$G$6:$FB$50,MATCH($A$2,'2. Saisie des notes'!$A$6:$A$50,0),MATCH($A12,'2. Saisie des notes'!$G$3:$FB$3,0)+5),"")} -> 0 | M12: {=IF(H12<>"",INDEX('2. Saisie des notes'!$G$6:$FB$50,MATCH($A$2,'2. Saisie des notes'!$A$6:$A$50,0),MATCH($A12,'2. Saisie des notes'!$G$3:$FB$3,0)+6),"")} -> 0 | N12: {=IF(H12<>"",INDEX('2. Saisie des notes'!$G$6:$FB$50,MATCH($A$2,'2. Saisie des notes'!$A$6:$A$50,0),MATCH($A12,'2. Saisie des notes'!$G$3:$FB$3,0)+7),"")} | O12: {=IF(H12<>"",INDEX('2. Saisie des notes'!$G$6:$FB$50,MATCH($A$2,'2. Saisie des notes'!$A$6:$A$50,0),MATCH(A12,'2. Saisie des notes'!$G$3:$FB$3,0)+8),"")} -> 0 | AA12: =H12 -> U22 - Communication en langue vivante étrangère : langue B | AD12: {=INDEX('2. Saisie des notes'!$G$5:$FB$50,MATCH("C00",'2. Saisie des notes'!$A$5:$A$50,0),MATCH(A12,'2. Saisie des notes'!$G$3:$FB$3,0)+7)} | AE12: =N12
A13: E4 | D13: =IF(H13<>"",INDEX('2. Saisie des notes'!$G$6:$FB$50,MATCH($A$2,'2. Saisie des notes'!$A$6:$A$50,0),MATCH($A13,'2. Saisie des notes'!$G$3:$FB$3,0)),"") -> 0 | E13: {=IF(H13<>"",INDEX('2. Saisie des notes'!$G$6:$FB$50,MATCH($A$2,'2. Saisie des notes'!$A$6:$A$50,0),MATCH($A13,'2. Saisie des notes'!$G$3:$FB$3,0)+1),"")} -> 0 | F13: {=IF(H13<>"",INDEX('2. Saisie des notes'!$G$6:$FB$50,MATCH($A$2,'2. Saisie des notes'!$A$6:$A$50,0),MATCH($A13,'2. Saisie des notes'!$G$3:$FB$3,0)+2),"")} -> 0 | G13: {=IF(H13<>"",INDEX('2. Saisie des notes'!$G$6:$FB$50,MATCH($A$2,'2. Saisie des notes'!$A$6:$A$50,0),MATCH($A13,'2. Saisie des notes'!$G$3:$FB$3,0)+3),"")} | H13: =IF(INDEX('BTS ET EPREUVES'!$A$1:$DK$21,MATCH($A13,'BTS ET EPREUVES'!$A$1:$A$21,0),MATCH('1. Informations administratives'!$S$4,'BTS ET EPREUVES'!$A$2:$DK$2,0))<>"",INDEX('BTS ET EPREUVES'!$A$1:$DK$21,MATCH($A13,'BTS ET EPREUVES'!$A$1:$A$21,0),MATCH('1. Informations administratives'!$S$4,'BTS ET EPREUVES'!$A$2:$DK$2,0)),"") -> U3 - Tourisme et territoires | K13: {=IF(H13<>"",INDEX('2. Saisie des notes'!$G$6:$FB$50,MATCH($A$2,'2. Saisie des notes'!$A$6:$A$50,0),MATCH($A13,'2. Saisie des notes'!$G$3:$FB$3,0)+4),"")} -> 0 | L13: {=IF(H13<>"",INDEX('2. Saisie des notes'!$G$6:$FB$50,MATCH($A$2,'2. Saisie des notes'!$A$6:$A$50,0),MATCH($A13,'2. Saisie des notes'!$G$3:$FB$3,0)+5),"")} -> 0 | M13: {=IF(H13<>"",INDEX('2. Saisie des notes'!$G$6:$FB$50,MATCH($A$2,'2. Saisie des notes'!$A$6:$A$50,0),MATCH($A13,'2. Saisie des notes'!$G$3:$FB$3,0)+6),"")} -> 0 | N13: {=IF(H13<>"",INDEX('2. Saisie des notes'!$G$6:$FB$50,MATCH($A$2,'2. Saisie des notes'!$A$6:$A$50,0),MATCH($A13,'2. Saisie des notes'!$G$3:$FB$3,0)+7),"")} | O13: {=IF(H13<>"",INDEX('2. Saisie des notes'!$G$6:$FB$50,MATCH($A$2,'2. Saisie des notes'!$A$6:$A$50,0),MATCH(A13,'2. Saisie des notes'!$G$3:$FB$3,0)+8),"")} -> 0 | AA13: =H13 -> U3 - Tourisme et territoires | AD13: {=INDEX('2. Saisie des notes'!$G$5:$FB$50,MATCH("C00",'2. Saisie des notes'!$A$5:$A$50,0),MATCH(A13,'2. Saisie des notes'!$G$3:$FB$3,0)+7)} | AE13: =N13
A14: E5 | D14: =IF(H14<>"",INDEX('2. Saisie des notes'!$G$6:$FB$50,MATCH($A$2,'2. Saisie des notes'!$A$6:$A$50,0),MATCH($A14,'2. Saisie des notes'!$G$3:$FB$3,0)),"") -> 0 | E14: {=IF(H14<>"",INDEX('2. Saisie des notes'!$G$6:$FB$50,MATCH($A$2,'2. Saisie des notes'!$A$6:$A$50,0),MATCH($A14,'2. Saisie des notes'!$G$3:$FB$3,0)+1),"")} -> 0 | F14: {=IF(H14<>"",INDEX('2. Saisie des notes'!$G$6:$FB$50,MATCH($A$2,'2. Saisie des notes'!$A$6:$A$50,0),MATCH($A14,'2. Saisie des notes'!$G$3:$FB$3,0)+2),"")} -> 0 | G14: {=IF(H14<>"",INDEX('2. Saisie des notes'!$G$6:$FB$50,MATCH($A$2,'2. Saisie des notes'!$A$6:$A$50,0),MATCH($A14,'2. Saisie des notes'!$G$3:$FB$3,0)+3),"")} | H14: =IF(INDEX('BTS ET EPREUVES'!$A$1:$DK$21,MATCH($A14,'BTS ET EPREUVES'!$A$1:$A$21,0),MATCH('1. Informations administratives'!$S$4,'BTS ET EPREUVES'!$A$2:$DK$2,0))<>"",INDEX('BTS ET EPREUVES'!$A$1:$DK$21,MATCH($A14,'BTS ET EPREUVES'!$A$1:$A$21,0),MATCH('1. Informations administratives'!$S$4,'BTS ET EPREUVES'!$A$2:$DK$2,0)),"") -> U4 - Gestion de la relation clientèle touristique | K14: {=IF(H14<>"",INDEX('2. Saisie des notes'!$G$6:$FB$50,MATCH($A$2,'2. Saisie des notes'!$A$6:$A$50,0),MATCH($A14,'2. Saisie des notes'!$G$3:$FB$3,0)+4),"")} -> 0 | L14: {=IF(H14<>"",INDEX('2. Saisie des notes'!$G$6:$FB$50,MATCH($A$2,'2. Saisie des notes'!$A$6:$A$50,0),MATCH($A14,'2. Saisie des notes'!$G$3:$FB$3,0)+5),"")} -> 0 | M14: {=IF(H14<>"",INDEX('2. Saisie des notes'!$G$6:$FB$50,MATCH($A$2,'2. Saisie des notes'!$A$6:$A$50,0),MATCH($A14,'2. Saisie des notes'!$G$3:$FB$3,0)+6),"")} -> 0 | N14: {=IF(H14<>"",INDEX('2. Saisie des notes'!$G$6:$FB$50,MATCH($A$2,'2. Saisie des notes'!$A$6:$A$50,0),MATCH($A14,'2. Saisie des notes'!$G$3:$FB$3,0)+7),"")} | O14: {=IF(H14<>"",INDEX('2. Saisie des notes'!$G$6:$FB$50,MATCH($A$2,'2. Saisie des notes'!$A$6:$A$50,0),MATCH(A14,'2. Saisie des notes'!$G$3:$FB$3,0)+8),"")} -> 0 | AA14: =H14 -> U4 - Gestion de la relation clientèle touristique | AD14: {=INDEX('2. Saisie des notes'!$G$5:$FB$50,MATCH("C00",'2. Saisie des notes'!$A$5:$A$50,0),MATCH(A14,'2. Saisie des notes'!$G$3:$FB$3,0)+7)} | AE14: =N14
A15: E6 | D15: =IF(H15<>"",INDEX('2. Saisie des notes'!$G$6:$FB$50,MATCH($A$2,'2. Saisie des notes'!$A$6:$A$50,0),MATCH($A15,'2. Saisie des notes'!$G$3:$FB$3,0)),"") -> 0 | E15: {=IF(H15<>"",INDEX('2. Saisie des notes'!$G$6:$FB$50,MATCH($A$2,'2. Saisie des notes'!$A$6:$A$50,0),MATCH($A15,'2. Saisie des notes'!$G$3:$FB$3,0)+1),"")} -> 0 | F15: {=IF(H15<>"",INDEX('2. Saisie des notes'!$G$6:$FB$50,MATCH($A$2,'2. Saisie des notes'!$A$6:$A$50,0),MATCH($A15,'2. Saisie des notes'!$G$3:$FB$3,0)+2),"")} -> 0 | G15: {=IF(H15<>"",INDEX('2. Saisie des notes'!$G$6:$FB$50,MATCH($A$2,'2. Saisie des notes'!$A$6:$A$50,0),MATCH($A15,'2. Saisie des notes'!$G$3:$FB$3,0)+3),"")} | H15: =IF(INDEX('BTS ET EPREUVES'!$A$1:$DK$21,MATCH($A15,'BTS ET EPREUVES'!$A$1:$A$21,0),MATCH('1. Informations administratives'!$S$4,'BTS ET EPREUVES'!$A$2:$DK$2,0))<>"",INDEX('BTS ET EPREUVES'!$A$1:$DK$21,MATCH($A15,'BTS ET EPREUVES'!$A$1:$A$21,0),MATCH('1. Informations administratives'!$S$4,'BTS ET EPREUVES'!$A$2:$DK$2,0)),"") -> U5 - Élaboration d’une prestation touristique | K15: {=IF(H15<>"",INDEX('2. Saisie des notes'!$G$6:$FB$50,MATCH($A$2,'2. Saisie des notes'!$A$6:$A$50,0),MATCH($A15,'2. Saisie des notes'!$G$3:$FB$3,0)+4),"")} -> 0 | L15: {=IF(H15<>"",INDEX('2. Saisie des notes'!$G$6:$FB$50,MATCH($A$2,'2. Saisie des notes'!$A$6:$A$50,0),MATCH($A15,'2. Saisie des notes'!$G$3:$FB$3,0)+5),"")} -> 0 | M15: {=IF(H15<>"",INDEX('2. Saisie des notes'!$G$6:$FB$50,MATCH($A$2,'2. Saisie des notes'!$A$6:$A$50,0),MATCH($A15,'2. Saisie des notes'!$G$3:$FB$3,0)+6),"")} -> 0 | N15: {=IF(H15<>"",INDEX('2. Saisie des notes'!$G$6:$FB$50,MATCH($A$2,'2. Saisie des notes'!$A$6:$A$50,0),MATCH($A15,'2. Saisie des notes'!$G$3:$FB$3,0)+7),"")} | O15: {=IF(H15<>"",INDEX('2. Saisie des notes'!$G$6:$FB$50,MATCH($A$2,'2. Saisie des notes'!$A$6:$A$50,0),MATCH(A15,'2. Saisie des notes'!$G$3:$FB$3,0)+8),"")} -> 0 | AA15: =H15 -> U5 - Élaboration d’une prestation touristique | AD15: {=INDEX('2. Saisie des notes'!$G$5:$FB$50,MATCH("C00",'2. Saisie des notes'!$A$5:$A$50,0),MATCH(A15,'2. Saisie des notes'!$G$3:$FB$3,0)+7)} | AE15: =N15
A16: E7 | D16: =IF(H16<>"",INDEX('2. Saisie des notes'!$G$6:$FB$50,MATCH($A$2,'2. Saisie des notes'!$A$6:$A$50,0),MATCH($A16,'2. Saisie des notes'!$G$3:$FB$3,0)),"") -> 0 | E16: {=IF(H16<>"",INDEX('2. Saisie des notes'!$G$6:$FB$50,MATCH($A$2,'2. Saisie des notes'!$A$6:$A$50,0),MATCH($A16,'2. Saisie des notes'!$G$3:$FB$3,0)+1),"")} -> 0 | F16: {=IF(H16<>"",INDEX('2. Saisie des notes'!$G$6:$FB$50,MATCH($A$2,'2. Saisie des notes'!$A$6:$A$50,0),MATCH($A16,'2. Saisie des notes'!$G$3:$FB$3,0)+2),"")} -> 0 | G16: {=IF(H16<>"",INDEX('2. Saisie des notes'!$G$6:$FB$50,MATCH($A$2,'2. Saisie des notes'!$A$6:$A$50,0),MATCH($A16,'2. Saisie des notes'!$G$3:$FB$3,0)+3),"")} | H16: =IF(INDEX('BTS ET EPREUVES'!$A$1:$DK$21,MATCH($A16,'BTS ET EPREUVES'!$A$1:$A$21,0),MATCH('1. Informations administratives'!$S$4,'BTS ET EPREUVES'!$A$2:$DK$2,0))<>"",INDEX('BTS ET EPREUVES'!$A$1:$DK$21,MATCH($A16,'BTS ET EPREUVES'!$A$1:$A$21,0),MATCH('1. Informations administratives'!$S$4,'BTS ET EPREUVES'!$A$2:$DK$2,0)),"") -> U6 - Gestion de l’information touristique | K16: {=IF(H16<>"",INDEX('2. Saisie des notes'!$G$6:$FB$50,MATCH($A$2,'2. Saisie des notes'!$A$6:$A$50,0),MATCH($A16,'2. Saisie des notes'!$G$3:$FB$3,0)+4),"")} -> 0 | L16: {=IF(H16<>"",INDEX('2. Saisie des notes'!$G$6:$FB$50,MATCH($A$2,'2. Saisie des notes'!$A$6:$A$50,0),MATCH($A16,'2. Saisie des notes'!$G$3:$FB$3,0)+5),"")} -> 0 | M16: {=IF(H16<>"",INDEX('2. Saisie des notes'!$G$6:$FB$50,MATCH($A$2,'2. Saisie des notes'!$A$6:$A$50,0),MATCH($A16,'2. Saisie des notes'!$G$3:$FB$3,0)+6),"")} -> 0 | N16: {=IF(H16<>"",INDEX('2. Saisie des notes'!$G$6:$FB$50,MATCH($A$2,'2. Saisie des notes'!$A$6:$A$50,0),MATCH($A16,'2. Saisie des notes'!$G$3:$FB$3,0)+7),"")} | O16: {=IF(H16<>"",INDEX('2. Saisie des notes'!$G$6:$FB$50,MATCH($A$2,'2. Saisie des notes'!$A$6:$A$50,0),MATCH(A16,'2. Saisie des notes'!$G$3:$FB$3,0)+8),"")} -> 0 | AA16: =H16 -> U6 - Gestion de l’information touristique | AD16: {=INDEX('2. Saisie des notes'!$G$5:$FB$50,MATCH("C00",'2. Saisie des notes'!$A$5:$A$50,0),MATCH(A16,'2. Saisie des notes'!$G$3:$FB$3,0)+7)} | AE16: =N16
A17: E8 | D17: =IF(H17<>"",INDEX('2. Saisie des notes'!$G$6:$FB$50,MATCH($A$2,'2. Saisie des notes'!$A$6:$A$50,0),MATCH($A17,'2. Saisie des notes'!$G$3:$FB$3,0)),"") -> 0 | E17: {=IF(H17<>"",INDEX('2. Saisie des notes'!$G$6:$FB$50,MATCH($A$2,'2. Saisie des notes'!$A$6:$A$50,0),MATCH($A17,'2. Saisie des notes'!$G$3:$FB$3,0)+1),"")} -> 0 | F17: {=IF(H17<>"",INDEX('2. Saisie des notes'!$G$6:$FB$50,MATCH($A$2,'2. Saisie des notes'!$A$6:$A$50,0),MATCH($A17,'2. Saisie des notes'!$G$3:$FB$3,0)+2),"")} -> 0 | G17: {=IF(H17<>"",INDEX('2. Saisie des notes'!$G$6:$FB$50,MATCH($A$2,'2. Saisie des notes'!$A$6:$A$50,0),MATCH($A17,'2. Saisie des notes'!$G$3:$FB$3,0)+3),"")} | H17: =IF(INDEX('BTS ET EPREUVES'!$A$1:$DK$21,MATCH($A17,'BTS ET EPREUVES'!$A$1:$A$21,0),MATCH('1. Informations administratives'!$S$4,'BTS ET EPREUVES'!$A$2:$DK$2,0))<>"",INDEX('BTS ET EPREUVES'!$A$1:$DK$21,MATCH($A17,'BTS ET EPREUVES'!$A$1:$A$21,0),MATCH('1. Informations administratives'!$S$4,'BTS ET EPREUVES'!$A$2:$DK$2,0)),"") -> UF1 - Unité facultative Communication en langue vivante étrangère : langue C | K17: {=IF(H17<>"",INDEX('2. Saisie des notes'!$G$6:$FB$50,MATCH($A$2,'2. Saisie des notes'!$A$6:$A$50,0),MATCH($A17,'2. Saisie des notes'!$G$3:$FB$3,0)+4),"")} -> 0 | L17: {=IF(H17<>"",INDEX('2. Saisie des notes'!$G$6:$FB$50,MATCH($A$2,'2. Saisie des notes'!$A$6:$A$50,0),MATCH($A17,'2. Saisie des notes'!$G$3:$FB$3,0)+5),"")} -> 0 | M17: {=IF(H17<>"",INDEX('2. Saisie des notes'!$G$6:$FB$50,MATCH($A$2,'2. Saisie des notes'!$A$6:$A$50,0),MATCH($A17,'2. Saisie des notes'!$G$3:$FB$3,0)+6),"")} -> 0 | N17: {=IF(H17<>"",INDEX('2. Saisie des notes'!$G$6:$FB$50,MATCH($A$2,'2. Saisie des notes'!$A$6:$A$50,0),MATCH($A17,'2. Saisie des notes'!$G$3:$FB$3,0)+7),"")} | O17: {=IF(H17<>"",INDEX('2. Saisie des notes'!$G$6:$FB$50,MATCH($A$2,'2. Saisie des notes'!$A$6:$A$50,0),MATCH(A17,'2. Saisie des notes'!$G$3:$FB$3,0)+8),"")} -> 0 | AA17: =H17 -> UF1 - Unité facultative Communication en langue vivante étrangère : langue C | AD17: {=INDEX('2. Saisie des notes'!$G$5:$FB$50,MATCH("C00",'2. Saisie des notes'!$A$5:$A$50,0),MATCH(A17,'2. Saisie des notes'!$G$3:$FB$3,0)+7)} | AE17: =N17
A18: E9 | D18: =IF(H18<>"",INDEX('2. Saisie des notes'!$G$6:$FB$50,MATCH($A$2,'2. Saisie des notes'!$A$6:$A$50,0),MATCH($A18,'2. Saisie des notes'!$G$3:$FB$3,0)),"") -> 0 | E18: {=IF(H18<>"",INDEX('2. Saisie des notes'!$G$6:$FB$50,MATCH($A$2,'2. Saisie des notes'!$A$6:$A$50,0),MATCH($A18,'2. Saisie des notes'!$G$3:$FB$3,0)+1),"")} -> 0 | F18: {=IF(H18<>"",INDEX('2. Saisie des notes'!$G$6:$FB$50,MATCH($A$2,'2. Saisie des notes'!$A$6:$A$50,0),MATCH($A18,'2. Saisie des notes'!$G$3:$FB$3,0)+2),"")} -> 0 | G18: {=IF(H18<>"",INDEX('2. Saisie des notes'!$G$6:$FB$50,MATCH($A$2,'2. Saisie des notes'!$A$6:$A$50,0),MATCH($A18,'2. Saisie des notes'!$G$3:$FB$3,0)+3),"")} | H18: =IF(INDEX('BTS ET EPREUVES'!$A$1:$DK$21,MATCH($A18,'BTS ET EPREUVES'!$A$1:$A$21,0),MATCH('1. Informations administratives'!$S$4,'BTS ET EPREUVES'!$A$2:$DK$2,0))<>"",INDEX('BTS ET EPREUVES'!$A$1:$DK$21,MATCH($A18,'BTS ET EPREUVES'!$A$1:$A$21,0),MATCH('1. Informations administratives'!$S$4,'BTS ET EPREUVES'!$A$2:$DK$2,0)),"") -> UF2 - Unité facultative Parcours de professionnalisation à l’étranger | K18: {=IF(H18<>"",INDEX('2. Saisie des notes'!$G$6:$FB$50,MATCH($A$2,'2. Saisie des notes'!$A$6:$A$50,0),MATCH($A18,'2. Saisie des notes'!$G$3:$FB$3,0)+4),"")} -> 0 | L18: {=IF(H18<>"",INDEX('2. Saisie des notes'!$G$6:$FB$50,MATCH($A$2,'2. Saisie des notes'!$A$6:$A$50,0),MATCH($A18,'2. Saisie des notes'!$G$3:$FB$3,0)+5),"")} -> 0 | M18: {=IF(H18<>"",INDEX('2. Saisie des notes'!$G$6:$FB$50,MATCH($A$2,'2. Saisie des notes'!$A$6:$A$50,0),MATCH($A18,'2. Saisie des notes'!$G$3:$FB$3,0)+6),"")} -> 0 | N18: {=IF(H18<>"",INDEX('2. Saisie des notes'!$G$6:$FB$50,MATCH($A$2,'2. Saisie des notes'!$A$6:$A$50,0),MATCH($A18,'2. Saisie des notes'!$G$3:$FB$3,0)+7),"")} | O18: {=IF(H18<>"",INDEX('2. Saisie des notes'!$G$6:$FB$50,MATCH($A$2,'2. Saisie des notes'!$A$6:$A$50,0),MATCH(A18,'2. Saisie des notes'!$G$3:$FB$3,0)+8),"")} -> 0 | AA18: =H18 -> UF2 - Unité facultative Parcours de professionnalisation à l’étranger | AD18: {=INDEX('2. Saisie des notes'!$G$5:$FB$50,MATCH("C00",'2. Saisie des notes'!$A$5:$A$50,0),MATCH(A18,'2. Saisie des notes'!$G$3:$FB$3,0)+7)} | AE18: =N18
A19: E10 | D19: =IF(H19<>"",INDEX('2. Saisie des notes'!$G$6:$FB$50,MATCH($A$2,'2. Saisie des notes'!$A$6:$A$50,0),MATCH($A19,'2. Saisie des notes'!$G$3:$FB$3,0)),"") -> 0 | E19: {=IF(H19<>"",INDEX('2. Saisie des notes'!$G$6:$FB$50,MATCH($A$2,'2. Saisie des notes'!$A$6:$A$50,0),MATCH($A19,'2. Saisie des notes'!$G$3:$FB$3,0)+1),"")} -> 0 | F19: {=IF(H19<>"",INDEX('2. Saisie des notes'!$G$6:$FB$50,MATCH($A$2,'2. Saisie des notes'!$A$6:$A$50,0),MATCH($A19,'2. Saisie des notes'!$G$3:$FB$3,0)+2),"")} -> 0 | G19: {=IF(H19<>"",INDEX('2. Saisie des notes'!$G$6:$FB$50,MATCH($A$2,'2. Saisie des notes'!$A$6:$A$50,0),MATCH($A19,'2. Saisie des notes'!$G$3:$FB$3,0)+3),"")} | H19: =IF(INDEX('BTS ET EPREUVES'!$A$1:$DK$21,MATCH($A19,'BTS ET EPREUVES'!$A$1:$A$21,0),MATCH('1. Informations administratives'!$S$4,'BTS ET EPREUVES'!$A$2:$DK$2,0))<>"",INDEX('BTS ET EPREUVES'!$A$1:$DK$21,MATCH($A19,'BTS ET EPREUVES'!$A$1:$A$21,0),MATCH('1. Informations administratives'!$S$4,'BTS ET EPREUVES'!$A$2:$DK$2,0)),"") -> UF3 - Unité facultative Projet de spécialisation | K19: {=IF(H19<>"",INDEX('2. Saisie des notes'!$G$6:$FB$50,MATCH($A$2,'2. Saisie des notes'!$A$6:$A$50,0),MATCH($A19,'2. Saisie des notes'!$G$3:$FB$3,0)+4),"")} -> 0 | L19: {=IF(H19<>"",INDEX('2. Saisie des notes'!$G$6:$FB$50,MATCH($A$2,'2. Saisie des notes'!$A$6:$A$50,0),MATCH($A19,'2. Saisie des notes'!$G$3:$FB$3,0)+5),"")} -> 0 | M19: {=IF(H19<>"",INDEX('2. Saisie des notes'!$G$6:$FB$50,MATCH($A$2,'2. Saisie des notes'!$A$6:$A$50,0),MATCH($A19,'2. Saisie des notes'!$G$3:$FB$3,0)+6),"")} -> 0 | N19: {=IF(H19<>"",INDEX('2. Saisie des notes'!$G$6:$FB$50,MATCH($A$2,'2. Saisie des notes'!$A$6:$A$50,0),MATCH($A19,'2. Saisie des notes'!$G$3:$FB$3,0)+7),"")} | O19: {=IF(H19<>"",INDEX('2. Saisie des notes'!$G$6:$FB$50,MATCH($A$2,'2. Saisie des notes'!$A$6:$A$50,0),MATCH(A19,'2. Saisie des notes'!$G$3:$FB$3,0)+8),"")} -> 0 | AA19: =H19 -> UF3 - Unité facultative Projet de spécialisation | AD19: {=INDEX('2. Saisie des notes'!$G$5:$FB$50,MATCH("C00",'2. Saisie des notes'!$A$5:$A$50,0),MATCH(A19,'2. Saisie des notes'!$G$3:$FB$3,0)+7)} | AE19: =N19
A20: E11 | D20: =IF(H20<>"",INDEX('2. Saisie des notes'!$G$6:$FB$50,MATCH($A$2,'2. Saisie des notes'!$A$6:$A$50,0),MATCH($A20,'2. Saisie des notes'!$G$3:$FB$3,0)),"") -> 0 | E20: {=IF(H20<>"",INDEX('2. Saisie des notes'!$G$6:$FB$50,MATCH($A$2,'2. Saisie des notes'!$A$6:$A$50,0),MATCH($A20,'2. Saisie des notes'!$G$3:$FB$3,0)+1),"")} -> 0 | F20: {=IF(H20<>"",INDEX('2. Saisie des notes'!$G$6:$FB$50,MATCH($A$2,'2. Saisie des notes'!$A$6:$A$50,0),MATCH($A20,'2. Saisie des notes'!$G$3:$FB$3,0)+2),"")} -> 0 | G20: {=IF(H20<>"",INDEX('2. Saisie des notes'!$G$6:$FB$50,MATCH($A$2,'2. Saisie des notes'!$A$6:$A$50,0),MATCH($A20,'2. Saisie des notes'!$G$3:$FB$3,0)+3),"")} | H20: =IF(INDEX('BTS ET EPREUVES'!$A$1:$DK$21,MATCH($A20,'BTS ET EPREUVES'!$A$1:$A$21,0),MATCH('1. Informations administratives'!$S$4,'BTS ET EPREUVES'!$A$2:$DK$2,0))<>"",INDEX('BTS ET EPREUVES'!$A$1:$DK$21,MATCH($A20,'BTS ET EPREUVES'!$A$1:$A$21,0),MATCH('1. Informations administratives'!$S$4,'BTS ET EPREUVES'!$A$2:$DK$2,0)),"") -> UF4 - Épreuve facultative engagement étudiant | K20: {=IF(H20<>"",INDEX('2. Saisie des notes'!$G$6:$FB$50,MATCH($A$2,'2. Saisie des notes'!$A$6:$A$50,0),MATCH($A20,'2. Saisie des notes'!$G$3:$FB$3,0)+4),"")} -> 0 | L20: {=IF(H20<>"",INDEX('2. Saisie des notes'!$G$6:$FB$50,MATCH($A$2,'2. Saisie des notes'!$A$6:$A$50,0),MATCH($A20,'2. Saisie des notes'!$G$3:$FB$3,0)+5),"")} -> 0 | M20: {=IF(H20<>"",INDEX('2. Saisie des notes'!$G$6:$FB$50,MATCH($A$2,'2. Saisie des notes'!$A$6:$A$50,0),MATCH($A20,'2. Saisie des notes'!$G$3:$FB$3,0)+6),"")} -> 0 | N20: {=IF(H20<>"",INDEX('2. Saisie des notes'!$G$6:$FB$50,MATCH($A$2,'2. Saisie des notes'!$A$6:$A$50,0),MATCH($A20,'2. Saisie des notes'!$G$3:$FB$3,0)+7),"")} | O20: {=IF(H20<>"",INDEX('2. Saisie des notes'!$G$6:$FB$50,MATCH($A$2,'2. Saisie des notes'!$A$6:$A$50,0),MATCH(A20,'2. Saisie des notes'!$G$3:$FB$3,0)+8),"")} -> 0 | AA20: =H20 -> UF4 - Épreuve facultative engagement étudiant | AD20: {=INDEX('2. Saisie des notes'!$G$5:$FB$50,MATCH("C00",'2. Saisie des notes'!$A$5:$A$50,0),MATCH(A20,'2. Saisie des notes'!$G$3:$FB$3,0)+7)} | AE20: =N20
A21: E12 | D21: =IF(H21<>"",INDEX('2. Saisie des notes'!$G$6:$FB$50,MATCH($A$2,'2. Saisie des notes'!$A$6:$A$50,0),MATCH($A21,'2. Saisie des notes'!$G$3:$FB$3,0)),"") | E21: {=IF(H21<>"",INDEX('2. Saisie des notes'!$G$6:$FB$50,MATCH($A$2,'2. Saisie des notes'!$A$6:$A$50,0),MATCH($A21,'2. Saisie des notes'!$G$3:$FB$3,0)+1),"")} | F21: {=IF(H21<>"",INDEX('2. Saisie des notes'!$G$6:$FB$50,MATCH($A$2,'2. Saisie des notes'!$A$6:$A$50,0),MATCH($A21,'2. Saisie des notes'!$G$3:$FB$3,0)+2),"")} | G21: {=IF(H21<>"",INDEX('2. Saisie des notes'!$G$6:$FB$50,MATCH($A$2,'2. Saisie des notes'!$A$6:$A$50,0),MATCH($A21,'2. Saisie des notes'!$G$3:$FB$3,0)+3),"")} | H21: =IF(INDEX('BTS ET EPREUVES'!$A$1:$DK$21,MATCH($A21,'BTS ET EPREUVES'!$A$1:$A$21,0),MATCH('1. Informations administratives'!$S$4,'BTS ET EPREUVES'!$A$2:$DK$2,0))<>"",INDEX('BTS ET EPREUVES'!$A$1:$DK$21,MATCH($A21,'BTS ET EPREUVES'!$A$1:$A$21,0),MATCH('1. Informations administratives'!$S$4,'BTS ET EPREUVES'!$A$2:$DK$2,0)),"") | K21: {=IF(H21<>"",INDEX('2. Saisie des notes'!$G$6:$FB$50,MATCH($A$2,'2. Saisie des notes'!$A$6:$A$50,0),MATCH($A21,'2. Saisie des notes'!$G$3:$FB$3,0)+4),"")} | L21: {=IF(H21<>"",INDEX('2. Saisie des notes'!$G$6:$FB$50,MATCH($A$2,'2. Saisie des notes'!$A$6:$A$50,0),MATCH($A21,'2. Saisie des notes'!$G$3:$FB$3,0)+5),"")} | M21: {=IF(H21<>"",INDEX('2. Saisie des notes'!$G$6:$FB$50,MATCH($A$2,'2. Saisie des notes'!$A$6:$A$50,0),MATCH($A21,'2. Saisie des notes'!$G$3:$FB$3,0)+6),"")} | N21: {=IF(H21<>"",INDEX('2. Saisie des notes'!$G$6:$FB$50,MATCH($A$2,'2. Saisie des notes'!$A$6:$A$50,0),MATCH($A21,'2. Saisie des notes'!$G$3:$FB$3,0)+7),"")} | O21: {=IF(H21<>"",INDEX('2. Saisie des notes'!$G$6:$FB$50,MATCH($A$2,'2. Saisie des notes'!$A$6:$A$50,0),MATCH(A21,'2. Saisie des notes'!$G$3:$FB$3,0)+8),"")} | AA21: =H21 | AD21: {=INDEX('2. Saisie des notes'!$G$5:$FB$50,MATCH("C00",'2. Saisie des notes'!$A$5:$A$50,0),MATCH(A21,'2. Saisie des notes'!$G$3:$FB$3,0)+7)} | AE21: =N21
... A23: E14 | D23: =IF(H23<>"",INDEX('2. Saisie des notes'!$G$6:$FB$50,MATCH($A$2,'2. Saisie des notes'!$A$6:$A$50,0),MATCH($A23,'2. Saisie des notes'!$G$3:$FB$3,0)),"") | E23: {=IF(H23<>"",INDEX('2. Saisie des notes'!$G$6:$FB$50,MATCH($A$2,'2. Saisie des notes'!$A$6:$A$50,0),MATCH($A23,'2. Saisie des notes'!$G$3:$FB$3,0)+1),"")} | F23: {=IF(H23<>"",INDEX('2. Saisie des notes'!$G$6:$FB$50,MATCH($A$2,'2. Saisie des notes'!$A$6:$A$50,0),MATCH($A23,'2. Saisie des notes'!$G$3:$FB$3,0)+2),"")} | G23: {=IF(H23<>"",INDEX('2. Saisie des notes'!$G$6:$FB$50,MATCH($A$2,'2. Saisie des notes'!$A$6:$A$50,0),MATCH($A23,'2. Saisie des notes'!$G$3:$FB$3,0)+3),"")} | H23: =IF(INDEX('BTS ET EPREUVES'!$A$1:$DK$21,MATCH($A23,'BTS ET EPREUVES'!$A$1:$A$21,0),MATCH('1. Informations administratives'!$S$4,'BTS ET EPREUVES'!$A$2:$DK$2,0))<>"",INDEX('BTS ET EPREUVES'!$A$1:$DK$21,MATCH($A23,'BTS ET EPREUVES'!$A$1:$A$21,0),MATCH('1. Informations administratives'!$S$4,'BTS ET EPREUVES'!$A$2:$DK$2,0)),"") | K23: {=IF(H23<>"",INDEX('2. Saisie des notes'!$G$6:$FB$50,MATCH($A$2,'2. Saisie des notes'!$A$6:$A$50,0),MATCH($A23,'2. Saisie des notes'!$G$3:$FB$3,0)+4),"")} | L23: {=IF(H23<>"",INDEX('2. Saisie des notes'!$G$6:$FB$50,MATCH($A$2,'2. Saisie des notes'!$A$6:$A$50,0),MATCH($A23,'2. Saisie des notes'!$G$3:$FB$3,0)+5),"")} | M23: {=IF(H23<>"",INDEX('2. Saisie des notes'!$G$6:$FB$50,MATCH($A$2,'2. Saisie des notes'!$A$6:$A$50,0),MATCH($A23,'2. Saisie des notes'!$G$3:$FB$3,0)+6),"")} | N23: {=IF(H23<>"",INDEX('2. Saisie des notes'!$G$6:$FB$50,MATCH($A$2,'2. Saisie des notes'!$A$6:$A$50,0),MATCH($A23,'2. Saisie des notes'!$G$3:$FB$3,0)+7),"")} | O23: {=IF(H23<>"",INDEX('2. Saisie des notes'!$G$6:$FB$50,MATCH($A$2,'2. Saisie des notes'!$A$6:$A$50,0),MATCH(A23,'2. Saisie des notes'!$G$3:$FB$3,0)+8),"")} | AA23: =H23 | AD23: {=INDEX('2. Saisie des notes'!$G$5:$FB$50,MATCH("C00",'2. Saisie des notes'!$A$5:$A$50,0),MATCH(A23,'2. Saisie des notes'!$G$3:$FB$3,0)+7)} | AE23: =N23
A24: E15 | G24: (1) Année antérieure à celle de l'examen | M24: (2) Année de l'examen
D25: Certification de compétences numériques PIX cocher la case pour attester de l'obtention de la certification | J25: =IF(INDEX('2. Saisie des notes'!$D$6:$FB$50,MATCH($A$2,'2. Saisie des notes'!$A$6:$A$50,0),MATCH("PIX",'2. Saisie des notes'!$D$3:$FB$3,0))="OUI","X","")
D27: AVIS DU CONSEIL DE CLASSE ET OBSERVATIONS EVENTUELLES | K27: REPARTITION DES AVIS EN % | P27: Résultats des sessions précédentes | T27: DATE, SIGNATURE ET REMARQUES EVENTUELLES
D28: =INDEX('2. Saisie des notes'!$D$6:$FB$50,MATCH($A$2,'2. Saisie des notes'!$A$6:$A$50,0),MATCH("CC1",'2. Saisie des notes'!$D$3:$FB$3,0)) -> 0 | K28: Avis | N28: Effectif total de la classe | P28: Année | Q28: Présentés | R28: Recues | S28: %
K29: Très Favorable | L29: Favorable | M29: Doit faire ses preuves
D31: =IF(INDEX('2. Saisie des notes'!$D$6:$FB$50,MATCH($A$2,'2. Saisie des notes'!$A$6:$A$50,0),MATCH("CC2",'2. Saisie des notes'!$D$3:$FB$3,0))<>"",INDEX('2. Saisie des notes'!$D$6:$FB$50,MATCH($A$2,'2. Saisie des notes'!$A$6:$A$50,0),MATCH("CC2",'2. Saisie des notes'!$D$3:$FB$3,0)),"") | K31: ='2. Saisie des notes'!EF$46/'2. Saisie des notes'!$EI$46 -> #DIV/0! | L31: ='2. Saisie des notes'!EG$46/'2. Saisie des notes'!$EI$46 -> #DIV/0! | M31: ='2. Saisie des notes'!EH$46/'2. Saisie des notes'!$EI$46 -> #DIV/0! | N31: ='2. Saisie des notes'!EI46 -> 0 | P31: ='1. Informations administratives'!K11 -> 2024 | Q31: ='1. Informations administratives'!L11 -> 0 | R31: ='1. Informations administratives'!M11 -> 0 | S31: ='1. Informations administratives'!N11
P32: ='1. Informations administratives'!K12 -> 2023 | Q32: ='1. Informations administratives'!L12 -> 0 | R32: ='1. Informations administratives'!M12 -> 0 | S32: ='1. Informations administratives'!N12
P33: ='1. Informations administratives'!K13 -> 2022 | Q33: ='1. Informations administratives'!L13 -> 0 | R33: ='1. Informations administratives'!M13 -> 0 | S33: ='1. Informations administratives'!N13
F108: Visa du Président du jury (groupe 1) | S108: Visa du Président du jury (groupe 2)

Sheet C04
A2: {=RIGHT(CELL("nomfichier",A2),3)} -> C04 | D2: Examen : | F2: ='1. Informations administratives'!C3 -> BTS | I2: Année de l'examen | J2: Nom : | K2: =UPPER(INDEX('1. Informations administratives'!A8:J47,MATCH(A2,'1. Informations administratives'!A8:A47,0),2)) | O2: Prénom : | Q2: =INDEX('1. Informations administratives'!A8:J47,MATCH(A2,'1. Informations administratives'!A8:A47,0),3) -> 0 | V2: Cachet de l'établissement, date et signature du chef d'établissement :
D3: Spécialité : | F3: ='1. Informations administratives'!C4 -> Tourisme | V3: ='1. Informations administratives'!L5 -> 0
I4: ='1. Informations administratives'!L4 -> 2025 | J4: Date de naissance: | K4: =INDEX('1. Informations administratives'!$A$8:$J$47,MATCH($A$2,'1. Informations administratives'!$A$8:$A$47,0),4) -> 0 | O4: INE : | P4: =INDEX('1. Informations administratives'!A8:J47,MATCH(A2,'1. Informations administratives'!A8:A47,0),7) -> 0 | S4: Langue vivante
J5: Lieu de naissance : | K5: =INDEX('1. Informations administratives'!$A$8:$J$47,MATCH($A$2,'1. Informations administratives'!$A$8:$A$47,0),5) -> 0 | O5: INSEE : | P5: =INDEX('1. Informations administratives'!A8:J47,MATCH(A2,'1. Informations administratives'!A8:A47,0),6) -> 0 | S5: =INDEX('1. Informations administratives'!A8:J47,MATCH(A2,'1. Informations administratives'!A8:A47,0),8) -> 0
D7: Classe de 1ère année (1) | G7: ='1. Informations administratives'!L4-1 -> 2024 | H7: Enseignements | K7: Classe de 2ème année (2) | N7: ='1. Informations administratives'!L4 -> 2025 | O7: Appréciations | AD7: C00
D8: 1er trimestre | E8: 2ème trimestre | F8: 3ème trimestre | G8: Moyenne | K8: 1er trimestre | L8: 2ème trimestre | M8: 3ème trimestre | N8: Moyenne
D9: 1er semestre | E9: 2ème semestre | K9: 1er semestre | L9: 2ème semestre | AD9: Profil de la classe classe en noir | AE9: Profil du candidat en rouge
A10: E1 | D10: =IF(H10<>"",INDEX('2. Saisie des notes'!$G$6:$FB$50,MATCH($A$2,'2. Saisie des notes'!$A$6:$A$50,0),MATCH($A10,'2. Saisie des notes'!$G$3:$FB$3,0)),"") -> 0 | E10: {=IF(H10<>"",INDEX('2. Saisie des notes'!$G$6:$FB$50,MATCH($A$2,'2. Saisie des notes'!$A$6:$A$50,0),MATCH($A10,'2. Saisie des notes'!$G$3:$FB$3,0)+1),"")} -> 0 | F10: {=IF(H10<>"",INDEX('2. Saisie des notes'!$G$6:$FB$50,MATCH($A$2,'2. Saisie des notes'!$A$6:$A$50,0),MATCH($A10,'2. Saisie des notes'!$G$3:$FB$3,0)+2),"")} -> 0 | G10: {=IF(H10<>"",INDEX('2. Saisie des notes'!$G$6:$FB$50,MATCH($A$2,'2. Saisie des notes'!$A$6:$A$50,0),MATCH($A10,'2. Saisie des notes'!$G$3:$FB$3,0)+3),"")} | H10: =IF(INDEX('BTS ET EPREUVES'!$A$1:$DK$21,MATCH($A10,'BTS ET EPREUVES'!$A$1:$A$21,0),MATCH('1. Informations administratives'!$S$4,'BTS ET EPREUVES'!$A$2:$DK$2,0))<>"",INDEX('BTS ET EPREUVES'!$A$1:$DK$21,MATCH($A10,'BTS ET EPREUVES'!$A$1:$A$21,0),MATCH('1. Informations administratives'!$S$4,'BTS ET EPREUVES'!$A$2:$DK$2,0)),"") -> U1 - Culture générale et expression | K10: {=IF(H10<>"",INDEX('2. Saisie des notes'!$G$6:$FB$50,MATCH($A$2,'2. Saisie des notes'!$A$6:$A$50,0),MATCH($A10,'2. Saisie des notes'!$G$3:$FB$3,0)+4),"")} -> 0 | L10: {=IF(H10<>"",INDEX('2. Saisie des notes'!$G$6:$FB$50,MATCH($A$2,'2. Saisie des notes'!$A$6:$A$50,0),MATCH($A10,'2. Saisie des notes'!$G$3:$FB$3,0)+5),"")} -> 0 | M10: {=IF(H10<>"",INDEX('2. Saisie des notes'!$G$6:$FB$50,MATCH($A$2,'2. Saisie des notes'!$A$6:$A$50,0),MATCH($A10,'2. Saisie des notes'!$G$3:$FB$3,0)+6),"")} -> 0 | N10: {=IF(H10<>"",INDEX('2. Saisie des notes'!$G$6:$FB$50,MATCH($A$2,'2. Saisie des notes'!$A$6:$A$50,0),MATCH($A10,'2. Saisie des notes'!$G$3:$FB$3,0)+7),"")} | O10: {=IF(H10<>"",INDEX('2. Saisie des notes'!$G$6:$FB$50,MATCH($A$2,'2. Saisie des notes'!$A$6:$A$50,0),MATCH(A10,'2. Saisie des notes'!$G$3:$FB$3,0)+8),"")} -> 0 | AA10: =H10 -> U1 - Culture générale et expression | AD10: {=INDEX('2. Saisie des notes'!$G$5:$FB$50,MATCH("C00",'2. Saisie des notes'!$A$5:$A$50,0),MATCH(A10,'2. Saisie des notes'!$G$3:$FB$3,0)+7)} | AE10: =N10
A11: E2 | D11: =IF(H11<>"",INDEX('2. Saisie des notes'!$G$6:$FB$50,MATCH($A$2,'2. Saisie des notes'!$A$6:$A$50,0),MATCH($A11,'2. Saisie des notes'!$G$3:$FB$3,0)),"") -> 0 | E11: {=IF(H11<>"",INDEX('2. Saisie des notes'!$G$6:$FB$50,MATCH($A$2,'2. Saisie des notes'!$A$6:$A$50,0),MATCH($A11,'2. Saisie des notes'!$G$3:$FB$3,0)+1),"")} -> 0 | F11: {=IF(H11<>"",INDEX('2. Saisie des notes'!$G$6:$FB$50,MATCH($A$2,'2. Saisie des notes'!$A$6:$A$50,0),MATCH($A11,'2. Saisie des notes'!$G$3:$FB$3,0)+2),"")} -> 0 | G11: {=IF(H11<>"",INDEX('2. Saisie des notes'!$G$6:$FB$50,MATCH($A$2,'2. Saisie des notes'!$A$6:$A$50,0),MATCH($A11,'2. Saisie des notes'!$G$3:$FB$3,0)+3),"")} | H11: =IF(INDEX('BTS ET EPREUVES'!$A$1:$DK$21,MATCH($A11,'BTS ET EPREUVES'!$A$1:$A$21,0),MATCH('1. Informations administratives'!$S$4,'BTS ET EPREUVES'!$A$2:$DK$2,0))<>"",INDEX('BTS ET EPREUVES'!$A$1:$DK$21,MATCH($A11,'BTS ET EPREUVES'!$A$1:$A$21,0),MATCH('1. Informations administratives'!$S$4,'BTS ET EPREUVES'!$A$2:$DK$2,0)),"") -> U21 - Communication en langue vivante étrangère : anglais | K11: {=IF(H11<>"",INDEX('2. Saisie des notes'!$G$6:$FB$50,MATCH($A$2,'2. Saisie des notes'!$A$6:$A$50,0),MATCH($A11,'2. Saisie des notes'!$G$3:$FB$3,0)+4),"")} -> 0 | L11: {=IF(H11<>"",INDEX('2. Saisie des notes'!$G$6:$FB$50,MATCH($A$2,'2. Saisie des notes'!$A$6:$A$50,0),MATCH($A11,'2. Saisie des notes'!$G$3:$FB$3,0)+5),"")} -> 0 | M11: {=IF(H11<>"",INDEX('2. Saisie des notes'!$G$6:$FB$50,MATCH($A$2,'2. Saisie des notes'!$A$6:$A$50,0),MATCH($A11,'2. Saisie des notes'!$G$3:$FB$3,0)+6),"")} -> 0 | N11: {=IF(H11<>"",INDEX('2. Saisie des notes'!$G$6:$FB$50,MATCH($A$2,'2. Saisie des notes'!$A$6:$A$50,0),MATCH($A11,'2. Saisie des notes'!$G$3:$FB$3,0)+7),"")} | O11: {=IF(H11<>"",INDEX('2. Saisie des notes'!$G$6:$FB$50,MATCH($A$2,'2. Saisie des notes'!$A$6:$A$50,0),MATCH(A11,'2. Saisie des notes'!$G$3:$FB$3,0)+8),"")} -> 0 | AA11: =H11 -> U21 - Communication en langue vivante étrangère : anglais | AD11: {=INDEX('2. Saisie des notes'!$G$5:$FB$50,MATCH("C00",'2. Saisie des notes'!$A$5:$A$50,0),MATCH(A11,'2. Saisie des notes'!$G$3:$FB$3,0)+7)} | AE11: =N11
A12: E3 | D12: =IF(H12<>"",INDEX('2. Saisie des notes'!$G$6:$FB$50,MATCH($A$2,'2. Saisie des notes'!$A$6:$A$50,0),MATCH($A12,'2. Saisie des notes'!$G$3:$FB$3,0)),"") -> 0 | E12: {=IF(H12<>"",INDEX('2. Saisie des notes'!$G$6:$FB$50,MATCH($A$2,'2. Saisie des notes'!$A$6:$A$50,0),MATCH($A12,'2. Saisie des notes'!$G$3:$FB$3,0)+1),"")} -> 0 | F12: {=IF(H12<>"",INDEX('2. Saisie des notes'!$G$6:$FB$50,MATCH($A$2,'2. Saisie des notes'!$A$6:$A$50,0),MATCH($A12,'2. Saisie des notes'!$G$3:$FB$3,0)+2),"")} -> 0 | G12: {=IF(H12<>"",INDEX('2. Saisie des notes'!$G$6:$FB$50,MATCH($A$2,'2. Saisie des notes'!$A$6:$A$50,0),MATCH($A12,'2. Saisie des notes'!$G$3:$FB$3,0)+3),"")} | H12: =IF(INDEX('BTS ET EPREUVES'!$A$1:$DK$21,MATCH($A12,'BTS ET EPREUVES'!$A$1:$A$21,0),MATCH('1. Informations administratives'!$S$4,'BTS ET EPREUVES'!$A$2:$DK$2,0))<>"",INDEX('BTS ET EPREUVES'!$A$1:$DK$21,MATCH($A12,'BTS ET EPREUVES'!$A$1:$A$21,0),MATCH('1. Informations administratives'!$S$4,'BTS ET EPREUVES'!$A$2:$DK$2,0)),"") -> U22 - Communication en langue vivante étrangère : langue B | K12: {=IF(H12<>"",INDEX('2. Saisie des notes'!$G$6:$FB$50,MATCH($A$2,'2. Saisie des notes'!$A$6:$A$50,0),MATCH($A12,'2. Saisie des notes'!$G$3:$FB$3,0)+4),"")} -> 0 | L12: {=IF(H12<>"",INDEX('2. Saisie des notes'!$G$6:$FB$50,MATCH($A$2,'2. Saisie des notes'!$A$6:$A$50,0),MATCH($A12,'2. Saisie des notes'!$G$3:$FB$3,0)+5),"")} -> 0 | M12: {=IF(H12<>"",INDEX('2. Saisie des notes'!$G$6:$FB$50,MATCH($A$2,'2. Saisie des notes'!$A$6:$A$50,0),MATCH($A12,'2. Saisie des notes'!$G$3:$FB$3,0)+6),"")} -> 0 | N12: {=IF(H12<>"",INDEX('2. Saisie des notes'!$G$6:$FB$50,MATCH($A$2,'2. Saisie des notes'!$A$6:$A$50,0),MATCH($A12,'2. Saisie des notes'!$G$3:$FB$3,0)+7),"")} | O12: {=IF(H12<>"",INDEX('2. Saisie des notes'!$G$6:$FB$50,MATCH($A$2,'2. Saisie des notes'!$A$6:$A$50,0),MATCH(A12,'2. Saisie des notes'!$G$3:$FB$3,0)+8),"")} -> 0 | AA12: =H12 -> U22 - Communication en langue vivante étrangère : langue B | AD12: {=INDEX('2. Saisie des notes'!$G$5:$FB$50,MATCH("C00",'2. Saisie des notes'!$A$5:$A$50,0),MATCH(A12,'2. Saisie des notes'!$G$3:$FB$3,0)+7)} | AE12: =N12
A13: E4 | D13: =IF(H13<>"",INDEX('2. Saisie des notes'!$G$6:$FB$50,MATCH($A$2,'2. Saisie des notes'!$A$6:$A$50,0),MATCH($A13,'2. Saisie des notes'!$G$3:$FB$3,0)),"") -> 0 | E13: {=IF(H13<>"",INDEX('2. Saisie des notes'!$G$6:$FB$50,MATCH($A$2,'2. Saisie des notes'!$A$6:$A$50,0),MATCH($A13,'2. Saisie des notes'!$G$3:$FB$3,0)+1),"")} -> 0 | F13: {=IF(H13<>"",INDEX('2. Saisie des notes'!$G$6:$FB$50,MATCH($A$2,'2. Saisie des notes'!$A$6:$A$50,0),MATCH($A13,'2. Saisie des notes'!$G$3:$FB$3,0)+2),"")} -> 0 | G13: {=IF(H13<>"",INDEX('2. Saisie des notes'!$G$6:$FB$50,MATCH($A$2,'2. Saisie des notes'!$A$6:$A$50,0),MATCH($A13,'2. Saisie des notes'!$G$3:$FB$3,0)+3),"")} | H13: =IF(INDEX('BTS ET EPREUVES'!$A$1:$DK$21,MATCH($A13,'BTS ET EPREUVES'!$A$1:$A$21,0),MATCH('1. Informations administratives'!$S$4,'BTS ET EPREUVES'!$A$2:$DK$2,0))<>"",INDEX('BTS ET EPREUVES'!$A$1:$DK$21,MATCH($A13,'BTS ET EPREUVES'!$A$1:$A$21,0),MATCH('1. Informations administratives'!$S$4,'BTS ET EPREUVES'!$A$2:$DK$2,0)),"") -> U3 - Tourisme et territoires | K13: {=IF(H13<>"",INDEX('2. Saisie des notes'!$G$6:$FB$50,MATCH($A$2,'2. Saisie des notes'!$A$6:$A$50,0),MATCH($A13,'2. Saisie des notes'!$G$3:$FB$3,0)+4),"")} -> 0 | L13: {=IF(H13<>"",INDEX('2. Saisie des notes'!$G$6:$FB$50,MATCH($A$2,'2. Saisie des notes'!$A$6:$A$50,0),MATCH($A13,'2. Saisie des notes'!$G$3:$FB$3,0)+5),"")} -> 0 | M13: {=IF(H13<>"",INDEX('2. Saisie des notes'!$G$6:$FB$50,MATCH($A$2,'2. Saisie des notes'!$A$6:$A$50,0),MATCH($A13,'2. Saisie des notes'!$G$3:$FB$3,0)+6),"")} -> 0 | N13: {=IF(H13<>"",INDEX('2. Saisie des notes'!$G$6:$FB$50,MATCH($A$2,'2. Saisie des notes'!$A$6:$A$50,0),MATCH($A13,'2. Saisie des notes'!$G$3:$FB$3,0)+7),"")} | O13: {=IF(H13<>"",INDEX('2. Saisie des notes'!$G$6:$FB$50,MATCH($A$2,'2. Saisie des notes'!$A$6:$A$50,0),MATCH(A13,'2. Saisie des notes'!$G$3:$FB$3,0)+8),"")} -> 0 | AA13: =H13 -> U3 - Tourisme et territoires | AD13: {=INDEX('2. Saisie des notes'!$G$5:$FB$50,MATCH("C00",'2. Saisie des notes'!$A$5:$A$50,0),MATCH(A13,'2. Saisie des notes'!$G$3:$FB$3,0)+7)} | AE13: =N13
