Workbook

Sheet BTS ET EPREUVES
B1: Aéronautique | C1: Architectures en Métal : Conception et Réalisation | D1: Assistance technique d'ingénieur | E1: Assurance | F1: Banque - Conseiller de clientèle | G1: Bâtiment | H1: Biotechnologies | I1: Collaborateur juriste notarial | J1: Commerce International | K1: Communication | L1: Comptabilité et Gestion | M1: Conception des Processus de Découpe et d'Emboutissage | N1: Conception des processus de réalisation de produits Option A : production unitaire | O1: Conception des processus de réalisation de produits Option B : production sérielle | P1: Conception des Produits Industriels | Q1: Conception et Industrialisation en Construction Navale | R1: Conception et industrialisation en microtechniques | S1: Conception et Réalisation de Carrosserie | T1: Conception et réalisation de systèmes automatiques | U1: Conception et Réalisation en Chaudronnerie Industrielle | V1: Conseil et commercialisation de solutions techniques | W1: Contrôle Industriel et Régulation Automatique | X1: Cybersécurité, Informatique et réseaux, Électronique option A : Informatique et réseaux | Y1: Cybersécurité, Informatique et réseaux, Électronique option B : Électronique et réseaux | Z1: Développement et réalisation bois | AA1: Édition | AB1: Électrotechnique | AC1: Enveloppe des Bâtiments : Conception et Réalisation | AD1: Environnement nucléaire | AE1: Étude de Réalisation d'un Projet de Communication | AF1: Etude et Réalisation d'Agencement | AG1: EuroPlastics et Composites - Option Option POP : Pilotage et Optimisation de la Production | AH1: EuroPlastics et Composites Option CO : Conception Outillage | AI1: Finitions, Aménagement des Bâtiments : Conception et Réalisation | AJ1: Fluides Énergies Domotique Option A : Génie climatique et fluidique | AK1: Fluides Énergies Domotique Option B : Froid et conditionnement d'air | AL1: Fluides Énergies Domotique Option C : Domotique et bâtiments communicants | AM1: Fonderie | AN1: Forge | AO1: Géologie Appliquée | AP1: Gestion de la PME | AQ1: Gestion des Transports et Logistique Associée | AR1: Industries céramiques | AS1: Innovation textile Option B : traitements | AT1: Innovation textile Option A : structures | AU1: Maintenance des Matériels de Construction et de Manutention | AV1: Maintenance des Systèmes Option A : Systèmes de production | AW1: Maintenance des Systèmes option B : Systèmes énergétiques et fluidiques | AX1: Maintenance des Systèmes option C : Systèmes éoliens | AY1: Maintenance des Systèmes option D : Systèmes ascenseurs et élévateurs | AZ1: Maintenance des Véhicules | BA1: Management Commercial Opérationnel | BB1: Management Commercial Opérationnel | BC1: Management Économique de la Construction | BD1: Management en Hôtellerie-Restauration option A | BE1: Management en Hôtellerie-Restauration option B | BF1: Management en Hôtellerie-Restauration option C | BG1: Management Opérationnel de la Sécurité | BH1: Mécatronique Navale | BI1: Métiers de la chimie | BJ1: Métiers de la Coiffure | BK1: Métiers de la Mesure | BL1: Métiers de la mode : Chaussure et maroquinerie | BM1: Métiers de la mode : Vêtements | BN1: Métiers de l'Audiovisuel Option A : Gestion de la production | BO1: Métiers de l'Audiovisuel Option B : Métiers de l’image | BP1: Métiers de l'Audiovisuel Option C : Métiers du son | BQ1: Métiers de l'Audiovisuel Option D : Techniques d’ingénierie et exploitation des équipements | BR1: Métiers de l'Audiovisuel Option E : Métiers du montage et de la postproduction | BS1: Métiers de l'eau | BT1: Métiers de l'Esthétique, Cosmétique Parfumerie Option A : Management | BU1: Métiers de l'Esthétique, Cosmétique Parfumerie Option B : Formation-marques | BV1: Métiers de l'Esthétique, Cosmétique Parfumerie Option C : Cosmétologie | BW1: Métiers des services à l'environnement | BX1: Métiers du Géomètre Topographe et de la Modélisation Numérique | BY1: Motorisations toutes énergies | BZ1: Négociation et Digitalisation de la Relation Client | CA1: Opticien-lunetier | CB1: Photographie | CC1: Pilotage de Procédés | CD1: Professions Immobilières | CE1: Prothésiste Dentaire | CF1: Services et Prestations des Secteurs Sanitaire et Social | CG1: Services Informatiques aux Organisations option A solutions d'infrastructure, systèmes et réseaux | CH1: Services Informatiques aux Organisations option B solutions logicielles et applications métiers | CI1: Support à l'Action Managériale | CJ1: Systèmes constructifs bois et habitat | CK1: Systèmes photoniques | CL1: Techniques et Services en Matériels agricoles | CM1: Tourisme | CN1: Traitement des matériaux option A : traitements thermiques | CO1: Traitement des matériaux option B : traitements de surfaces | CP1: Travaux Publics
B2: ="BTS"&(COLUMN(B1)+99) -> BTS101 | C2: ="BTS"&(COLUMN(C1)+99) -> BTS102 | D2: ="BTS"&(COLUMN(D1)+99) -> BTS103 | E2: ="BTS"&(COLUMN(E1)+99) -> BTS104 | F2: ="BTS"&(COLUMN(F1)+99) -> BTS105 | G2: ="BTS"&(COLUMN(G1)+99) -> BTS106 | H2: ="BTS"&(COLUMN(H1)+99) -> BTS107 | I2: ="BTS"&(COLUMN(I1)+99) -> BTS108 | ... CV2: ="BTS"&(COLUMN(CV1)+99) -> BTS199
A3: E1 | B3: E1 - Culture générale et expression | C3: U1 - Culture générale et expression | D3: E1 - Français | E3: U1 - Culture générale et expression | F3: U1 - Culture générale et expression | G3: E1 - Culture générale et expression | H3: E11 - Mathématiques | I3: E1 - Culture générale et expression | J3: Culture générale et expression | K3: E1-Cultures de la communication | L3: E1-Culture générale et expression | M3: E1 - Culture générale et expression | N3: E1 - Culture générale et expression | O3: E1 - Culture générale et expression | P3: E1 - Culture générale et expression | Q3: E1 - Culture générale et expression | R3: E1 - Culture générale et expression | S3: E1 - Culture générale et expression | T3: E1 - Culture générale et expression | U3: U1 - Culture générale et expression | V3: E1 - Culture générale et expression | W3: Culture générale et expression | X3: E1 - Culture générale et expression | Y3: E1 - Culture générale et expression | Z3: E1- Culture générale et expression | AA3: E1 - Culture générale et expression | AB3: U1 - Culture générale et expression | AC3: E1 - Culture générale et expression | AD3: E1-Culture générale et expression | AE3: E1 - Culture générale et expression | AF3: E1 - Culture générale et expression | AG3: E1 - Culture générale et expression | AH3: E1 - Culture générale et expression | AI3: E1 - Culture générale et expression | AJ3: U1 - Culture générale et expression | AK3: U1 - Culture générale et expression | AL3: U1 - Culture générale et expression | AM3: E1 - Culture générale et expression | AN3: E1 - Culture générale et expression | AO3: Culture générale et expression | AP3: Culture générale et expression | AQ3: E1-Culture générale et expression | AR3: E1-Culture générale et expression | AS3: E1 - Culture générale et expression | AT3: E1 - Culture générale et expression | AU3: E1 - Culture générale et expression | AV3: E1 Culture générale et expression | AW3: E1 Culture générale et expression | AX3: E1 Culture générale et expression | AY3: E1 Culture générale et expression | AZ3: E1 - Culture générale et expression | BA3: E1-Culture générale et expression | BB3: E1 - Culture générale et expression | BC3: E1 - Culture générale et expression | BD3: Communication et expression française | BE3: Communication et expression française | BF3: Communication et expression française | BG3: E1 - Culture générale et expression | BH3: E1 - Culture générale et expression | BI3: Culture générale et expression | BJ3: U1 - Culture générale et expression | BK3: E1 - Culture générale et expression | BL3: E1 - Culture générale et expression | BM3: E1 - Culture générale et expression | BN3: E1 - Culture audiovisuelle et artistique | BO3: E1 - Culture audiovisuelle et artistique | BP3: E1 - Culture audiovisuelle et artistique | BQ3: E1 - Culture audiovisuelle et artistique | BR3: E1 - Culture audiovisuelle et artistique | BS3: E1-Culture générale et expression | BT3: U1 - Langue vivante étrangère A | BU3: U1 - Langue vivante étrangère A | BV3: U1 - Langue vivante étrangère A | BW3: E1 - Langue vivante étrangère | BX3: E1 - Culture générale et expression | BY3: E1 - Culture générale et expression | BZ3: U1 - Culture générale et expression | CA3: E1 - Culture générale et expression | CB3: E11 - Culture générale et expression | CC3: E1 - Culture générale et expression | CD3: U1 - Culture générale et expression | CE3: E1 - Sciences | CF3: E1 - Culture générale et expression | CG3: E1-Culture générale et Expression | CH3: E1-Culture générale et Expression | CI3: Culture générale et expression | CJ3: E1 - Culture générale et expression | CK3: E1 - Culture générale et expression | CL3: E1 - Culture générale et expression | CM3: U1 - Culture générale et expression | CN3: E1 - Culture générale et expression | CO3: E1 - Culture générale et expression | CP3: E1 - Culture générale et expression
A4: E2 | B4: E2 - Anglais | C4: U2 - Anglais | D4: E2 - Langue vivante étrangère 1 | E4: U2 - Langue vivante étrangère | F4: U2 - Langue vivante étrangère | G4: E2 - Anglais | H4: E12 - Sciences physiques et chimiques | I4: E2 - LVE anglaise : compréhension de l'écrit et expression écrite | J4: Langue vivante étrangère 1 : anglais | K4: E2-Langue vivante étrangère 1 : Compréhension de l'écrit et expression écrite | L4: E2-LV obligatoire Anglais | M4: E2 - Langue vivante étrangère 1 : Anglais | N4: E2 - Langue vivante étrangère 1 : Anglais | O4: E2 - Langue vivante étrangère 1 : Anglais | P4: E2 - Langue vivante étrangère : Anglais | Q4: E2 – Anglais | R4: E2 - Langue vivante étrangère | S4: E2 – Anglais | T4: E2 - Langue vivante : Anglais | U4: U2 - Anglais | V4: E2 - Communication en LVE : Compréhension de l'écrit et expression écrite | W4: Anglais | X4: E2 - Langue vivante étrangère 1 : Anglais | Y4: E2 - Langue vivante étrangère 1 : Anglais | Z4: E2 - Langue vivante étrangère 1 | AA4: E2 - Langue vivante étrangère 1 | AB4: U2 - Anglais | AC4: E2 - Anglais | AD4: E2-Anglais | AE4: E2 - Langue vivante étrangère : Anglais | AF4: E2 - Langue vivante étrangère 1 | AG4: E2 - Langue vivante étrangère Anglais | AH4: E2 - Langue vivante étrangère Anglais | AI4: E2 - Anglais | AJ4: U2 - Anglais | AK4: U2 - Anglais | AL4: U2 - Anglais | AM4: E2 - Langue vivante étrangère 1 : Anglais | AN4: E2 - Langue vivante étrangère 1 : Anglais | AO4: Anglais | AP4: Langue vivante étrangère 1 | AQ4: E2-Langue vivante étrangère : Compréhension de l'écrit et expression écrite | AR4: E2-Langue vivante étrangère : Anglais | AS4: E2 - Langue vivante - Anglais | AT4: E2 - Langue vivante - Anglais | AU4: E2 - Langue vivante étrangère anglais | AV4: E2 Langue vivante étrangère 1 : Anglais | AW4: E2 Langue vivante étrangère 1 : Anglais | AX4: E2 Langue vivante étrangère 1 : Anglais | AY4: E2 Langue vivante étrangère 1 : Anglais | AZ4: E2 - Langue vivante étrangère anglais | BA4: E2-Communication en langue vivante étrangère 1 : Compréhension de l'écrit et expression écrite | BB4: E2 - Communication en langue vivante étrangère 1 : Compréhension de l’écrit et expression écrite | BC4: E2 - Anglais | BD4: Langue vivante étrangère A | BE4: Langue vivante étrangère A | BF4: Langue vivante étrangère A | BG4: E21 - Compréhension de l'écrit et de l'expression | BH4: E2 - Langue vivante étrangère anglais | BI4: Anglais | BJ4: U2 - Langue vivante étrangère 1 | BK4: E2 - Langue vivante étrangère 1 : anglais | BL4: E2 - Langue vivante - Anglais | BM4: E2 - Langue vivante - Anglais | BN4: E2 - Anglais | BO4: E2 - Anglais | BP4: E2 - Anglais | BQ4: E2 - Anglais | BR4: E2 - Anglais | BS4: E2-Langue vivante étrangère 1 | BT4: U2 - Environnement professionnel | BU4: U2 - Environnement professionnel | BV4: U2 - Environnement professionnel | BW4: E21 - Chimie - biologie | BX4: E2 - Anglais | BY4: E2 - Langue vivante étrangère Anglais | BZ4: U2 - Communication en Langue vivante étrangère 1 | CA4: E2 - Langue vivante étrangère | CB4: E12 - Culture photographique et visuelle | CC4: E2 - Langue vivante - Anglais | CD4: U2 - Langue vivante étrangère | CE4: E2 - Culture générale et expression | CF4: E2 - Langue vivante étrangère 1 | CG4: E2-Expression et communication en langue anglaise | CH4: E2-Expression et communication en langue anglaise | CI4: Langue vivante étrangère A | CJ4: E2 - Langue vivante étrangère 1 | CK4: E2 - Langue vivante : anglais | CL4: E2 - Anglais | CM4: U21 - Communication en langue vivante étrangère : anglais | CN4: E2 - Langue vivante étrangère | CO4: E2 - Langue vivante étrangère | CP4: E2 - Anglais
A5: E3 | B5: E31 - Mathématiques | C5: U3 - Mathématiques | D5: E31 - Mathématiques | E5: U3 - Développement commercial et gestion des | F5: U3 - Gestion de la relation client | G5: E31 - Mathématiques | H5: E2 - Biologie moléculaire et génie génétique | I5: E3 - LVE anglaise : production orale en continu et intéraction | J5: Langue vivante étrangère 2 | K5: E3-Langue vivante étrangère : Production orale en continu et en interaction | L5: E3-Mathématiques appliquées | M5: E31 - Mathématiques | N5: E31 - Mathématiques | O5: E31 - Mathématiques | P5: E31 - Mathématiques | Q5: E31 - Mathématiques | R5: E31 - Mathématiques | S5: E31 - Mathématiques | T5: E31 - Mathématiques | U5: U3 - Mathématiques et Physique-Chimie | V5: E3 - Communication en LVE : Compréhension de l'oral, production orale en continu et en interaction | W5: Mathématiques | X5: E3 - Mathématiques | Y5: E3 - Mathématiques | Z5: E31 - Mathématiques | AA5: E3 - Environnement économique, juridique et managérial de l’édition | AB5: U3 - Mathématiques | AC5: E31 - Mathématiques | AD5: E3-Mathématiques | AE5: E31 - Mathématiques | AF5: U31 - Mathématiques | AG5: E31 - Mathématiques | AH5: E31 - Mathématiques | AI5: E31 - Mathématiques | AJ5: U31 - Mathématiques | AK5: U31 - Mathématiques | AL5: U31 - Mathématiques | AM5: E31 - Mathématiques | AN5: E31 - Mathématiques | AO5: Mathématiques | AP5: Culture économique juridique et managériale | AQ5: E3-Langue vivante étrangère : Production orale en continu et interaction | AR5: E3-Mathématiques | AS5: E31 - Mathématiques | AT5: E31 - Mathématiques | AU5: E31 - Mathématiques | AV5: E31 Mathématiques | AW5: E31 Mathématiques | AX5: E31 Mathématiques | AY5: E31 Mathématiques | AZ5: E31 - Mathématiques | BA5: E3-Communication en langue vivante étrangère 1 : Compréhension de l'oral, production orale en continu et en interaction | BB5: E3 - Communication en langue vivante étrangère 1 : Compréhension de l’oral, production orale en continu et en interaction | BC5: E31 - Mathématiques | BD5: Langue vivante étrangère B | BE5: Langue vivante étrangère B | BF5: Langue vivante étrangère B | BG5: E22 - Production orale en continu et managériale | BH5: E3 - Mathématiques | BI5: Mathématiques | BJ5: U3 - Management et gestion de l’entreprise | BK5: E3 - Mathématiques | BL5: E31 - Mathématiques | BM5: E31 - Mathématiques | BN5: E3 - Environnement économique, juridique et technologie des équipements et supports (EEJTES) | BO5: E3 - Physique et technique des équipements et supports (PTES) | BP5: E3 - Physique et technique des équipements et supports (PTES) | BQ5: E3 - Physique et technique des équipements et supports (PTES) | BR5: E3 - Physique et technique des équipements et supports (PTES) | BS5: E31-Mathématiques | BT5: U3 - Environnement scientifique et technologique | BU5: U3 - Environnement scientifique et technologique | BV5: U3 - Environnement scientifique et technologique | BW5: E22 - Sciences physique et sciences et technologies des systèmes | BX5: E31 - Mathématiques | BY5: E31 - Mathématiques | BZ5: U3 - Culture économique, juridique et managériale | CA5: E3 - Économie et gestion de l'entreprise | CB5: E2 - Anglais | CC5: E31 - Mathématiques | CD5: U3 - Conseil en ingénierie de l’immobilier | CE5: E3 - Anglais | CF5: E3 - Gestion de la structure et du service | CG5: E3-Mathématiques pour l’informatique | CH5: E3-Mathématiques pour l’informatique | CI5: Langue vivante étrangère B | CJ5: E31 - Mathématiques | CK5: E3 - Mathématiques | CL5: E3.1 - Mathématiques | CM5: U22 - Communication en langue vivante étrangère : langue B | CN5: E3 - Mathématiques | CO5: E3 - Mathématiques | CP5: E3 - Mathématiques
A6: E4 | B6: E32 - Sciences physiques et chimiques appliquées | C6: U4 - Analyse, prescription, conception d'un projet | D6: E32 - Sciences physiques | E6: U4 - Gestion des sinistres et des | F6: U4 - Développement et suivi de l’activité commerciale | G6: E32 - Sciences physiques appliquées | H6: E3 - Biochimie structurale et fonctionnelle des protéines | I6: E4 - Éléments fondamentaux du droit | J6: Culture économique, juridique et managériale | K6: E4-Culture économique, juridique et managériale | L6: E4-Culture économique, juridique et managériale | M6: E32 - Physique - chimie | N6: E32 - Physique - Chimie | O6: E32 - Physique - Chimie | P6: E32 - Physique Chimie | Q6: E32 - Physique - chimie | R6: E32 - Sciences physiques appliquées | S6: E32 - Physique - chimie | T6: E32 - Sciences physiques et chimiques appliquées | U6: U4 - Réponse à une affaire | V6: E4 - Culture économique, juridique et managériale | W6: ESLV | X6: E4 - Étude et conception de réseaux informatiques | Y6: E4 - Étude et conception de produits électroniques | Z6: E32 - Sciences physiques | AA6: E4 - Préparation pour mise en production | AB6: U4 - Conception - Étude préliminaire | AC6: E32 - Physique et chimie | AD6: E41-Modélisation et choix techniques en environnement nucléaire : Pré-étude et modélisation | AE6: E32 - Physique - chimie | AF6: U32 - Physique-chimie | AG6: E32 - Physique - chimie | AH6: E32 - Physique - chimie | AI6: E32 - Physique et Chimie | AJ6: U32 et U42 - Physique - Chimie | AK6: U32 et U42 - Physique - Chimie | AL6: U32 et U42 - Physique - Chimie | AM6: E32 - Physique - chimie | AN6: E32 - Physique - chimie | AO6: Physique-chimie | AP6: Culture économique juridique et managériale appliquée | AQ6: E4-Culture économique juridique et managériale | AR6: E4-Physiques-Chimie | AS6: E32 - Physique-chimie | AT6: E32 - Physique-chimie | AU6: E32 - Physique - chimie | AV6: E32 Physique et Chimie | AW6: E32 Physique et Chimie | AX6: E32 Physique et Chimie | AY6: E32 Physique et Chimie | AZ6: E32 - Physique - chimie | BA6: E4-Culture économique, juridique et managériale | BB6: E4 - Culture économique, juridique et managériale | BC6: E32 - Physiques-chimie | BD6: Entrepreneuriat et pilotage de l’entreprise hôtelière (EPEH) | BE6: Entrepreneuriat et pilotage de l’entreprise hôtelière (EPEH) | BF6: Entrepreneuriat et pilotage de l’entreprise hôtelière (EPEH) | BG6: E3 - Culture économique juridique et managériale | BH6: E4 - Intégration d’équipements | BI6: Enseignement Scientifique en Langue Vivante (ESLV) | BJ6: U4 - Environnement scientifique et technologique | BK6: E4 - Physique - Chimie | BL6: E32 - Sciences physiques et chimiques | BM6: E32 - Sciences physiques et chimiques | BN6: E4 - Techniques et mise en œuvre | BO6: E4 - Techniques et mise en œuvre | BP6: E4 - Techniques et mise en œuvre | BQ6: E4 - Techniques et mise en œuvre | BR6: E4 - Techniques et mise en œuvre | BS6: E32-Physique-chimie | BT6: U4 - Épreuve professionnelle | BU6: U4 - Épreuve professionnelle | BV6: U4 - Épreuve professionnelle | BW6: E3 - Organisation, management et développement de l’activité | BX6: E32 - Physique - chimie | BY6: E32 - Physique - chimie | BZ6: U4 - Bloc 1 Relation client et négociation vente | CA6: E41-Mathématiques | CB6: E3 - Sciences appliquées | CC6: E32 - Physique - chimie | CD6: U4 - Communication professionnelle en français et en langue étrangère | CE6: E4 - Élaboration d’un projet prothétique en concertation avec un praticien | CF6: E4 - Politique de la structure et territoire | CG6: E4-Culture économique, juridique et managériale pour l'informatique | CH6: E4-Culture économique, juridique et managériale | CI6: Culture économique, juridique et managériale | CJ6: E32 - Sciences physiques | CK6: E41 - Pré-étude et modélisation d’un système optique | CL6: E3.2 - Sciences physiques et chimiques appliquées | CM6: U3 - Tourisme et territoires | CN6: E41 - Sciences physiques appliquées | CO6: E41 - Sciences physiques appliquées | CP6: E4 - Physique Chimie
A7: E5 | B7: E33 - Travaux pratiques de sciences physiques et chimiques appliquées | C7: U51 - Réponse à un projet | D7: E41 - Étude des spécifications générales d'un système pluritechnologique | E7: U5 - Communication digitale, utilisation du système d’information et des outils numériques | F7: U5 - Environnement économique, juridique et organisationnel de l’activité bancaire | G7: E41 - Dimensionnement et vérification d'ouvrages | H7: E41 - Microbiologie et génie fermentaire | I7: E5 - Environnement de l'activité notariale | J7: Relation commerciale interculturelle | K7: E5-Contribution à l'élaboration et au pilotage de la stratégie de communication | L7: E5-Traitement et contrôle des opérations comptables, fiscales et sociales : Étude de cas | M7: E4 - Réponse préliminaire à une affaire | N7: E4 - Conception préliminaire | O7: E4 - Conception préliminaire | P7: E41 - Expression du besoin et cahier des charges fonctionnel | Q7: E4 - Théorie du bateau | R7: E4 - Conception préliminaire d'un système microtechnique | S7: E4 - Conception préliminaire de produits carrossés | T7: E4 - Conception préliminaire d'un système automatique | U7: U5 - Conception d'un ensemble chaudronné et de sa réalisation | V7: E5 - Conception et négociation de solutions technico-commerciales | W7: Physique-chimie des Procédés Industriels | X7: E5 - Exploitation et maintenance de réseaux informatiques | Y7: E5 - Mise en œuvre de réseaux informatiques | Z7: E4 - Conception et Développement de produit en CAO | AA7: E5 - Proposition de solutions éditoriales | AB7: U51 - Analyse, diagnostic, maintenance | AC7: E41 - Analyse des enveloppes | AD7: E42-Modélisation et choix techniques en environnement nucléaire : Détermination et justification de choix techniques | AE7: E4 - Étude d’un projet de communication | AF7: E4 - Traduction technique du projet architectural | AG7: E4 - Répondre à une affaire - Conception préliminaire | AH7: E4 - Répondre à une affaire - Conception préliminaire | AI7: E4 - Réponse à un projet | AJ7: U41 - Analyse et Définition des systèmes | AK7: U41 - Analyse et Définition des systèmes | AL7: U41 - Analyse et Définition des systèmes | AM7: E4 - Conception préliminaire | AN7: E4 - Conception préliminaire | AO7: Géologie appliquée | AP7: Gérer les relations avec les clients fournisseurs de la PME | AQ7: E5-Mise en œuvre d'opérations de transport et de prestations logistiques | AR7: E5-Réponse à une affaire | AS7: E4 - Analyse technico_x0002_économique, juridique et mercatique | AT7: E4 - Analyse technico_x0002_économique, juridique et mercatique | AU7: E4 - Analyse d’un dysfonctionnement | AV7: E4 Intégration d'un bien | AW7: E4 Intégration d'un bien | AX7: E4 Intégration d'un bien | AY7: E4 Intégration d'un bien | AZ7: E4 - Analyse des systèmes et contrôle des performances | BA7: E5-Développement de la relation client et vente conseil | BB7: E5 - Développement de la relation client et vente conseil | BC7: E4 - Analyse du projet et de son contexte | BD7: Management de l’entreprise hôtelière et mercatique des services (MEHMS) | BE7: Management de l’entreprise hôtelière et mercatique des services (MEHMS) | BF7: Management de l’entreprise hôtelière et mercatique des services (MEHMS) | BG7: E4 - Préparation et mise en oeuvre d’une prestation de sécurité | BH7: E5 - Conduite des systèmes mécatroniques | BI7: Analyse | BJ7: U5 - Techniques professionnelles | BK7: E51 - Conception et mise en œuvre d’un système de mesure | BL7: E41 - Traduire les spécifications esthétiques et fonctionnelles d'un produit | BM7: E41 - Construction et définition du produit en CAO | BN7: E5 - Épreuve professionnelle de synthèse | BO7: E51 - Projet à caractère industriel | BP7: E51 - Projet à caractère industriel | BQ7: E51 - Projet à caractère industriel | BR7: E51 - Projet à caractère industriel | BS7: E4-Exploitation des unités de traitement et des réseaux | BT7: U5 - Conseil et expertise scientifiques et technologiques | BU7: U5 - Conseil et expertise scientifiques et technologiques | BV7: U5 - Conseil et expertise scientifiques et technologiques | BW7: E4 - Projet professionnel | BX7: E4 - Etude d'une situation professionnelle | BY7: E41 - Réalisation d’une campagne d’essais | BZ7: U5 - Bloc 2 Relation client à distance et digitalisation | CA7: E42-Optique géométrique et physique | CB7: E4 - Gestion et droit | CC7: E4 - QHSSE | CD7: U5 - Techniques immobilières – | CE7: E5 - Fabrication d’une prothèse fonctionnelle et esthétique en méthode traditionnelle ou numérique | CF7: E5 - Accompagnement et coordination du parcours de la personne | CG7: E5-Support et mise à disposition de services informatiques | CH7: E5-Support et mise à disposition de services informatiques | CI7: Optimisation des processus administratifs | CJ7: E41 - Répondre à une affaire | CK7: E42 - Conception et industrialisation d’un système optique | CL7: E4 - Diagnostic ou mise en œuvre | CM7: U4 - Gestion de la relation clientèle touristique | CN7: E42 - Sciences et techniques industrielles | CO7: E42 - Sciences et techniques industrielles | CP7: E5 - Analyse et conception d'ouvrage
A8: E6 | B8: E41 - Étude de modifications pluritechnologiques | C8: U52 - Conception détaillée et préparation de la réalisation du projet | D8: E42 - Vérifications des performances mécaniques et électriques d'un système pluritechnologique | E8: UF1 - Langue vivante étrangère 2 | F8: UF1 - Langue vivante 2 | G8: E42 - Conception d'ouvrages du bâtiment | H8: E42 - Biologie cellulaire | I8: E6 - Accompagnement du client selon les règles déontologiques | J8: Relation commerciale interculturelle en anglais et économie-gestion (co-interv) | K8: E6-Conception et mise en œuvre de solutions de communication | L8: E6-Traitement et contrôle des opérations comptables, fiscales et sociales : Pratiques comptables fiscales et sociales | M8: E5 - Conception et qualification des processus et moyens de production | N8: E5 - Projet industriel de conception et d’initialisation de processus | O8: E5 - Projet industriel de conception et d’initialisation de processus | P8: E42 - Conception préliminaire | Q8: E51 - Intégration de systèmes | R8: E51 - Conception détaillée : Pré-industrialisation | S8: E51 - Conception détaillée de produits carrossés | T8: E51 - Conception détaillée d'une chaine fonctionnelle | U8: U6 - Organisation et suivi de la réalisation, préfabrication, installation et de la maintenance | V8: E6 - Management de l'activité technico-commerciale | W8: CIRA | X8: E6 - Valorisation de la donnée et cybersécurité | Y8: E6 - Réalisation et maintenance de produits électroniques | Z8: E51 - Industrialisation et réalisation : Elaboration des processus | AA8: E61 - Projet professionnel | AB8: U52 - Conduite de projet / Chantier | AC8: E42 - Conception des enveloppes | AD8: E5-Analyse et organisation d'une activité en environnement nucléaire | AE8: E5 - Projet de conception de processus graphiques | AF8: E5 - Conception d'agencement | AG8: E5 - Projet industriel de conception détaillée d’un processus et d’industrialisation | AH8: E5 - Projet industriel de conception détaillée d’un outillage et d’industrialisation | AI8: E5 - Préparation et organisation du chantier | AJ8: U5 - Intervention sur les systèmes | AK8: U5 - Intervention sur les systèmes | AL8: U5 - Intervention sur les systèmes | AM8: E5 - Projet industriel de conception et d’initialisation de processus | AN8: E5 - Projet industriel de conception et d’initialisation de processus de forge | AO8: Activités de terrain | AP8: Participer à la gestion des risques de la PME | AQ8: E6-Conception d'opérations de transport et de prestations logistiques | AR8: E6-Qualification, industrialisation, contrôle | AS8: E51 - Analyse et conception | AT8: E51 - Analyse et conception | AU8: E51 - Réalisation d’un diagnostic | AV8: E51 Maintenance corrective | AW8: E51 Maintenance corrective | AX8: E51 Maintenance corrective | AY8: E51 Maintenance corrective | AZ8: E51 - Relation client | BA8: E6-Animation et dynamisation de l'offre commerciale | BB8: E6 - Animation et dynamisation de l’offre commerciale | BC8: E51 - Etude descriptive et économique | BD8: Sciences en hôtellerie restauration (SHR) Uniquement 1ère année | BE8: Ingénierie en hôtellerie restauration (IHR) Uniquement 1ère année | BF8: Sciences en hôtellerie restauration (SHR) Uniquement 1ère année | BG8: E51 - Management des ressources humaines | BH8: E6 - Maintenance des systèmes mécatroniques | BI8: Synthèse | BJ8: U6 - Projet | BK8: E52 - Préparation, réalisation, analyse et interprétation de résultats de mesure | BL8: E42 - Conception des modèles en 2D ou 3D | BM8: E42 - Conception d'un produit par moulage | BN8: E6 - Situation en milieu professionnel | BO8: E52 - Environnement économique et juridique du projet | BP8: E52 - Environnement économique et juridique du projet | BQ8: E52 - Environnement économique et juridique du projet | BR8: E52 - Environnement économique et juridique du projet | BS8: E51-Projet technique et démarche QSE | BT8: U6 - Soutenance du projet | BU8: U6 - Soutenance du projet | BV8: U6 - Soutenance du projet | BW8: E5 - Soutenance du rapport de stage | BX8: E5 - Acquisition et traitement des données | BY8: E42 - Maintenance et expertise | BZ8: U6 - Bloc 3 Relation Client et animation de réseaux | CA8: E43-Étude technique des systèmes optiques | CB8: E5 - Technologie : sensitométrie et équipement | CC8: E51 - Pilotage de la production | CD8: U6 - Conduite et présentation d’activités professionnelles | CE8: E6 - Management et entrepreneuriat en prothèse dentaire | CF8: E6 - Projet et démarche qualité | CG8: E6-Administration des systèmes et des réseaux | CH8: E6-Administration des systèmes et des réseaux | CI8: Gestion de projet | CJ8: E42 - Analyse, dimensionnement et choix de composants | CK8: E5 - Analyse et mise en œuvre d’un système optique | CL8: E5.1 - Étude de cas, analyse agrotechnique | CM8: U5 - Élaboration d’une prestation touristique | CN8: E43 - Sciences physiques appliquées | CO8: E43 - Sciences physiques appliquées | CP8: E6 - Préparation de chantier
A9: E7 | B9: E42 - Étude de processus d'assemblage ou de maintenance d'aéronefs | C9: U61 - Vérification et validation d'une partie de projet | D9: E51 - Réalisation d'une activité professionnelle en relation avec une entreprise | E9: UF2 - Epreuve facultative engagement étudiant | F9: UF2 - Certification professionnelle | G9: E5 - Etude économique et préparation de chantier | H9: E51 - Travaux pratiques de biologie moléculaire et de génie génétique | I9: E7 - Conduite d'un dossier en droit des personnes, de la famille et du patrimoine familial | J9: Mise en œuvre des opérations internationales | K9: E7-Accompagnement du développement de solutions media et digitales innovantes | L9: E7-Situations de contrôle de gestion et d'analyse financière | M9: E61 - Conception collaborative des produits | N9: E61 - Projet collaboratif d’optimisation d’un produit et d’un processus | O9: E61 - Projet collaboratif d’optimisation d’un produit et d’un processus | P9: E51 - Conception détaillée | Q9: E52 - Industrialisation d’un sous ensemble | R9: E52 - Conception détaillée : Modélisation | S9: E52 - Conception et qualification des processus de réalisation de produits carrossés | T9: E52 - Conception détaillée d'un système automatique | U9: UF1 - Epreuve facultative LV | V9: E7 - Développement de la clientèle et de la relation-client | W9: CIRA TP | X9: EF1 - Langue vivante facultative | Y9: EF1 - Langue vivante facultative | Z9: E52 - Industrialisation et réalisation : Validation d'une phase du processus | AA9: E62 - Présentation des activités professionnelles | AB9: U61 - Conception - Étude détaillée du projet | AC9: E5 - Préparation et suivi économiques de chantier | AD9: E61-Activités professionnelles : Rapport de stage ouvrier en entreprise | AE9: E61 - Définition collaborative de produits de communication | AF9: U61 - Organisation et préparation de la réalisation | AG9: E61 - Projet collaboratif d’optimisation d’un produit ou d’un processus | AH9: E61 - Projet collaboratif d’optimisation d’un produit ou d’un outillage | AI9: E61 - Contrôle de travaux | AJ9: U61 - Conduite de projet | AK9: U61 - Conduite de projet | AL9: U61 - Conduite de projet | AM9: E61 - Projet collaboratif d’optimisation d’un produit et d’un processus | AN9: E61 - Projet collaboratif d’optimisation d’un produit et d’un processus | AO9: Langue vivante 2 (facultatif) | AP9: Gérer le personnel et participer à la GRH de la PME | AQ9: E7-Analyse de la performance d'une activité de transport et de prestations logistiques | AR9: E7-Conception des moyens de production, caractérisation | AS9: E52 - Élaboration d’un processus | AT9: E52 - Élaboration d’un processus | AU9: E52 - Organisation et réalisation d’une intervention | AV9: E52 Maintenance préventive | AW9: E52 Maintenance préventive | AX9: E52 Maintenance préventive | AY9: E52 Maintenance préventive | AZ9: E52 - Intervention sur véhicule | BA9: E7-Gestion opérationnelle | BB9: E7 - Gestion opérationnelle | BC9: E52 - Analyse et suivi financiers | BD9: Ingénierie en hôtellerie restauration (IHR) Uniquement 1ère année | BE9: Sciences et technologies des services en restauration (STSR) Uniquement 1ère année | BF9: Ingénierie en hôtellerie restauration (IHR) Uniquement 1ère année | BG9: E52 - Gestion de la relation client | BH9: EF1 - Langue vivante facultative | BI9: Formulation | BJ9: UF1 - Épreuve facultative LV | BK9: E61 - Gestion et mise en œuvre d’instruments en milieu professionnel | BL9: E43 - Industrialisation du produit | BM9: E43 - Traduction esthétique et fonctionnelle d'un produit | BN9: EF1 - Langue vivante | BO9: E6 - Situation en milieu professionnel | BP9: E6 - Situation en milieu professionnel | BQ9: E6 - Situation en milieu professionnel | BR9: E6 - Situation en milieu professionnel | BS9: E52-Organisation, management et développement de l'activité | BT9: UF1 - Épreuve facultative Langue vivante : LVE.B | BU9: UF1 - Épreuve facultative Langue vivante : LVE.B | BV9: UF1 - Épreuve facultative Langue vivante : LVE.B | BW9: EF1 - Épreuve facultative de langue vivante | BX9: E61 - Projet professionnel | BY9: E43 - Adaptation des moyens d’essais et de la motorisation | BZ9: U7 - Communication en langue vivante étrangère 2 | CA9: E5-Analyse de la vision | CB9: E61 - Rapport de stage en milieu professionnel | CC9: E52 - Analyse et gestion de la production | CD9: UF1 - Épreuve facultative LV | CE9: EF1 - Épreuve facultative de langue vivante | CF9: EF1 - Langue vivante étrangère 2 | CG9: E7-Cybersécurite des services informatiques | CH9: E7-Cybersécurite des services informatiques | CI9: Collaboration à la gestion des ressources humaines | CJ9: E51 - Conception de systèmes constructifs bois | CK9: E61 - Rapport d’activité en entreprise | CL9: E5.2 - Étude de cas, analyse juridique, économique et managériale | CM9: U6 - Gestion de l’information touristique | CN9: E44 - Sciences et techniques industrielles | CO9: E44 - Sciences et techniques industrielles | CP9: E7 - Analyse de l'encadrement d'un projet
A10: E8 | B10: E5 - Contrôle et essais | C10: U62 - Conduite de projet en milieu professionnel | D10: E52 - Présentation du rapport de stage (ou d'activités professionnelles) | F10: UF3 - Epreuve facultative engagement étudiant | G10: E61 - Suivi de chantier | H10: E52 - Travaux pratiques de biochimie des protéines | I10: E8 - Conduite d'un dossier en droit des biens dans le domaine immobilier ou de l'entreprise | J10: Développement commercial international | K10: EF1-Langue vivante étrangère 2 | L10: E8-Parcours de professionnalisation | M10: E62 - Suivi de la production en entreprise | N10: E62 - Gestion et suivi de réalisation en entreprise | O10: E62 - Gestion et suivi de réalisation en entreprise | P10: E52 - Soutenance du rapport de stage | Q10: E53 - Organisation de la production | R10: E6 - Épreuve professionnelle de synthèse : Développement industriel d'un produit microtechnique et rapport de stage en entreprise | S10: E6 - Suivi de réalisation de produits carrossés en entreprise | T10: E61 - Rapport d'activité en entreprise | U10: UF2 - Epreuve facultative engagement étudiant | V10: E8 - Mise en œuvre de l'expertise technico-commerciale | W10: Projet technique | X10: EF2 - Engagement étudiant | Y10: EF2 - Engagement étudiant | Z10: E53 - Industrialisation et réalisation : Réalisation de tout ou partie du processus | AA10: EF1 - Langue vivante | AB10: U62 - Réalisation, mise en service d'un projet | AC10: E61 - Conduite de projet en milieu professionnel | AD10: E62-Activités professionnelles : Projet technique industriel | AE10: E62 - Suivi de réalisation de produits de communication en entreprise | AF10: U62 - Suivi de la réalisation | AG10: E62 - Pilotage de la production en entreprise | AH10: E62 - Pilotage de la production en entreprise | AI10: E62 - Conduite de travaux | AJ10: U62 - Rapport d'activités en milieu professionnel | AK10: U62 - Rapport d'activités en milieu professionnel | AL10: U62 - Rapport d'activités en milieu professionnel | AM10: E62 - Étude de Moulage | AN10: E62 - Etude de forgeage | AO10: Épreuve facultative engagement étudiant | AP10: Soutenir le fonctionnement et le développement de la PME | AQ10: E8-Pérennisation et développement de l'activité de transport et de prestations logistiques | AR10: E8-Suivi et amélioration de la production | AS10: E53 - Réalisation de tout ou partie du processus | AT10: E53 - Réalisation de tout ou partie du processus | AU10: E6 - Contribution au fonctionnement d’un service | AV10: E53 Organisation de la maintenance | AW10: E53 Organisation de la maintenance | AX10: E53 Organisation de la maintenance | AY10: E53 Organisation de la maintenance | AZ10: E61 - Connaissance de l’entreprise | BA10: E8-Management de l'équipe commerciale | BB10: E8 - Management de l’équipe commerciale | BC10: E61 - Projet numérique - étude quantitative | BD10: Sciences et technologies culinaires (STC) Uniquement 1ère année | BE10: Sciences et technologies des services en hébergement (STSH) Uniquement 1ère année | BF10: Sciences et technologies culinaires (STC) Uniquement 1ère année | BG10: E6 - Participation à la sécurité globale | BH10: EF2 - Épreuve facultative engagement étudiant | BI10: EF1 - Épreuve facultative LV2 | BJ10: UF2 - Épreuve facultative engagement étudiant | BK10: E62 - Conduite de projet de mesure | BL10: E5 - Elaboration et validation économique du processus de production | BM10: E5 - Élaboration et validation économique du processus de production | BN10: EF2 - Épreuve facultative engagement étudiant | BO10: EF1 - Langue vivante | BP10: EF1 - Langue vivante | BQ10: EF1 - Langue vivante | BR10: EF1 - Langue vivante | BS10: E6-Conception des unités de traitement et des réseaux | BT10: UF2 - Épreuve facultative engagement étudiant | BU10: UF2 - Épreuve facultative engagement étudiant | BV10: UF2 - Épreuve facultative engagement étudiant | BW10: EF2 - Épreuve facultative engagement étudiant | BX10: E62 - Compte-rendu d'activités en milieu professionnel | BY10: E5 - Mise au point d’une motorisation | BZ10: UF1 - Épreuve facultative LV | CA10: E61-Examen de vue et prises de mesures et adaptation | CB10: E62 - Projet photographique | CC10: E6 - Rapport d’activités en milieu professionnel | CD10: UF2 - Épreuve facultative engagement étudiant | CE10: EF2 - Épreuve facultative engagement étudiant | CF10: EF4-Épreuve facultative engagement étudiant | CG10: EF1-Langue vivante 2 | CH10: EF1-Langue vivante 2 | CI10: Ateliers de professionnalisation et de CEJM appliquée | CJ10: E52 - Suivi de chantier | CK10: E62 - Projet technique | CL10: E6.1 - EPS Activités en milieu professionnel | CM10: UF1 - Unité facultative Communication en langue vivante étrangère : langue C | CN10: E51 - Travaux pratiques de sciences physiques appliquées | CO10: E51 - Travaux pratiques de sciences physiques appliquées | CP10: E8 - Implantation et contrôle des travaux
A11: E9 | B11: E61 - Suivi de productions en milieu professionnel | C11: UF1 - Epreuve facultative LV | D11: E53 - Mesure et/ou contrôle à caractère industriel | G11: E62 - Implantation-Essais | H11: E53 - Travaux pratiques de microbiologie et de génie fermentaire | I11: EF1 - Épreuve facultative LV2 | J11: EF1 - Langue vivante étrangère 3 | K11: EF2-Engagement étudiant | L11: EF1-Langue vivante étrangère B | M11: EF1 - Langue vivante facultative | N11: EF1 - Langue vivante facultative | O11: EF1 - Langue vivante facultative | P11: E61 - Projet de prototypage | Q11: E61 - Etude et réalisation d’un projet | R11: EF - Epreuve facultative engagement étudiant | S11: EF1 - Épreuve facultative de langue vivante | T11: E62 - Conduite et réalisation d'un projet | V11: EF1 - Langue vivante | W11: Épreuve facultative engagement étudiant | Z11: E6 - Etude de cas en milieu industriel | AA11: EF2 - Épreuve facultative engagement étudiant | AB11: UF1 - Langue vivante facultative | AC11: E62 - Implantation et contrôles | AD11: EF1-Langue vivante | AE11: EF1 - Langue vivante facultative | AF11: UF1 - Épreuve facultative LV2 | AG11: EF1 - Langue vivante facultative | AH11: EF1 - Langue vivante facultative | AI11: EF1 - Épreuve facultative de langue vivante | AJ11: UF1 - Épreuve facultative LV | AK11: UF1 - Épreuve facultative LV | AL11: UF1 - Épreuve facultative LV | AM11: E63 - Gestion et suivi de réalisation en entreprise | AN11: E63 - Gestion et suivi de réalisation en entreprise | AP11: Communication | AQ11: EF1-Épreuve facultative langue vivante | AR11: EF1 - Épreuve facultative engagement étudiant | AS11: E6 - Étude de cas en milieu industriel | AT11: E6 - Étude de cas en milieu industriel | AU11: EF1 - Langue vivante facultative | AV11: E6 Maintenance améliorative | AW11: E6 Maintenance améliorative | AX11: E6 Maintenance améliorative | AY11: E6 Maintenance améliorative | AZ11: E62 - Mesures et analyse | BA11: EF1-Communication en Langue vivante étrangère 2 | BB11: EF1 - Communication en Langue vivante étrangère 2 | BC11: E62 - Compte-rendu d'activités en milieu professionnel | BD11: Sciences et technologies des services en hébergement (STSH) Uniquement 1ère année | BE11: Sciences en hôtellerie restauration (SHR) 1ère et 2ème Année | BF11: Sciences et technologies des services en restauration (STSR) Uniquement 1ère année | BG11: EF1 - Langue vivante | BI11: EF2 - Épreuve facultative engagement étudiant | BK11: EF1 - Langue vivante facultative | BL11: E6 - Etude de cas en milieu professionnel | BM11: E6 - Étude de cas en milieu professionnel | BO11: EF2 - Épreuve facultative engagement étudiant | BP11: EF2 - Épreuve facultative engagement étudiant | BQ11: EF2 - Épreuve facultative engagement étudiant | BR11: EF2 - Épreuve facultative engagement étudiant | BS11: EF1-Langue vivante étrangère 2 | BX11: UF1 - Épreuve facultative LV | BY11: E6 - Exploitation des résultats d’essai | BZ11: UF2 - Épreuve facultative engagement étudiant | CA11: E62-Contrôle d'équipement et réalisation technique | CB11: EF1 - Épreuve facultative LV | CC11: EF1 - Langue vivante 2 facultative | CG11: EF2-Mathématiques approfondies | CH11: EF2-Mathématiques approfondies | CI11: Langue vivante étrangère C (facultatif) | CJ11: E6 - Expérimentation et mise en œuvre | CK11: EF1 - Langue vivante II | CL11: E6.2 - EPS Projet | CM11: UF2 - Unité facultative Parcours de professionnalisation à l’étranger | CN11: E52 - Travaux pratiques de sciences et techniques industrielles | CO11: E52 - Travaux pratiques de sciences et techniques industrielles | CP11: EF1 - Épreuve facultative LV2
A12: E10 | B12: E62 - Maintien de navigabilité et documentation technique réalisés en entreprise | C12: UF2 - Epreuve facultative engagement étudiant | D12: EF1 - Langue vivante étrangère 2 | G12: UF1 - Epreuve facultative LV | H12: E54 - Travaux pratiques de biologie cellulaire | I12: EF2 - Épreuve facultative engagement étudiant | J12: EF2 - Préparation et suivi de césure | K12: EF3-Entrepreneuriat | L12: EF2-Module d'approfondissement | M12: EF2 - Épreuve facultative engagement étudiant | N12: EF2 - Épreuve facultative engagement étudiant | O12: EF2 - Épreuve facultative engagement étudiant | P12: E62 - Projet collaboratif d'optimisation | Q12: E62 - Communication sur les activités réalisées en milieu professionnel | S12: EF2 - Épreuve facultative engagement étudiant | T12: UF1 - Epreuve facultative LV | V12: EF2 - Module d'approfondissement | Z12: EF1 - Langue vivante | AB12: UF2 - Engagement étudiant | AC12: UF1 - Epreuve facultative LV | AD12: EF2-Engagement étudiant | AE12: EF2 - Design Graphique | AF12: UF2 - Épreuve facultative engagement étudiant | AG12: EF2 - Activité en milieu professionnel européen « label Europlastics » | AH12: EF2 - Activité en milieu professionnel européen « label Europlastics » | AI12: EF2 - Épreuve facultative engagement étudiant | AJ12: UF2 - Épreuve facultative engagement étudiant | AK12: UF2 - Épreuve facultative engagement étudiant | AL12: UF2 - Épreuve facultative engagement étudiant | AM12: EF1 - Langue vivante facultative | AN12: EF1 - Langue vivante facultative | AP12: Atelier de professionnalisation | AQ12: EF2-Module d'approfondissement | AR12: EF2 - Épreuve facultative LV2 | AS12: EF1 - Langue vivante 2 facultative | AT12: EF1 - Langue vivante 2 facultative | AU12: EF2 - Épreuve facultative engagement étudiant | AV12: EF1 Épreuve facultative langue vivante | AW12: EF1 Épreuve facultative langue vivante | AX12: EF1 Épreuve facultative langue vivante | AY12: EF1 Épreuve facultative langue vivante | AZ12: EF1 - Langue vivante facultative | BA12: EF2-Parcours de professionnalisation à l'étranger | BB12: EF2 - Parcours de professionnalisation à l’étranger | BC12: EF1 - Épreuve facultative LV | BD12: Sciences et technologies des services en restauration (STSR) 1ère et 2ème Année | BE12: Sciences et technologies culinaires (STC) 1ère et 2ème Année | BF12: Sciences et technologies des services en hébergement (STSH): 1ère et 2ème Année | BG12: EF2 - Module « Surveillance humaine et gardiennage » | BK12: EF2 - Épreuve facultative engagement étudiant | BL12: EF1 - Épreuve facultative LV2 | BM12: EF1 - Épreuve facultative LV2 | BS12: EF2 - Engagement étudiant | BX12: UF2 - Épreuve facultative engagement étudiant | BY12: EF1 - Langue vivante facultative | CA12: E63-Activités en milieu professionnel | CB12: EF2 - Épreuve facultative engagement étudiant | CC12: EF2 - Épreuve facultative engagement étudiant | CG12: EF3-Parcours de certification complémentaire | CH12: EF3-Parcours de certification complémentaire | CI12: Module de parcours individualisé (facultatif) | CJ12: EF1 - Langue vivante facultative | CK12: EF2 - Épreuve facultative engagement étudiant | CL12: EF1 - Épreuve facultative de langue étrangère | CM12: UF3 - Unité facultative Projet de spécialisation | CN12: E61- Réalisation d'un projet | CO12: E61- Réalisation d'un projet | CP12: EF2 - Épreuve facultative engagement étudiant
A13: E11 | B13: EF1 - Épreuve facultative de langue étrangère | D13: EF2 - Épreuve facultative engagement étudiant | G13: UF2 - Epreuve facultative engagement étudiant | H13: E6 - Appréciations de stage | J13: EF3 - Engagement étudiant | L13: EF3-Engagement étudiant | P13: UF1 - Epreuve facultative LV | Q13: EF1 - Épreuve facultative de langue vivante | T13: UF2 - Epreuve facultative engagement étudiant | V13: EF3 - Engagement étudiant | Z13: EF2 - Engagement étudiant | AC13: UF2 - Épreuve facultative engagement étudiant | AE13: EF3 - Épreuve facultative engagement étudiant | AG13: EF3 - Épreuve facultative engagement étudiant | AH13: EF3 - Épreuve facultative engagement étudiant | AM13: EF2 - Épreuve facultative engagement étudiant | AN13: EF2 - Épreuve facultative engagement étudiant | AP13: Langue vivante étrangère (facultatif) | AQ13: EF3-Épreuve facultative engagement étudiant | AS13: EF2 - Arts appliqués au textile | AT13: EF2 - Arts appliqués au textile | AV13: EF2 Épreuve facultative engagement étudiant | AW13: EF2 Épreuve facultative engagement étudiant | AX13: EF2 Épreuve facultative engagement étudiant | AY13: EF2 Épreuve facultative engagement étudiant | AZ13: EF2 - Épreuve facultative engagement étudiant | BA13: EF3-Entrepreneuriat | BB13: EF3 - Entrepreneuriat | BC13: EF2 - Épreuve facultative engagement étudiant | BD13: Enseignements spécifiques: Sommellerie et tech. de bar Uniquement 2ème Année | BE13: Conduite du projet entrepreneurial Uniquement 2ème Année | BF13: Enseignements spécifiques: Anglais et hébergement Uniquement 2ème Année | BG13: EF3 - Module d’approfondissement sectoriel | BL13: EF2 - Épreuve facultative engagement étudiant | BM13: EF2 - Épreuve facultative engagement étudiant | BY13: EF2 - Épreuve facultative engagement étudiant | CA13: EF1 - Épreuve facultative LV2 | CG13: EF4-Épreuve facultative engagement étudiant | CH13: EF4-Épreuve facultative engagement étudiant | CI13: Épreuve facultative engagement étudiant | CJ13: EF2 - Culture design et architecture | CL13: EF2 - Épreuve facultative engagement étudiant | CM13: UF4 - Épreuve facultative engagement étudiant | CN13: E62 - Rapport de stage en milieu professionnel | CO13: E62 - Rapport de stage en milieu professionnel
A14: E12 | B14: EF2 - Épreuve facultative engagement étudiant | H14: E6 - Anglais | P14: UF2 - Culture design de produit | Q14: EF2 - Module d’approfondissement | AP14: Épreuve facultative engagement étudiant | AS14: EF3 - Épreuve facultative engagement étudiant | AT14: EF3 - Épreuve facultative engagement étudiant | BA14: EF4-Engagement étudiant | BB14: EF4 - Épreuve facultative engagement étudiant | BD14: Conduite du projet entrepreneurial Uniquement 2ème Année | BE14: Enseignement facultatif : Langue vivante C | BF14: Conduite du projet entrepreneurial Uniquement 2ème Année | BG14: EF4 - Épreuve facultative engagement étudiant | CA14: EF2 - Épreuve facultative engagement étudiant | CJ14: EF3 - Épreuve facultative engagement étudiant | CN14: EF - Épreuve facultative engagement étudiant | CO14: EF - Épreuve facultative engagement étudiant
A15: E13 | H15: E6 - Expression - communication | P15: UF3 - Epreuve facultative engagement étudiant | Q15: EF3 - Épreuve facultative engagement étudiant | BD15: Enseignement facultatif : Langue Vivante C | BE15: Epreuve facultative: engagement étudiant | BF15: Enseignement facultatif : Langue vivante C
A16: E14 | H16: Projet pluritechnique encadré (1ère année) | BD16: Epreuve facultative: engagement étudiant | BF16: Epreuve facultative engagement étudiant
C17: changement de numérotation en 2026 | O17: changement de numérotation en 2026 | V17: changement de numérotation en 2027 | Y17: changement de numérotation en 2027 | AY17: changement de numérotation en 2027
A21: Très Favorable
A22: Favorable
A23: Doit Faire ses Preuves
A26: masquage
A27: code
A28: Livrets

Sheet 1. Informations administratives
A1: SAISIE ADMINISTRATIVE À REALISER AVANT LE CONSEIL DE CLASSE Toutes les cases vertes sont à remplir, en plus de la liste des étudiants.
A3: Examen : | C3: BTS | J3: voie de formation : | L3: Initiale | S3: =TODAY() -> 45635
A4: Sélectionner la spécialité dans le menu déroulant ci-joint : | C4: Tourisme | J4: session d'examen : | L4: 2025 | S4: =HLOOKUP(C4,'BTS ET EPREUVES'!B1:DK3,2,FALSE) -> BTS190
J5: Etablissement ou organisme de formation : | S5: =(L4-2)&" / "&(L4-1) -> 2023 / 2024 | T5: =(L4-1)&" / "&L4 -> 2024 / 2025
J6: RNE
B7: NOM | C7: Prénom | D7: date de naissance JJ/MM/AAAA | E7: Lieu de naissance | F7: n° INSEE (15 chiffres) | G7: INE | H7: Langue vivante | K7: Données en rouge à compléter avec les statistiques des années précèdentes avant le conseil de classe | S7: test INSEE
A8: C01 | K8: Résultats des sessions précédentes | S8: =IF(LEN(F8)<>15,0,1) -> 0 | AA8: OUI
A9: C02 | K9: Session | L9: nbr de candidats présentés | M9: nbr de candidats reçus | N9: % | S9: =IF(LEN(F9)<>15,0,1) -> 0 | AA9: NON
A10: C03 | S10: =IF(LEN(F10)<>15,0,1) -> 0
A11: C04 | J11: année a-1 | K11: =L4-1 -> 2024 | N11: =IFERROR(M11/L11,"") | S11: =IF(LEN(F11)<>15,0,1) -> 0
A12: C05 | J12: année a-2 | K12: =K11-1 -> 2023 | N12: =IFERROR(M12/L12,"") | S12: =IF(LEN(F12)<>15,0,1) -> 0
A13: C06 | J13: année a-3 | K13: =K12-1 -> 2022 | N13: =IFERROR(M13/L13,"") | S13: =IF(LEN(F13)<>15,0,1) -> 0
A14: C07 | J14: année a-4 | K14: =K13-1 -> 2021 | N14: =IFERROR(M14/L14,"") | S14: =IF(LEN(F14)<>15,0,1) -> 0
A15: C08 | J15: année a-5 | K15: =K14-1 -> 2020 | N15: =IFERROR(M15/L15,"") | S15: =IF(LEN(F15)<>15,0,1) -> 0
A16: C09 | S16: =IF(LEN(F16)<>15,0,1) -> 0
A17: C10 | S17: =IF(LEN(F17)<>15,0,1) -> 0
A18: C11 | S18: =IF(LEN(F18)<>15,0,1) -> 0
A19: C12 | S19: =IF(LEN(F19)<>15,0,1) -> 0
A20: C13 | S20: =IF(LEN(F20)<>15,0,1) -> 0
A21: C14 | S21: =IF(LEN(F21)<>15,0,1) -> 0
A22: C15 | S22: =IF(LEN(F22)<>15,0,1) -> 0
A23: C16 | S23: =IF(LEN(F23)<>15,0,1) -> 0
A24: C17 | S24: =IF(LEN(F24)<>15,0,1) -> 0
A25: C18 | S25: =IF(LEN(F25)<>15,0,1) -> 0
A26: C19 | S26: =IF(LEN(F26)<>15,0,1) -> 0
A27: C20 | S27: =IF(LEN(F27)<>15,0,1) -> 0
... A47: C40 | S47: =IF(LEN(F47)<>15,0,1) -> 0

Sheet 2. Saisie des notes
A1: Saisir les notes et appréciations de 1ère et 2ème année par matière | D1: Avis du dernier conseil de classe | G1: Enseignant : | P1: Enseignant : | Y1: Enseignant : | AH1: Enseignant : | AQ1: Enseignant : | AZ1: Enseignant : | BI1: Enseignant : | BR1: Enseignant : | CA1: Enseignant : | CJ1: Enseignant : | CS1: Enseignant : | DB1: Enseignant : | DK1: Enseignant : | DT1: Enseignant : | EF1: ne pas modifier ces cellules
G2: =INDEX('BTS ET EPREUVES'!$A$1:$DK$21,MATCH(G3,'BTS ET EPREUVES'!$A$1:$A$21,0),MATCH('1. Informations administratives'!$S$4,'BTS ET EPREUVES'!$A$2:$DK$2,0)) -> U1 - Culture générale et expression | P2: =INDEX('BTS ET EPREUVES'!$A$1:$DK$21,MATCH(P3,'BTS ET EPREUVES'!$A$1:$A$21,0),MATCH('1. Informations administratives'!$S$4,'BTS ET EPREUVES'!$A$2:$DK$2,0)) -> U21 - Communication en langue vivante étrangère : anglais | Y2: =INDEX('BTS ET EPREUVES'!$A$1:$DK$21,MATCH(Y3,'BTS ET EPREUVES'!$A$1:$A$21,0),MATCH('1. Informations administratives'!$S$4,'BTS ET EPREUVES'!$A$2:$DK$2,0)) -> U22 - Communication en langue vivante étrangère : langue B | AH2: =INDEX('BTS ET EPREUVES'!$A$1:$DK$21,MATCH(AH3,'BTS ET EPREUVES'!$A$1:$A$21,0),MATCH('1. Informations administratives'!$S$4,'BTS ET EPREUVES'!$A$2:$DK$2,0)) -> U3 - Tourisme et territoires | AQ2: =INDEX('BTS ET EPREUVES'!$A$1:$DK$21,MATCH(AQ3,'BTS ET EPREUVES'!$A$1:$A$21,0),MATCH('1. Informations administratives'!$S$4,'BTS ET EPREUVES'!$A$2:$DK$2,0)) -> U4 - Gestion de la relation clientèle touristique | AZ2: =INDEX('BTS ET EPREUVES'!$A$1:$DK$21,MATCH(AZ3,'BTS ET EPREUVES'!$A$1:$A$21,0),MATCH('1. Informations administratives'!$S$4,'BTS ET EPREUVES'!$A$2:$DK$2,0)) -> U5 - Élaboration d’une prestation touristique | BI2: =INDEX('BTS ET EPREUVES'!$A$1:$DK$21,MATCH(BI3,'BTS ET EPREUVES'!$A$1:$A$21,0),MATCH('1. Informations administratives'!$S$4,'BTS ET EPREUVES'!$A$2:$DK$2,0)) -> U6 - Gestion de l’information touristique | BR2: =INDEX('BTS ET EPREUVES'!$A$1:$DK$21,MATCH(BR3,'BTS ET EPREUVES'!$A$1:$A$21,0),MATCH('1. Informations administratives'!$S$4,'BTS ET EPREUVES'!$A$2:$DK$2,0)) -> UF1 - Unité facultative Communication en langue vivante étrangère : langue C | CA2: =INDEX('BTS ET EPREUVES'!$A$1:$DK$21,MATCH(CA3,'BTS ET EPREUVES'!$A$1:$A$21,0),MATCH('1. Informations administratives'!$S$4,'BTS ET EPREUVES'!$A$2:$DK$2,0)) -> UF2 - Unité facultative Parcours de professionnalisation à l’étranger | CJ2: =INDEX('BTS ET EPREUVES'!$A$1:$DK$21,MATCH(CJ3,'BTS ET EPREUVES'!$A$1:$A$21,0),MATCH('1. Informations administratives'!$S$4,'BTS ET EPREUVES'!$A$2:$DK$2,0)) -> UF3 - Unité facultative Projet de spécialisation | CS2: =INDEX('BTS ET EPREUVES'!$A$1:$DK$21,MATCH(CS3,'BTS ET EPREUVES'!$A$1:$A$21,0),MATCH('1. Informations administratives'!$S$4,'BTS ET EPREUVES'!$A$2:$DK$2,0)) -> UF4 - Épreuve facultative engagement étudiant | DB2: =INDEX('BTS ET EPREUVES'!$A$1:$DK$21,MATCH(DB3,'BTS ET EPREUVES'!$A$1:$A$21,0),MATCH('1. Informations administratives'!$S$4,'BTS ET EPREUVES'!$A$2:$DK$2,0)) -> 0 | DK2: =INDEX('BTS ET EPREUVES'!$A$1:$DK$21,MATCH(DK3,'BTS ET EPREUVES'!$A$1:$A$21,0),MATCH('1. Informations administratives'!$S$4,'BTS ET EPREUVES'!$A$2:$DK$2,0)) -> 0 | DT2: =INDEX('BTS ET EPREUVES'!$A$1:$DK$21,MATCH(DT3,'BTS ET EPREUVES'!$A$1:$A$21,0),MATCH('1. Informations administratives'!$S$4,'BTS ET EPREUVES'!$A$2:$DK$2,0)) -> 0
D3: CC1 | E3: CC2 | F3: PIX | G3: E1 | P3: E2 | Y3: E3 | AH3: E4 | AQ3: E5 | AZ3: E6 | BI3: E7 | BR3: E8 | CA3: E9 | CJ3: E10 | CS3: E11 | DB3: E12 | DK3: E13 | DT3: E14
